Workbook

Sheet LYTUTRONG KHOA 2018(3881)
A1: Tên đơn vị: TRƯỜNG CAO ĐẲNG LÝ TỰ TRỌNG THÀNH PHỐ HỒ CHÍ MINH
A2: Mã đơn vị: BD0240Z
A3: Địa chỉ: 390 Hoàng Văn Thụ,Phường 4,Quận Tân Bình, Thành Phố Hồ Chí Minh
A4: DANH SÁCH NGƯỜI CHỈ THAM GIA BẢO HIỂM Y TẾ
A5: Số : 3 tháng 12 năm 2018
D7: Đối tượng tham gia | I7: Lương cơ sở: ……………… đồng
A10: STT | C10: Mã số BHXH | D10: Họ và tên(FILE GỬI NGỌC TUYẾT) | F10: Mã số BHXH | G10: Ngày tháng năm sinh | H10: Giới tính | I10: Nơi đăng ký KCB ban đầu | J10: Biên lai, ngày tham gia | L10: Tiền lương, trợ cấp hoặc số tiền đóng | M10: Tỷ lệ NS hỗ trợ (%) | N10: Thời hạn sử dụng thẻ | P10: Ghi chú
J11: Số | K11: Ngày | N11: Số tháng | O11: Từ ngày | P11: Địa chỉ | R11: Số CMND | S11: Mã PB | T11: mã tỉnh KS | V11: mã huyện KS | X11: mã xã KS
A12: A | C12: 1 | D12: B | F12: 1 | G12: 2 | H12: 3 | I12: 4 | J12: 5 | K12: 6 | L12: 7 | M12: 8 | N12: 9 | O12: 10 | P12: 11 | R12: 12 | S12: 13 | T12: 14 | V12: 15 | X12: 16
A13: 1 | B13: 1 | C13: 3422094591 | D13: Nguyễn Văn Hóa | E13: =VLOOKUP(C13,'ĐỢT 2 (3881))'!$B$14:$C$3894,2,0) -> Nguyễn Văn Hóa | F13: 3422094591 | G13: 05/09/1999 | H13: Nam | I13: 029 | N13: 12 | O13: 01/01/2019-31/12/2019 | P13: Thôn An Phú , Xã Quỳnh Hải , Huyện Quỳnh Phụ , Tỉnh Thái Bình | R13: 152249065 | S13: 18005772,15TC-Đ | T13: 34 | V13: 338 | X13: 12520
A14: 2 | B14: 2 | C14: 7934015748 | D14: Tăng Thành Đạt | E14: =VLOOKUP(C14,'ĐỢT 2 (3881))'!$B$14:$C$3894,2,0) -> Tăng Thành Đạt | F14: 7934015748 | G14: 25/01/2000 | H14: Nam | I14: 033 | N14: 12 | O14: 01/01/2019-31/12/2019 | P14: 457/8 KP2, Đường Bình Thành , Phường Bình Hưng Hòa B , Quận Bình Tân , Thành phố Hồ Chí Minh | R14: 026066261 | S14: 18005748,15TCN-Đ | T14: 79 | V14: 777 | X14: 27442
A15: 3 | B15: 3 | C15: 7422932339 | D15: Nguyễn Thị Tuyết Nhi | E15: =VLOOKUP(C15,'ĐỢT 2 (3881))'!$B$14:$C$3894,2,0) -> Nguyễn Thị Tuyết Nhi | F15: 7422932339 | G15: 07/11/2000 | H15: Nữ | I15: 025 | N15: 12 | O15: 01/01/2019-31/12/2019 | P15: Ấp 2A Phước Hòa , Xã Phước Hòa , Huyện Phú Giáo , Tỉnh Bình Dương | S15: 18005753,15TCN-MTT | T15: 74 | V15: 722 | X15: 25885
A16: 4 | B16: 4 | C16: 7722610544 | D16: Nguyễn Minh Thái | E16: =VLOOKUP(C16,'ĐỢT 2 (3881))'!$B$14:$C$3894,2,0) -> Nguyễn Minh Thái | F16: 7722610544 | G16: 18/01/1996 | H16: Nam | I16: 031 | N16: 12 | O16: 01/01/2019-31/12/2019 | P16: 324/216 Bình Giã , Phường 8 , Thành phố Vũng Tàu , Tỉnh Bà Rịa - Vũng Tàu | R16: 273554552 | S16: 18005762,15TCN-Ô1 | T16: 77 | V16: 747 | X16: 26527
A17: 6 | B17: 5 | C17: 5121599909 | D17: Trần Mai Anh Khoa | E17: =VLOOKUP(C17,'ĐỢT 2 (3881))'!$B$14:$C$3894,2,0) -> Trần Mai Anh Khoa | F17: 5121599909 | G17: 22/08/1998 | H17: Nam | I17: 033 | N17: 12 | O17: 01/01/2019-31/12/2019 | P17: Đội 10-Thôn Phú Châu , Xã Hành Đức , Huyện Nghĩa Hành , Tỉnh Quảng Ngãi | R17: 212460278 | S17: 16001948,16CĐ-CĐ1 | T17: 51 | V17: 532 | X17: 21379
A18: 7 | B18: 6 | C18: 7526634650 | D18: Nguyễn Hoàng Phúc | E18: =VLOOKUP(C18,'ĐỢT 2 (3881))'!$B$14:$C$3894,2,0) -> Nguyễn Hoàng Phúc | F18: 7526634650 | G18: 08/08/1998 | H18: Nam | I18: 033 | N18: 12 | O18: 01/01/2019-31/12/2019 | P18: Tâm Bình , Xã Bình Minh , Huyện Trảng Bom , Tỉnh Đồng Nai | R18: 272636857 | S18: 16002329,16CĐ-CĐ1 | T18: 75 | V18: 737 | X18: 26278
A19: 8 | B19: 7 | C19: 7934884731 | D19: Cao Minh Trí | E19: =VLOOKUP(C19,'ĐỢT 2 (3881))'!$B$14:$C$3894,2,0) -> Cao Minh Trí | F19: 7934884731 | G19: 30/07/1998 | H19: Nam | I19: 040 | N19: 12 | O19: 01/01/2019-31/12/2019 | P19: 656 Quốc lộ 22 Ấp Phước Hưng , Xã Phước Thạnh , Huyện Củ Chi , Thành phố Hồ Chí Minh | R19: 025802773 | S19: 16002358,16CĐ-CĐ1 | T19: 79 | V19: 783 | X19: 27526
A20: 9 | B20: 8 | C20: 7935545512 | D20: Lê Trọng Nhân | E20: =VLOOKUP(C20,'ĐỢT 2 (3881))'!$B$14:$C$3894,2,0) -> Lê Trọng Nhân | F20: 7935545512 | G20: 06/01/1998 | H20: Nam | I20: 033 | N20: 12 | O20: 01/01/2019-31/12/2019 | P20: 56/3 Ấp Tiền Lân 1 , Xã Bà Điểm , Huyện Hóc Môn , Thành phố Hồ Chí Minh | R20: 025766955 | S20: 16002376,16CĐ-CĐ1 | T20: 79 | V20: 784 | X20: 27592
A21: 10 | B21: 9 | C21: 5220050901 | D21: Trương Văn Hoàng | E21: =VLOOKUP(C21,'ĐỢT 2 (3881))'!$B$14:$C$3894,2,0) -> Trương Văn Hoàng | F21: 5220050901 | G21: 08/07/1998 | H21: Nam | I21: 031 | N21: 12 | O21: 01/01/2019-31/12/2019 | P21: Thành phố Qui Nhơn , Phường Nguyễn Văn Cừ , Thành phố Quy Nhơn , Tỉnh Bình Định | R21: 215447475 | S21: 16002422,16CĐ-CĐ1 | T21: 52 | V21: 540 | X21: 21592
A22: 11 | B22: 10 | C22: 5421055359 | D22: Lê Hữu Nghĩa | E22: =VLOOKUP(C22,'ĐỢT 2 (3881))'!$B$14:$C$3894,2,0) -> Lê Hữu Nghĩa | F22: 5421055359 | G22: 20/01/1995 | H22: Nam | I22: 017 | N22: 12 | O22: 01/01/2019-31/12/2019 | P22: Thôn Bàn Thạch , Xã Hòa Xuân Đông , Huyện Đông Hòa , Tỉnh Phú Yên | R22: 221398947 | S22: 16002442,16CĐ-CĐ1 | T22: 54 | V22: 564 | X22: 22291
A23: 12 | B23: 11 | C23: 7938153525 | D23: Nguyễn Hùng Lân | E23: =VLOOKUP(C23,'ĐỢT 2 (3881))'!$B$14:$C$3894,2,0) -> Nguyễn Hùng Lân | F23: 7938153525 | G23: 12/02/1998 | H23: Nam | I23: 033 | N23: 12 | O23: 01/01/2019-31/12/2019 | P23: 2562 Phạm Thế Hiển , Phường 07 , Quận 8 , Thành phố Hồ Chí Minh | R23: 251115413 | S23: 16002502,16CĐ-CĐ1 | T23: 79 | V23: 776 | X23: 27433
A24: 13 | B24: 12 | C24: 3321498463 | D24: Phạm Ngọc Hiệp | E24: =VLOOKUP(C24,'ĐỢT 2 (3881))'!$B$14:$C$3894,2,0) -> Phạm Ngọc Hiệp | F24: 3321498463 | G24: 18/12/1996 | H24: Nam | I24: 034 | N24: 12 | O24: 01/01/2019-31/12/2019 | P24: Chính Nghĩa , Xã Chính Nghĩa , Huyện Kim Động , Tỉnh Hưng Yên | R24: 145761782 | S24: 16002534,16CĐ-CĐ1 | T24: 33 | V24: 331 | X24: 12304
A25: 14 | B25: 13 | C25: 6624223479 | D25: Võ Hoàng Phát | E25: =VLOOKUP(C25,'ĐỢT 2 (3881))'!$B$14:$C$3894,2,0) -> Võ Hoàng Phát | F25: 6624223479 | G25: 21/02/1998 | H25: Nam | I25: 033 | N25: 12 | O25: 01/01/2019-31/12/2019 | P25: Khối 3 TT Eakar Nốp , Thị trấn Ea Kar , Huyện Ea Kar , Tỉnh Đắk Lắk | R25: 241716665 | S25: 16003355,16CĐ-CĐ1 | T25: 66 | V25: 651 | X25: 24373
A26: 15 | B26: 14 | C26: 8222683277 | D26: Nguyễn Hoàng Khải Hưng | E26: =VLOOKUP(C26,'ĐỢT 2 (3881))'!$B$14:$C$3894,2,0) -> Nguyễn Hoàng Khải Hưng | F26: 8222683277 | G26: 27/07/1998 | H26: Nam | I26: 054 | N26: 12 | O26: 01/01/2019-31/12/2019 | P26: 396 Tân An , Xã Tân Phong , Huyện Cai Lậy , Tỉnh Tiền Giang | R26: 312370292 | S26: 16003476,16CĐ-CĐ1 | T26: 82 | V26: 820 | X26: 28510
A27: 16 | B27: 15 | C27: 5820579468 | D27: Nguyễn Văn Xã | E27: =VLOOKUP(C27,'ĐỢT 2 (3881))'!$B$14:$C$3894,2,0) -> Nguyễn Văn Xã | F27: 5820579468 | G27: 06/04/1998 | H27: Nam | I27: 033 | N27: 12 | O27: 01/01/2019-31/12/2019 | P27: Lạc nghiệp 1 , Xã Cà Ná , Huyện Thuận Nam , Tỉnh Ninh Thuận | R27: 264512913 | S27: 16003877,16CĐ-CĐ1 | T27: 58 | V27: 589 | X27: 22910
... A33: 22 | B33: 21 | C33: 7934899107 | D33: Phan Hoài Phương | E33: =VLOOKUP(C33,'ĐỢT 2 (3881))'!$B$14:$C$3894,2,0) -> Phan Hoài Phương | F33: 7934899107 | G33: 13/11/1998 | H33: Nam | I33: 033 | N33: 12 | O33: 01/01/2019-31/12/2019 | P33: 780/5A Ấp Phú Mỹ , Xã Phú Hòa Đông , Huyện Củ Chi , Thành phố Hồ Chí Minh | R33: 025759046 | S33: 16002579,16CĐ-CĐT1 | T33: 79 | V33: 783 | X33: 27517
A34: 23 | B34: 22 | C34: 5620940968 | D34: Đinh Huy Hoàng | E34: =VLOOKUP(C34,'ĐỢT 2 (3881))'!$B$14:$C$3894,2,0) -> Đinh Huy Hoàng | F34: 5620940968 | G34: 18/10/1998 | H34: Nam | I34: 033 | N34: 12 | O34: 01/01/2019-31/12/2019 | P34: Ninh Sim , Xã Ninh Sim , Thị xã Ninh Hòa , Tỉnh Khánh Hòa | S34: 16002583,16CĐ-CĐT1 | T34: 56 | V34: 572 | X34: 22552
A35: 24 | B35: 23 | C35: 8022903862 | D35: Đỗ Ngọc Tùng | E35: =VLOOKUP(C35,'ĐỢT 2 (3881))'!$B$14:$C$3894,2,0) -> Đỗ Ngọc Tùng | F35: 8022903862 | G35: 09/02/1998 | H35: Nam | I35: 025 | N35: 12 | O35: 01/01/2019-31/12/2019 | P35: tổ 12, ấp Tây , Xã Đông Thạnh , Huyện Cần Giuộc , Tỉnh Long An | R35: 301662577 | S35: 16003823,16CĐ-CĐT1 | T35: 80 | V35: 807 | X35: 28204
A36: 25 | B36: 24 | C36: 7938153529 | D36: Tô Thành Luận | E36: =VLOOKUP(C36,'ĐỢT 2 (3881))'!$B$14:$C$3894,2,0) -> Tô Thành Luận | F36: 7938153529 | G36: 19/05/1998 | H36: Nam | I36: 483 | N36: 12 | O36: 01/01/2019-31/12/2019 | P36: B123/bis Nguyễn Văn Quá , Phường Đông Hưng Thuận , Quận 12 , Thành phố Hồ Chí Minh | R36: 025736724 | S36: 16000869,16CĐ-CNC1 | T36: 79 | V36: 761 | X36: 26788
A37: 26 | B37: 25 | C37: 7932472119 | D37: Diệp Chí Vĩ | E37: =VLOOKUP(C37,'ĐỢT 2 (3881))'!$B$14:$C$3894,2,0) -> Diệp Chí Vĩ | F37: 7932472119 | G37: 13/09/1996 | H37: Nam | I37: 033 | N37: 12 | O37: 01/01/2019-31/12/2019 | P37: 412/5 Nguyễn Chí Thanh , Phường 06 , Quận 10 , Thành phố Hồ Chí Minh | R37: 025333072 | S37: 16000995,16CĐ-CNC1 | T37: 79 | V37: 771 | X37: 27202
A38: 27 | B38: 26 | C38: 7938153528 | D38: Nguyễn Quý Thanh Hoài | E38: =VLOOKUP(C38,'ĐỢT 2 (3881))'!$B$14:$C$3894,2,0) -> Nguyễn Quý Thanh Hoài | F38: 7938153528 | G38: 17/01/1998 | H38: Nam | I38: 033 | N38: 12 | O38: 01/01/2019-31/12/2019 | P38: 58/2 Lương Thế Vinh , Phường Tân Thới Hòa , Quận Tân Phú , Thành phố Hồ Chí Minh | R38: 025702735 | S38: 16001000,16CĐ-CNC1 | T38: 79 | V38: 767 | X38: 27040
A39: 28 | B39: 27 | C39: 7020999892 | D39: Lương Tấn Lộc | E39: =VLOOKUP(C39,'ĐỢT 2 (3881))'!$B$14:$C$3894,2,0) -> Lương Tấn Lộc | F39: 7020999892 | G39: 17/02/1998 | H39: Nam | I39: 033 | N39: 12 | O39: 01/01/2019-31/12/2019 | P39: Ấp 7 , Xã Tiến Hưng , Thành Phố Đồng Xoài , Tỉnh Bình Phước | R39: 285740256 | S39: 16001386,16CĐ-CNC1 | T39: 70 | V39: 689 | X39: 25213
A40: 29 | B40: 28 | C40: 7931422040 | D40: Phạm Đan Hào | E40: =VLOOKUP(C40,'ĐỢT 2 (3881))'!$B$14:$C$3894,2,0) -> Phạm Đan Hào | F40: 7931422040 | G40: 21/04/1995 | H40: Nam | I40: 033 | N40: 12 | O40: 01/01/2019-31/12/2019 | P40: 159 Lê Thiệt , Phường Phú Thọ Hòa , Quận Tân Phú , Thành phố Hồ Chí Minh | R40: 025649436 | S40: 16002144,16CĐ-CNC1 | T40: 79 | V40: 767 | X40: 27025
A41: 30 | B41: 29 | C41: 7938079462 | D41: Nguyễn Quốc Bảo | E41: =VLOOKUP(C41,'ĐỢT 2 (3881))'!$B$14:$C$3894,2,0) -> Nguyễn Quốc Bảo | F41: 7938079462 | G41: 28/10/1996 | H41: Nam | I41: 033 | N41: 12 | O41: 01/01/2019-31/12/2019 | P41: Ấp 4 , Xã Tân Thạnh Đông , Huyện Củ Chi , Thành phố Hồ Chí Minh | R41: 025407578 | S41: 16002509,16CĐ-CNC1 | T41: 79 | V41: 783 | X41: 27547
A42: 31 | B42: 30 | C42: 8023476431 | D42: Dương Thanh Hậu | E42: =VLOOKUP(C42,'ĐỢT 2 (3881))'!$B$14:$C$3894,2,0) -> Dương Thanh Hậu | F42: 8023476431 | G42: 24/01/1998 | H42: Nam | I42: 033 | N42: 12 | O42: 01/01/2019-31/12/2019 | P42: 4/4/5 Châu Sở, KP4 , Thị trấn Bến Lức , Huyện Bến Lức , Tỉnh Long An | R42: 301660102 | S42: 16002749,16CĐ-CNC1 | T42: 80 | V42: 803 | X42: 27991
A43: 32 | B43: 31 | C43: 8022518519 | D43: Bùi Đức Tấn Phát | E43: =VLOOKUP(C43,'ĐỢT 2 (3881))'!$B$14:$C$3894,2,0) -> Bùi Đức Tấn Phát | F43: 8022518519 | G43: 23/09/1998 | H43: Nam | I43: 025 | N43: 12 | O43: 01/01/2019-31/12/2019 | P43: 150/4 Ấp An Hòa II , Xã Bình An , Huyện Thủ Thừa , Tỉnh Long An | R43: 301632410 | S43: 16002778,16CĐ-CNC1 | T43: 80 | V43: 804 | X43: 28054
A44: 33 | B44: 32 | C44: 2422056006 | D44: Nguyễn Tiến Anh | E44: =VLOOKUP(C44,'ĐỢT 2 (3881))'!$B$14:$C$3894,2,0) -> Nguyễn Tiến Anh | F44: 2422056006 | G44: 04/02/1998 | H44: Nam | I44: 033 | N44: 12 | O44: 01/01/2019-31/12/2019 | P44: Lục Nam , Thị trấn Lục Nam , Huyện Lục Nam , Tỉnh Bắc Giang | R44: 122260786 | S44: 16002784,16CĐ-CNC1 | T44: 24 | V44: 218 | X44: 07447
A45: 34 | B45: 33 | C45: 5221892022 | D45: Cao Hoài Tấn | E45: =VLOOKUP(C45,'ĐỢT 2 (3881))'!$B$14:$C$3894,2,0) -> Cao Hoài Tấn | F45: 5221892022 | G45: 04/10/1998 | H45: Nam | I45: 033 | N45: 12 | O45: 01/01/2019-31/12/2019 | P45: Thôn Kim Giao Bắc , Xã Hoài Hải , Huyện Hoài Nhơn , Tỉnh Bình Định | R45: 215462355 | S45: 16002790,16CĐ-CNC1 | T45: 52 | V45: 543 | X45: 21676
A46: 35 | B46: 34 | C46: 8022491223 | D46: Phạm Thanh Hải | E46: =VLOOKUP(C46,'ĐỢT 2 (3881))'!$B$14:$C$3894,2,0) -> Phạm Thanh Hải | F46: 8022491223 | G46: 30/10/1998 | H46: Nam | I46: 033 | N46: 12 | O46: 01/01/2019-31/12/2019 | P46: 1/12 Ấp 3 , Thị trấn Thủ Thừa , Huyện Thủ Thừa , Tỉnh Long An | R46: 301632411 | S46: 16002856,16CĐ-CNC1 | T46: 80 | V46: 804 | X46: 28036
... A57: 46 | B57: 45 | C57: 5820762938 | D57: Nguyễn Văn Phi | E57: =VLOOKUP(C57,'ĐỢT 2 (3881))'!$B$14:$C$3894,2,0) -> Nguyễn Văn Phi | F57: 5820762938 | G57: 10/10/1998 | H57: Nam | I57: 033 | N57: 12 | O57: 01/01/2019-31/12/2019 | P57: Lạc Sơn 3 , Xã Cà Ná , Huyện Thuận Nam , Tỉnh Ninh Thuận | R57: 264512907 | S57: 16000844,16CĐ-CTM1 | T57: 58 | V57: 589 | X57: 22910
A58: 47 | B58: 46 | C58: 7938153532 | D58: Phan Công Ty | E58: =VLOOKUP(C58,'ĐỢT 2 (3881))'!$B$14:$C$3894,2,0) -> Phan Công Ty | F58: 7938153532 | G58: 20/07/1998 | H58: Nam | I58: 033 | N58: 12 | O58: 01/01/2019-31/12/2019 | P58: ấp 6 , Xã Vĩnh Lộc A , Huyện Bình Chánh , Thành phố Hồ Chí Minh | S58: 16000854,16CĐ-CTM1 | T58: 79 | V58: 785 | X58: 27601
A59: 48 | B59: 47 | C59: 6020002651 | D59: Nguyễn Hoàng Ngân Giang | E59: =VLOOKUP(C59,'ĐỢT 2 (3881))'!$B$14:$C$3894,2,0) -> Nguyễn Hoàng Ngân Giang | F59: 6020002651 | G59: 30/09/1998 | H59: Nam | I59: 033 | N59: 12 | O59: 01/01/2019-31/12/2019 | P59: KP4 , Phường Phú Thủy , Thành phố Phan Thiết , Tỉnh Bình Thuận | R59: 261543602 | S59: 16000879,16CĐ-CTM1 | T59: 60 | V59: 593 | X59: 22924
A60: 49 | B60: 48 | C60: 8023476433 | D60: Bùi Duy Khương | E60: =VLOOKUP(C60,'ĐỢT 2 (3881))'!$B$14:$C$3894,2,0) -> Bùi Duy Khương | F60: 8023476433 | G60: 10/07/1998 | H60: Nam | I60: 033 | N60: 12 | O60: 01/01/2019-31/12/2019 | P60: Tổ 8 , Xã Thủy Đông , Huyện Thạnh Hóa , Tỉnh Long An | R60: 301643365 | S60: 16000914,16CĐ-CTM1 | T60: 80 | V60: 800 | X60: 27883
A61: 50 | B61: 49 | C61: 7933403711 | D61: Nguyễn Huỳnh Sang | E61: =VLOOKUP(C61,'ĐỢT 2 (3881))'!$B$14:$C$3894,2,0) -> Nguyễn Huỳnh Sang | F61: 7933403711 | G61: 31/05/1998 | H61: Nam | I61: 033 | N61: 12 | O61: 01/01/2019-31/12/2019 | P61: 265/1A Phan Văn Khỏe , Phường 05 , Quận 6 , Thành phố Hồ Chí Minh | R61: 025671454 | S61: 16000925,16CĐ-CTM1 | T61: 79 | V61: 775 | X61: 27361
A62: 51 | B62: 50 | C62: 7931317747 | D62: Lê Trần Tuấn Anh | E62: =VLOOKUP(C62,'ĐỢT 2 (3881))'!$B$14:$C$3894,2,0) -> Lê Trần Tuấn Anh | F62: 7931317747 | G62: 23/09/1998 | H62: Nam | I62: 033 | N62: 12 | O62: 01/01/2019-31/12/2019 | P62: 958/51 Lạc Long Quân , Phường 08 , Quận Tân Bình , Thành phố Hồ Chí Minh | R62: 025727369 | S62: 16000936,16CĐ-CTM1 | T62: 79 | V62: 766 | X62: 26998
A63: 52 | B63: 51 | C63: 5220483296 | D63: Hồ Quang Trường | E63: =VLOOKUP(C63,'ĐỢT 2 (3881))'!$B$14:$C$3894,2,0) -> Hồ Quang Trường | F63: 5220483296 | G63: 02/06/1998 | H63: Nam | I63: 033 | N63: 12 | O63: 01/01/2019-31/12/2019 | P63: Đội 4 , Xã Ân Tường Đông , Huyện Hoài Ân , Tỉnh Bình Định | R63: 215436001 | S63: 16000954,16CĐ-CTM1 | T63: 52 | V63: 544 | X63: 21724
A64: 53 | B64: 52 | C64: 7930077825 | D64: Phạm Ngọc Duy | E64: =VLOOKUP(C64,'ĐỢT 2 (3881))'!$B$14:$C$3894,2,0) -> Phạm Ngọc Duy | F64: 7930077825 | G64: 22/12/1998 | H64: Nam | I64: 031 | N64: 12 | O64: 01/01/2019-31/12/2019 | P64: 27/70/45 Đường số 9 , Phường 16 , Quận Gò Vấp , Thành phố Hồ Chí Minh | R64: 025679657 | S64: 16000960,16CĐ-CTM1 | T64: 79 | V64: 764 | X64: 26878
A65: 54 | B65: 53 | C65: 8022201026 | D65: Nguyễn Hồng Sơn | E65: =VLOOKUP(C65,'ĐỢT 2 (3881))'!$B$14:$C$3894,2,0) -> Nguyễn Hồng Sơn | F65: 8022201026 | G65: 09/09/1998 | H65: Nam | I65: 033 | N65: 12 | O65: 01/01/2019-31/12/2019 | P65: 454 Hựu Thạnh , Xã Hựu Thạnh , Huyện Đức Hòa , Tỉnh Long An | R65: 301673979 | S65: 16000970,16CĐ-CTM1 | T65: 80 | V65: 802 | X65: 27988
A66: 55 | B66: 54 | C66: 7938153531 | D66: Đào Văn Minh | E66: =VLOOKUP(C66,'ĐỢT 2 (3881))'!$B$14:$C$3894,2,0) -> Đào Văn Minh | F66: 7938153531 | G66: 19/02/1997 | H66: Nam | I66: 055 | N66: 12 | O66: 01/01/2019-31/12/2019 | P66: B21/28 ấp 2B Vĩnh Lộc B , Xã Vĩnh Lộc A , Huyện Bình Chánh , Thành phố Hồ Chí Minh | R66: 025647617 | S66: 16000979,16CĐ-CTM1 | T66: 79 | V66: 785 | X66: 27601
A67: 56 | B67: 55 | C67: 7526641241 | D67: Phạm Trung Kiên | E67: =VLOOKUP(C67,'ĐỢT 2 (3881))'!$B$14:$C$3894,2,0) -> Phạm Trung Kiên | F67: 7526641241 | G67: 01/10/1998 | H67: Nam | I67: 025 | N67: 12 | O67: 01/01/2019-31/12/2019 | P67: Ấp Thạnh Thọ I , Xã Phú Lâm , Huyện Tân Phú , Tỉnh Đồng Nai | R67: 272594352 | S67: 16001002,16CĐ-CTM1 | T67: 75 | V67: 734 | X67: 26155
A68: 57 | B68: 56 | C68: 8022657381 | D68: Trần Khắc Bình | E68: =VLOOKUP(C68,'ĐỢT 2 (3881))'!$B$14:$C$3894,2,0) -> Trần Khắc Bình | F68: 8022657381 | G68: 10/01/1998 | H68: Nam | I68: 033 | N68: 12 | O68: 01/01/2019-31/12/2019 | P68: Ấp 3 Xã Phước Đông , Xã Phước Đông , Huyện Cần Đước , Tỉnh Long An | R68: 301653774 | S68: 16002343,16CĐ-CTM1 | T68: 80 | V68: 806 | X68: 28150
A69: 58 | B69: 57 | C69: 9423040772 | D69: Vũ Phúc Hậu | E69: =VLOOKUP(C69,'ĐỢT 2 (3881))'!$B$14:$C$3894,2,0) -> Vũ Phúc Hậu | F69: 9423040772 | G69: 21/03/1998 | H69: Nam | I69: 033 | N69: 12 | O69: 01/01/2019-31/12/2019 | P69: 203 ấp Mỹ Đức , Xã Thiện Mỹ , Huyện Châu Thành , Tỉnh Sóc Trăng | R69: 366177313 | S69: 16002350,16CĐ-CTM1 | T69: 94 | V69: 942 | X69: 31585
A70: 59 | B70: 58 | C70: 6624223480 | D70: Nguyễn Văn Tranh | E70: =VLOOKUP(C70,'ĐỢT 2 (3881))'!$B$14:$C$3894,2,0) -> Nguyễn Văn Tranh | F70: 6624223480 | G70: 03/02/1998 | H70: Nam | I70: 029 | N70: 12 | O70: 01/01/2019-31/12/2019 | P70: số nhà 23, thôn Tân Lợi , Xã Ea Uy , Huyện Krông Pắc , Tỉnh Đắk Lắk | R70: 241735778 | S70: 16002378,16CĐ-CTM1 | T70: 66 | V70: 654 | X70: 24532
A71: 60 | B71: 59 | C71: 7222204086 | D71: Trần Tấn Phát | E71: =VLOOKUP(C71,'ĐỢT 2 (3881))'!$B$14:$C$3894,2,0) -> Trần Tấn Phát | F71: 7222204086 | G71: 21/09/1998 | H71: Nam | I71: 033 | N71: 12 | O71: 01/01/2019-31/12/2019 | P71: Huyện Trảng Bàng , Xã Gia Bình , Huyện Trảng Bàng , Tỉnh Tây Ninh | S71: 16002387,16CĐ-CTM1 | T71: 72 | V71: 712 | X71: 25723
A72: 61 | B72: 60 | C72: 7930373737 | D72: Nguyễn Lê Hoàng Nam | E72: =VLOOKUP(C72,'ĐỢT 2 (3881))'!$B$14:$C$3894,2,0) -> Nguyễn Lê Hoàng Nam | F72: 7930373737 | G72: 27/12/1998 | H72: Nam | I72: 035 | N72: 12 | O72: 01/01/2019-31/12/2019 | P72: 15/42/3 Nguyễn Du , Phường 07 , Quận Gò Vấp , Thành phố Hồ Chí Minh | R72: 025716678 | S72: 16002394,16CĐ-CTM1 | T72: 79 | V72: 764 | X72: 26890
A73: 62 | B73: 61 | C73: 8023476434 | D73: Nguyễn Chí Bình | E73: =VLOOKUP(C73,'ĐỢT 2 (3881))'!$B$14:$C$3894,2,0) -> Nguyễn Chí Bình | F73: 8023476434 | G73: 02/08/1996 | H73: Nam | I73: 033 | N73: 12 | O73: 01/01/2019-31/12/2019 | P73: Số 32, Ấp 4 , Xã Bình Hòa Đông , Huyện Mộc Hóa , Tỉnh Long An | R73: 301551292 | S73: 16002430,16CĐ-CTM1 | T73: 80 | V73: 798 | X73: 27811
A74: 63 | B74: 62 | C74: 6021552208 | D74: Thạch Lê Anh Tiến | E74: =VLOOKUP(C74,'ĐỢT 2 (3881))'!$B$14:$C$3894,2,0) -> Thạch Lê Anh Tiến | F74: 6021552208 | G74: 25/11/1998 | H74: Nam | I74: 033 | N74: 12 | O74: 01/01/2019-31/12/2019 | P74: Thôn 4 , Xã Đức Hạnh , Huyện Đức Linh , Tỉnh Bình Thuận | R74: 261507081 | S74: 16002472,16CĐ-CTM1 | T74: 60 | V74: 600 | X74: 23212
A75: 64 | B75: 63 | C75: 8723779163 | D75: Lê Chí Đặng | E75: =VLOOKUP(C75,'ĐỢT 2 (3881))'!$B$14:$C$3894,2,0) -> Lê Chí Đặng | F75: 8723779163 | G75: 14/06/1998 | H75: Nam | I75: 033 | N75: 12 | O75: 01/01/2019-31/12/2019 | P75: Số 488, Tổ 14 , Xã Long Khánh A , Huyện Hồng Ngự , Tỉnh Đồng Tháp | R75: 341959866 | S75: 16002483,16CĐ-CTM1 | T75: 87 | V75: 870 | X75: 29980
A76: 65 | B76: 64 | C76: 5120054806 | D76: Bùi Ngọc Vĩnh | E76: =VLOOKUP(C76,'ĐỢT 2 (3881))'!$B$14:$C$3894,2,0) -> Bùi Ngọc Vĩnh | F76: 5120054806 | G76: 19/06/1998 | H76: Nam | I76: 025 | N76: 12 | O76: 01/01/2019-31/12/2019 | P76: Đội 1 Thôn Phú Bình , Xã Tịnh Châu , Thành phố Quảng Ngãi , Tỉnh Quảng Ngãi | R76: 212484013 | S76: 16002491,16CĐ-CTM1 | T76: 51 | V76: 522 | X76: 21208
A77: 66 | B77: 65 | C77: 7938216126 | D77: Võ Đại Hoàng | E77: =VLOOKUP(C77,'ĐỢT 2 (3881))'!$B$14:$C$3894,2,0) -> Võ Đại Hoàng | F77: 7938216126 | G77: 21/04/1998 | H77: Nam | I77: 025 | N77: 12 | O77: 01/01/2019-31/12/2019 | P77: 442 Phạm Văn Chiêu , Phường 09 , Quận Gò Vấp , Thành phố Hồ Chí Minh | R77: 025679417 | S77: 16002505,16CĐ-CTM1 | T77: 79 | V77: 764 | X77: 26897
A78: 67 | B78: 66 | C78: 5120590375 | D78: Lâm Quang Vũ | E78: =VLOOKUP(C78,'ĐỢT 2 (3881))'!$B$14:$C$3894,2,0) -> Lâm Quang Vũ | F78: 5120590375 | G78: 03/04/1998 | H78: Nam | I78: 033 | N78: 12 | O78: 01/01/2019-31/12/2019 | P78: Xóm 3 thôn thu xà , Xã Nghĩa Hòa , Huyện Tư Nghĩa , Tỉnh Quảng Ngãi | R78: 212430645 | S78: 16002515,16CĐ-CTM1 | T78: 51 | V78: 528 | X78: 21268
A79: 68 | B79: 67 | C79: 9123815260 | D79: Nguyễn Văn Hận | E79: =VLOOKUP(C79,'ĐỢT 2 (3881))'!$B$14:$C$3894,2,0) -> Nguyễn Văn Hận | F79: 9123815260 | G79: 15/12/1997 | H79: Nam | I79: 033 | N79: 12 | O79: 01/01/2019-31/12/2019 | P79: Huyện Gò Quao , Xã Vĩnh Hòa Hưng Bắc , Huyện Gò Quao , Tỉnh Kiên Giang | S79: 16002529,16CĐ-CTM1 | T79: 91 | V79: 907 | X79: 30955
A80: 69 | B80: 68 | C80: 9122704445 | D80: Hồ Tấn Tài | E80: =VLOOKUP(C80,'ĐỢT 2 (3881))'!$B$14:$C$3894,2,0) -> Hồ Tấn Tài | F80: 9122704445 | G80: 08/10/1998 | H80: Nam | I80: 033 | N80: 12 | O80: 01/01/2019-31/12/2019 | P80: ấp 4 , Xã Vĩnh Hòa Hưng Bắc , Huyện Gò Quao , Tỉnh Kiên Giang | S80: 16002530,16CĐ-CTM1 | T80: 91 | V80: 907 | X80: 30955
A81: 70 | B81: 69 | C81: 7928488146 | D81: Trần Hữu Nhân | E81: =VLOOKUP(C81,'ĐỢT 2 (3881))'!$B$14:$C$3894,2,0) -> Trần Hữu Nhân | F81: 7928488146 | G81: 20/05/1998 | H81: Nam | I81: 029 | N81: 12 | O81: 01/01/2019-31/12/2019 | P81: 54/15A khu phố 4 , Phường Tân Chánh Hiệp , Quận 12 , Thành phố Hồ Chí Minh | R81: 025689420 | S81: 16002562,16CĐ-CTM1 | T81: 79 | V81: 761 | X81: 26776
A82: 71 | B82: 70 | C82: 7937444304 | D82: Lưu Sáng Thành | E82: =VLOOKUP(C82,'ĐỢT 2 (3881))'!$B$14:$C$3894,2,0) -> Lưu Sáng Thành | F82: 7937444304 | G82: 31/05/1998 | H82: Nam | I82: 028 | N82: 12 | O82: 01/01/2019-31/12/2019 | P82: 202 Bình Tiên , Phường 04 , Quận 6 , Thành phố Hồ Chí Minh | R82: 025754756 | S82: 16002573,16CĐ-CTM1 | T82: 79 | V82: 775 | X82: 27373
A83: 72 | B83: 71 | C83: 5221225421 | D83: Phạm Văn Ngọc | E83: =VLOOKUP(C83,'ĐỢT 2 (3881))'!$B$14:$C$3894,2,0) -> Phạm Văn Ngọc | F83: 5221225421 | G83: 24/06/1998 | H83: Nam | I83: 033 | N83: 12 | O83: 01/01/2019-31/12/2019 | P83: xóm Giữa, thôn Tráng Long , Xã Nhơn Lộc , Thị xã An Nhơn , Tỉnh Bình Định | R83: 215426056 | S83: 16002578,16CĐ-CTM1 | T83: 52 | V83: 549 | X83: 21940
A84: 73 | B84: 72 | C84: 7938216127 | D84: Lê Thành Đạt | E84: =VLOOKUP(C84,'ĐỢT 2 (3881))'!$B$14:$C$3894,2,0) -> Lê Thành Đạt | F84: 7938216127 | G84: 15/10/1997 | H84: Nam | I84: 033 | N84: 12 | O84: 01/01/2019-31/12/2019 | P84: 161/1/82 Nguyễn Duy , Phường 14 , Quận 8 , Thành phố Hồ Chí Minh | R84: 025725438 | S84: 16002580,16CĐ-CTM1 | T84: 79 | V84: 776 | X84: 27421
A85: 74 | B85: 73 | C85: 7933228730 | D85: Trần Quang Thịnh | E85: =VLOOKUP(C85,'ĐỢT 2 (3881))'!$B$14:$C$3894,2,0) -> Trần Quang Thịnh | F85: 7933228730 | G85: 15/12/1998 | H85: Nam | I85: 033 | N85: 12 | O85: 01/01/2019-31/12/2019 | P85: 897/68 trần hưng đạo , Phường 01 , Quận 5 , Thành phố Hồ Chí Minh | R85: 025692608 | S85: 16002581,16CĐ-CTM1 | T85: 79 | V85: 774 | X85: 27325
A86: 75 | B86: 74 | C86: 7938153535 | D86: Thái Thành Nhân | E86: =VLOOKUP(C86,'ĐỢT 2 (3881))'!$B$14:$C$3894,2,0) -> Thái Thành Nhân | F86: 7938153535 | G86: 06/10/1997 | H86: Nam | I86: 033 | N86: 12 | O86: 01/01/2019-31/12/2019 | P86: 127/5 N1, Âu Cơ , Phường 14 , Quận 11 , Thành phố Hồ Chí Minh | S86: 16002597,16CĐ-CTM1 | T86: 79 | V86: 772 | X86: 27214
A87: 76 | B87: 75 | C87: 8925116416 | D87: Phan Văn Ngân Giang | E87: =VLOOKUP(C87,'ĐỢT 2 (3881))'!$B$14:$C$3894,2,0) -> Phan Văn Ngân Giang | F87: 8925116416 | G87: 28/03/1997 | H87: Nam | I87: 031 | N87: 12 | O87: 01/01/2019-31/12/2019 | P87: Ấp Long Phú 2 , Xã Long Điền B , Huyện Chợ Mới , Tỉnh An Giang | R87: 352477912 | S87: 16003297,16CĐ-CTM1 | T87: 89 | V87: 893 | X87: 30646
A88: 77 | B88: 76 | C88: 7930119252 | D88: Võ Gia Hưng | E88: =VLOOKUP(C88,'ĐỢT 2 (3881))'!$B$14:$C$3894,2,0) -> Võ Gia Hưng | F88: 7930119252 | G88: 11/07/1998 | H88: Nam | I88: 033 | N88: 12 | O88: 01/01/2019-31/12/2019 | P88: 796/2/15 Lê Đức Thọ , Phường 15 , Quận Gò Vấp , Thành phố Hồ Chí Minh | R88: 025679749 | S88: 16003828,16CĐ-CTM1 | T88: 79 | V88: 764 | X88: 26869
A89: 78 | B89: 77 | C89: 3421051771 | D89: Nguyễn Hữu Hoàng | E89: =VLOOKUP(C89,'ĐỢT 2 (3881))'!$B$14:$C$3894,2,0) -> Nguyễn Hữu Hoàng | F89: 3421051771 | G89: 29/03/1997 | H89: Nam | I89: 025 | N89: 12 | O89: 01/01/2019-31/12/2019 | P89: Thụy Thanh , Xã Thụy Thanh , Huyện Thái Thụy , Tỉnh Thái Bình | R89: 152186203 | S89: 15002892,16CĐ-CTM2 | T89: 34 | V89: 341 | X89: 12898
A90: 79 | B90: 78 | C90: 7722287893 | D90: Bùi Thanh Phúc | E90: =VLOOKUP(C90,'ĐỢT 2 (3881))'!$B$14:$C$3894,2,0) -> Bùi Thanh Phúc | F90: 7722287893 | G90: 23/05/1998 | H90: Nam | I90: 033 | N90: 12 | O90: 01/01/2019-31/12/2019 | P90: Tổ 8 - Thôn Tân Hạnh , Phường Phú Mỹ , Thị xã Phú Mỹ , Tỉnh Bà Rịa - Vũng Tàu | R90: 273681750 | S90: 16002196,16CĐ-CTM2 | T90: 77 | V90: 754 | X90: 26704
A91: 80 | B91: 79 | C91: 6020494933 | D91: Nguyễn Vương Vũ | E91: =VLOOKUP(C91,'ĐỢT 2 (3881))'!$B$14:$C$3894,2,0) -> Nguyễn Vương Vũ | F91: 6020494933 | G91: 25/02/1998 | H91: Nam | I91: 033 | N91: 12 | O91: 01/01/2019-31/12/2019 | P91: An trung , Xã Bình An , Huyện Bắc Bình , Tỉnh Bình Thuận | R91: 261414373 | S91: 16002516,16CĐ-CTM2 | T91: 60 | V91: 596 | X91: 23014
A92: 81 | B92: 80 | C92: 5620841170 | D92: Lê Ngọc Vinh | E92: =VLOOKUP(C92,'ĐỢT 2 (3881))'!$B$14:$C$3894,2,0) -> Lê Ngọc Vinh | F92: 5620841170 | G92: 06/11/1998 | H92: Nam | I92: 033 | N92: 12 | O92: 01/01/2019-31/12/2019 | P92: Thị xã Ninh Hoà , Xã Ninh Trung , Thị xã Ninh Hòa , Tỉnh Khánh Hòa | S92: 16002611,16CĐ-CTM2 | T92: 56 | V92: 572 | X92: 22549
A93: 82 | B93: 81 | C93: 8223353000 | D93: Nguyễn Duy Tân | E93: =VLOOKUP(C93,'ĐỢT 2 (3881))'!$B$14:$C$3894,2,0) -> Nguyễn Duy Tân | F93: 8223353000 | G93: 09/10/1998 | H93: Nam | I93: 033 | N93: 12 | O93: 01/01/2019-31/12/2019 | P93: 108 Ấp Giá Trên , Xã Kiểng Phước , Huyện Gò Công Đông , Tỉnh Tiền Giang | R93: 312363310 | S93: 16002612,16CĐ-CTM2 | T93: 82 | V93: 824 | X93: 28726
A94: 83 | B94: 82 | C94: 7931797634 | D94: Lương Xuân Hải | E94: =VLOOKUP(C94,'ĐỢT 2 (3881))'!$B$14:$C$3894,2,0) -> Lương Xuân Hải | F94: 7931797634 | G94: 14/12/1997 | H94: Nam | I94: 033 | N94: 12 | O94: 01/01/2019-31/12/2019 | P94: 49/40/14 Trịnh Đình Trọng , Phường Phú Trung , Quận Tân Phú , Thành phố Hồ Chí Minh | R94: 025764514 | S94: 16002623,16CĐ-CTM2 | T94: 79 | V94: 767 | X94: 27031
A95: 84 | B95: 83 | C95: 7938153538 | D95: Ngô Anh Chiến | E95: =VLOOKUP(C95,'ĐỢT 2 (3881))'!$B$14:$C$3894,2,0) -> Ngô Anh Chiến | F95: 7938153538 | G95: 12/05/1997 | H95: Nam | I95: 029 | N95: 12 | O95: 01/01/2019-31/12/2019 | P95: 161, Tiểu đoàn Trinh sát 47 , Phường Trung Mỹ Tây , Quận 12 , Thành phố Hồ Chí Minh | R95: 301604195 | S95: 16002679,16CĐ-CTM2 | T95: 79 | V95: 761 | X95: 26785
A96: 85 | B96: 84 | C96: 6623108910 | D96: Ngô Thành Công | E96: =VLOOKUP(C96,'ĐỢT 2 (3881))'!$B$14:$C$3894,2,0) -> Ngô Thành Công | F96: 6623108910 | G96: 03/09/1998 | H96: Nam | I96: 033 | N96: 12 | O96: 01/01/2019-31/12/2019 | P96: Thôn 14 , Xã Ea Riêng , Huyện M'Đrắk , Tỉnh Đắk Lắk | R96: 241699334 | S96: 16002683,16CĐ-CTM2 | T96: 66 | V96: 652 | X96: 24433
A97: 87 | B97: 85 | C97: 8022270594 | D97: Nguyễn Lê Duy Minh | E97: =VLOOKUP(C97,'ĐỢT 2 (3881))'!$B$14:$C$3894,2,0) -> Nguyễn Lê Duy Minh | F97: 8022270594 | G97: 27/01/1998 | H97: Nam | I97: 033 | N97: 12 | O97: 01/01/2019-31/12/2019 | P97: Huyện Bến Lức , Xã Tân Bửu , Huyện Bến Lức , Tỉnh Long An | S97: 16002721,16CĐ-CTM2 | T97: 80 | V97: 803 | X97: 28009
A98: 88 | B98: 86 | C98: 7938216132 | D98: Hoàng Đức Long | E98: =VLOOKUP(C98,'ĐỢT 2 (3881))'!$B$14:$C$3894,2,0) -> Hoàng Đức Long | F98: 7938216132 | G98: 10/12/1998 | H98: Nam | I98: 033 | N98: 12 | O98: 01/01/2019-31/12/2019 | P98: 212/61/4 Nguyễn Thiện Thuật , Phường 03 , Quận 3 , Thành phố Hồ Chí Minh | R98: 079098000811 | S98: 16002725,16CĐ-CTM2 | T98: 79 | V98: 770 | X98: 27154
A99: 89 | B99: 87 | C99: 8223941147 | D99: Nguyễn Thiện Quang | E99: =VLOOKUP(C99,'ĐỢT 2 (3881))'!$B$14:$C$3894,2,0) -> Nguyễn Thiện Quang | F99: 8223941147 | G99: 26/02/1998 | H99: Nam | I99: 033 | N99: 12 | O99: 01/01/2019-31/12/2019 | P99: Số 249 Tổ 7, Ấp An Hiệp , Xã Đông Hòa Hiệp , Huyện Cái Bè , Tỉnh Tiền Giang | R99: 312453942 | S99: 16002738,16CĐ-CTM2 | T99: 82 | V99: 819 | X99: 28411
A100: 90 | B100: 88 | C100: 7931312816 | D100: Nguyễn Xuân Trường | E100: =VLOOKUP(C100,'ĐỢT 2 (3881))'!$B$14:$C$3894,2,0) -> Nguyễn Xuân Trường | F100: 7931312816 | G100: 09/10/1998 | H100: Nam | I100: 033 | N100: 12 | O100: 01/01/2019-31/12/2019 | P100: Số 02, Đồng Khởi , Phường 04 , Quận Tân Bình , Thành phố Hồ Chí Minh | R100: 025699239 | S100: 16002742,16CĐ-CTM2 | T100: 79 | V100: 766 | X100: 26968
A101: 91 | B101: 89 | C101: 7931935159 | D101: Nguyễn Ngọc Sang | E101: =VLOOKUP(C101,'ĐỢT 2 (3881))'!$B$14:$C$3894,2,0) -> Nguyễn Ngọc Sang | F101: 7931935159 | G101: 22/10/1997 | H101: Nam | I101: 033 | N101: 12 | O101: 01/01/2019-31/12/2019 | P101: 87/37/1 Nguyễn Đình Chính , Phường 15 , Quận Phú Nhuận , Thành phố Hồ Chí Minh | R101: 079097002271 | S101: 16002767,16CĐ-CTM2 | T101: 79 | V101: 768 | X101: 27067
A102: 92 | B102: 90 | C102: 8925104504 | D102: Trương Bảo Nhớ | E102: =VLOOKUP(C102,'ĐỢT 2 (3881))'!$B$14:$C$3894,2,0) -> Trương Bảo Nhớ | F102: 8925104504 | G102: 26/09/1998 | H102: Nam | I102: 033 | N102: 12 | O102: 01/01/2019-31/12/2019 | P102: 160,tổ 2-ấp Long Hoà 2 , Xã Long Hòa , Huyện Phú Tân , Tỉnh An Giang | R102: 352394446 | S102: 16002769,16CĐ-CTM2 | T102: 89 | V102: 888 | X102: 30415
A103: 93 | B103: 91 | C103: 7938153537 | D103: Bùi Duy Thuận | E103: =VLOOKUP(C103,'ĐỢT 2 (3881))'!$B$14:$C$3894,2,0) -> Bùi Duy Thuận | F103: 7938153537 | G103: 07/01/1997 | H103: Nam | I103: 033 | N103: 12 | O103: 01/01/2019-31/12/2019 | P103: Đức Hiệp , Xã Nhuận Đức , Huyện Củ Chi , Thành phố Hồ Chí Minh | R103: 025651175 | S103: 16002779,16CĐ-CTM2 | T103: 79 | V103: 783 | X103: 27511
A104: 94 | B104: 92 | C104: 7022213565 | D104: Phạm Viết Thành Đạt | E104: =VLOOKUP(C104,'ĐỢT 2 (3881))'!$B$14:$C$3894,2,0) -> Phạm Viết Thành Đạt | F104: 7022213565 | G104: 13/12/1998 | H104: Nam | I104: 033 | N104: 12 | O104: 01/01/2019-31/12/2019 | P104: ấp 8 , Xã Lộc Điền , Huyện Lộc Ninh , Tỉnh Bình Phước | S104: 16002810,16CĐ-CTM2 | T104: 70 | V104: 692 | X104: 25300
A105: 95 | B105: 93 | C105: 6622857600 | D105: Trần Văn Hưng | E105: =VLOOKUP(C105,'ĐỢT 2 (3881))'!$B$14:$C$3894,2,0) -> Trần Văn Hưng | F105: 6622857600 | G105: 10/04/1998 | H105: Nam | I105: 025 | N105: 12 | O105: 01/01/2019-31/12/2019 | P105: Lộc Tiến , Xã Phú Lộc , Huyện Krông Năng , Tỉnh Đắk Lắk | R105: 241708230 | S105: 16002826,16CĐ-CTM2 | T105: 66 | V105: 650 | X105: 24355
A106: 96 | B106: 94 | C106: 5221103533 | D106: Huỳnh Văn Tín | E106: =VLOOKUP(C106,'ĐỢT 2 (3881))'!$B$14:$C$3894,2,0) -> Huỳnh Văn Tín | F106: 5221103533 | G106: 24/07/1998 | H106: Nam | I106: 033 | N106: 12 | O106: 01/01/2019-31/12/2019 | P106: Tam Hòa , Xã Nhơn Phong , Thị xã An Nhơn , Tỉnh Bình Định | R106: 215454831 | S106: 16002827,16CĐ-CTM2 | T106: 52 | V106: 549 | X106: 21925
A107: 97 | B107: 95 | C107: 8223243164 | D107: Huỳnh Hoàng Nguyên | E107: =VLOOKUP(C107,'ĐỢT 2 (3881))'!$B$14:$C$3894,2,0) -> Huỳnh Hoàng Nguyên | F107: 8223243164 | G107: 23/07/1998 | H107: Nam | I107: 017 | N107: 12 | O107: 01/01/2019-31/12/2019 | P107: Thành Công , Xã Thành Công , Huyện Gò Công Tây , Tỉnh Tiền Giang | R107: 312359677 | S107: 16002860,16CĐ-CTM2 | T107: 82 | V107: 823 | X107: 28663
A108: 98 | B108: 96 | C108: 8422412468 | D108: Lê Thanh Hoàng | E108: =VLOOKUP(C108,'ĐỢT 2 (3881))'!$B$14:$C$3894,2,0) -> Lê Thanh Hoàng | F108: 8422412468 | G108: 01/01/1998 | H108: Nam | I108: 033 | N108: 12 | O108: 01/01/2019-31/12/2019 | P108: 529,ấp Giữa , Xã Kim Hòa , Huyện Cầu Ngang , Tỉnh Trà Vinh | R108: 334940084 | S108: 16002911,16CĐ-CTM2 | T108: 84 | V108: 848 | X108: 29434
A109: 99 | B109: 97 | C109: 7931575100 | D109: Trương Thành Đạt | E109: =VLOOKUP(C109,'ĐỢT 2 (3881))'!$B$14:$C$3894,2,0) -> Trương Thành Đạt | F109: 7931575100 | G109: 17/03/1998 | H109: Nam | I109: 055 | N109: 12 | O109: 01/01/2019-31/12/2019 | P109: 337/18 Thạch Lam , Phường Phú Thạnh , Quận Tân Phú , Thành phố Hồ Chí Minh | R109: 025702907 | S109: 16002945,16CĐ-CTM2 | T109: 79 | V109: 767 | X109: 27028
A110: 100 | B110: 98 | C110: 7022210134 | D110: Trần Ngọc Hiền | E110: =VLOOKUP(C110,'ĐỢT 2 (3881))'!$B$14:$C$3894,2,0) -> Trần Ngọc Hiền | F110: 7022210134 | G110: 07/09/1996 | H110: Nam | I110: 055 | N110: 12 | O110: 01/01/2019-31/12/2019 | P110: Long Bình , Xã Long Bình , Huyện Phú Riềng , Tỉnh Bình Phước | R110: 285558485 | S110: 16002973,16CĐ-CTM2 | T110: 70 | V110: 698 | X110: 25240
A111: 101 | B111: 99 | C111: 5220273215 | D111: Võ Chí Bảo | E111: =VLOOKUP(C111,'ĐỢT 2 (3881))'!$B$14:$C$3894,2,0) -> Võ Chí Bảo | F111: 5220273215 | G111: 24/02/1998 | H111: Nam | I111: 033 | N111: 12 | O111: 01/01/2019-31/12/2019 | P111: Xã Hoài Thương , Xã Hoài Hương , Huyện Hoài Nhơn , Tỉnh Bình Định | R111: 215464534 | S111: 16002987,16CĐ-CTM2 | T111: 52 | V111: 543 | X111: 21670
A112: 102 | B112: 100 | C112: 7930826126 | D112: Phạm Gia Lâm | E112: =VLOOKUP(C112,'ĐỢT 2 (3881))'!$B$14:$C$3894,2,0) -> Phạm Gia Lâm | F112: 7930826126 | G112: 12/02/1998 | H112: Nam | I112: 031 | N112: 12 | O112: 01/01/2019-31/12/2019 | P112: 245/33F, Nơ Trang Long , Phường 11 , Quận Bình Thạnh , Thành phố Hồ Chí Minh | R112: 025906918 | S112: 16003032,16CĐ-CTM2 | T112: 79 | V112: 765 | X112: 26908
A113: 103 | B113: 101 | C113: 7938079467 | D113: Lê Văn Thành Đạt | E113: =VLOOKUP(C113,'ĐỢT 2 (3881))'!$B$14:$C$3894,2,0) -> Lê Văn Thành Đạt | F113: 7938079467 | G113: 17/12/1998 | H113: Nam | I113: 033 | N113: 12 | O113: 01/01/2019-31/12/2019 | P113: 96/2 Võ Thành Trang , Phường 11 , Quận Tân Bình , Thành phố Hồ Chí Minh | R113: 025749031 | S113: 16003096,16CĐ-CTM2 | T113: 79 | V113: 766 | X113: 26983
A114: 104 | B114: 102 | C114: 8022499645 | D114: Cao Ngọc Chí | E114: =VLOOKUP(C114,'ĐỢT 2 (3881))'!$B$14:$C$3894,2,0) -> Cao Ngọc Chí | F114: 8022499645 | G114: 17/11/1997 | H114: Nam | I114: 033 | N114: 12 | O114: 01/01/2019-31/12/2019 | P114: Ấp 3, Long Thuận , Xã Long Thuận , Huyện Thủ Thừa , Tỉnh Long An | R114: 301631841 | S114: 16003104,16CĐ-CTM2 | T114: 80 | V114: 804 | X114: 28045
A115: 105 | B115: 103 | C115: 6624223481 | D115: Trần Văn Hoàng | E115: =VLOOKUP(C115,'ĐỢT 2 (3881))'!$B$14:$C$3894,2,0) -> Trần Văn Hoàng | F115: 6624223481 | G115: 24/06/1998 | H115: Nam | I115: 033 | N115: 12 | O115: 01/01/2019-31/12/2019 | P115: Thôn 10 , Xã Ea Riêng , Huyện M'Đrắk , Tỉnh Đắk Lắk | R115: 241698727 | S115: 16003229,16CĐ-CTM2 | T115: 66 | V115: 652 | X115: 24433
A116: 106 | B116: 104 | C116: 8022859439 | D116: Lê Thanh Bình | E116: =VLOOKUP(C116,'ĐỢT 2 (3881))'!$B$14:$C$3894,2,0) -> Lê Thanh Bình | F116: 8022859439 | G116: 28/02/1997 | H116: Nam | I116: 033 | N116: 12 | O116: 01/01/2019-31/12/2019 | P116: 937A ấp 3 , Xã Phước Vĩnh Tây , Huyện Cần Giuộc , Tỉnh Long An | R116: 301661268 | S116: 16000459,16CĐ-CTM3 | T116: 80 | V116: 807 | X116: 28192
... A122: 112 | B122: 110 | C122: 6020951568 | D122: Lê Anh Khôi | E122: =VLOOKUP(C122,'ĐỢT 2 (3881))'!$B$14:$C$3894,2,0) -> Lê Anh Khôi | F122: 6020951568 | G122: 03/08/1998 | H122: Nam | I122: 033 | N122: 12 | O122: 01/01/2019-31/12/2019 | P122: xã Gia An , Xã Gia An , Huyện Tánh Linh , Tỉnh Bình Thuận | R122: 261466524 | S122: 16003079,16CĐ-CTM3 | T122: 60 | V122: 599 | X122: 23176
A123: 113 | B123: 111 | C123: 5220827792 | D123: Ngô Quang Trường | E123: =VLOOKUP(C123,'ĐỢT 2 (3881))'!$B$14:$C$3894,2,0) -> Ngô Quang Trường | F123: 5220827792 | G123: 28/12/1998 | H123: Nam | I123: 027 | N123: 12 | O123: 01/01/2019-31/12/2019 | P123: Huyện Tây Sơn, Bình Định. , Xã Bình Hòa , Huyện Tây Sơn , Tỉnh Bình Định | S123: 16003110,16CĐ-CTM3 | T123: 52 | V123: 547 | X123: 21829
...

Sheet LYTUTRONG KHOA 2018(3886)
A1: Tên đơn vị: TRƯỜNG CAO ĐẲNG LÝ TỰ TRỌNG THÀNH PHỐ HỒ CHÍ MINH
A2: Mã đơn vị: BD0240Z
A3: Địa chỉ: 390 Hoàng Văn Thụ,Phường 4,Quận Tân Bình, Thành Phố Hồ Chí Minh
A4: DANH SÁCH NGƯỜI CHỈ THAM GIA BẢO HIỂM Y TẾ
A5: Số : 3 tháng 12 năm 2018
C7: Đối tượng tham gia | H7: Lương cơ sở: ……………… đồng
A10: STT | B10: Mã số BHXH | C10: Họ và tên(FILE GỬI NGỌC TUYẾT) | E10: Mã số BHXH | F10: Ngày tháng năm sinh | G10: Giới tính | H10: Nơi đăng ký KCB ban đầu | I10: Biên lai, ngày tham gia | K10: Tiền lương, trợ cấp hoặc số tiền đóng | L10: Tỷ lệ NS hỗ trợ (%) | M10: Thời hạn sử dụng thẻ | O10: Ghi chú
I11: Số | J11: Ngày | M11: Số tháng | N11: Từ ngày | O11: Địa chỉ | Q11: Số CMND | R11: Mã PB | S11: mã tỉnh KS | U11: mã huyện KS | W11: mã xã KS
A12: A | B12: 1 | C12: B | E12: 1 | F12: 2 | G12: 3 | H12: 4 | I12: 5 | J12: 6 | K12: 7 | L12: 8 | M12: 9 | N12: 10 | O12: 11 | Q12: 12 | R12: 13 | S12: 14 | U12: 15 | W12: 16
A13: 1 | B13: 3422094591 | C13: Nguyễn Văn Hóa | D13: =VLOOKUP(B13,'ĐỢT 2 (3881))'!$B$14:$C$3894,2,0) -> Nguyễn Văn Hóa | E13: 3422094591 | F13: 05/09/1999 | G13: Nam | H13: 029 | M13: 12 | N13: 01/01/2019-31/12/2019 | O13: Thôn An Phú , Xã Quỳnh Hải , Huyện Quỳnh Phụ , Tỉnh Thái Bình | Q13: 152249065 | R13: 18005772,15TC-Đ | S13: 34 | U13: 338 | W13: 12520
A14: 2 | B14: 7934015748 | C14: Tăng Thành Đạt | D14: =VLOOKUP(B14,'ĐỢT 2 (3881))'!$B$14:$C$3894,2,0) -> Tăng Thành Đạt | E14: 7934015748 | F14: 25/01/2000 | G14: Nam | H14: 033 | M14: 12 | N14: 01/01/2019-31/12/2019 | O14: 457/8 KP2, Đường Bình Thành , Phường Bình Hưng Hòa B , Quận Bình Tân , Thành phố Hồ Chí Minh | Q14: 026066261 | R14: 18005748,15TCN-Đ | S14: 79 | U14: 777 | W14: 27442
A15: 3 | B15: 7422932339 | C15: Nguyễn Thị Tuyết Nhi | D15: =VLOOKUP(B15,'ĐỢT 2 (3881))'!$B$14:$C$3894,2,0) -> Nguyễn Thị Tuyết Nhi | E15: 7422932339 | F15: 07/11/2000 | G15: Nữ | H15: 025 | M15: 12 | N15: 01/01/2019-31/12/2019 | O15: Ấp 2A Phước Hòa , Xã Phước Hòa , Huyện Phú Giáo , Tỉnh Bình Dương | R15: 18005753,15TCN-MTT | S15: 74 | U15: 722 | W15: 25885
A16: 4 | B16: 7722610544 | C16: Nguyễn Minh Thái | D16: =VLOOKUP(B16,'ĐỢT 2 (3881))'!$B$14:$C$3894,2,0) -> Nguyễn Minh Thái | E16: 7722610544 | F16: 18/01/1996 | G16: Nam | H16: 031 | M16: 12 | N16: 01/01/2019-31/12/2019 | O16: 324/216 Bình Giã , Phường 8 , Thành phố Vũng Tàu , Tỉnh Bà Rịa - Vũng Tàu | Q16: 273554552 | R16: 18005762,15TCN-Ô1 | S16: 77 | U16: 747 | W16: 26527
A17: 5 | B17: 7938155999 | C17: Đặng Nguyễn Minh Thái | D17: =VLOOKUP(B17,'ĐỢT 2 (3881))'!$B$14:$C$3894,2,0) -> #N/A | E17: 7938155999 | F17: 29/12/2000 | G17: Nam | H17: 058 | M17: 12 | N17: 01/01/2019-31/12/2019 | O17: 68/22 Đường Tên Lửa , Phường An Lạc , Quận Bình Tân , Thành phố Hồ Chí Minh | R17: 17002409,15TCN-QTM1 | S17: 79 | U17: 777 | W17: 27460
A18: 6 | B18: 5121599909 | C18: Trần Mai Anh Khoa | D18: =VLOOKUP(B18,'ĐỢT 2 (3881))'!$B$14:$C$3894,2,0) -> Trần Mai Anh Khoa | E18: 5121599909 | F18: 22/08/1998 | G18: Nam | H18: 033 | M18: 12 | N18: 01/01/2019-31/12/2019 | O18: Đội 10-Thôn Phú Châu , Xã Hành Đức , Huyện Nghĩa Hành , Tỉnh Quảng Ngãi | Q18: 212460278 | R18: 16001948,16CĐ-CĐ1 | S18: 51 | U18: 532 | W18: 21379
A19: 7 | B19: 7526634650 | C19: Nguyễn Hoàng Phúc | D19: =VLOOKUP(B19,'ĐỢT 2 (3881))'!$B$14:$C$3894,2,0) -> Nguyễn Hoàng Phúc | E19: 7526634650 | F19: 08/08/1998 | G19: Nam | H19: 033 | M19: 12 | N19: 01/01/2019-31/12/2019 | O19: Tâm Bình , Xã Bình Minh , Huyện Trảng Bom , Tỉnh Đồng Nai | Q19: 272636857 | R19: 16002329,16CĐ-CĐ1 | S19: 75 | U19: 737 | W19: 26278
A20: 8 | B20: 7934884731 | C20: Cao Minh Trí | D20: =VLOOKUP(B20,'ĐỢT 2 (3881))'!$B$14:$C$3894,2,0) -> Cao Minh Trí | E20: 7934884731 | F20: 30/07/1998 | G20: Nam | H20: 040 | M20: 12 | N20: 01/01/2019-31/12/2019 | O20: 656 Quốc lộ 22 Ấp Phước Hưng , Xã Phước Thạnh , Huyện Củ Chi , Thành phố Hồ Chí Minh | Q20: 025802773 | R20: 16002358,16CĐ-CĐ1 | S20: 79 | U20: 783 | W20: 27526
A21: 9 | B21: 7935545512 | C21: Lê Trọng Nhân | D21: =VLOOKUP(B21,'ĐỢT 2 (3881))'!$B$14:$C$3894,2,0) -> Lê Trọng Nhân | E21: 7935545512 | F21: 06/01/1998 | G21: Nam | H21: 033 | M21: 12 | N21: 01/01/2019-31/12/2019 | O21: 56/3 Ấp Tiền Lân 1 , Xã Bà Điểm , Huyện Hóc Môn , Thành phố Hồ Chí Minh | Q21: 025766955 | R21: 16002376,16CĐ-CĐ1 | S21: 79 | U21: 784 | W21: 27592
A22: 10 | B22: 5220050901 | C22: Trương Văn Hoàng | D22: =VLOOKUP(B22,'ĐỢT 2 (3881))'!$B$14:$C$3894,2,0) -> Trương Văn Hoàng | E22: 5220050901 | F22: 08/07/1998 | G22: Nam | H22: 031 | M22: 12 | N22: 01/01/2019-31/12/2019 | O22: Thành phố Qui Nhơn , Phường Nguyễn Văn Cừ , Thành phố Quy Nhơn , Tỉnh Bình Định | Q22: 215447475 | R22: 16002422,16CĐ-CĐ1 | S22: 52 | U22: 540 | W22: 21592
A23: 11 | B23: 5421055359 | C23: Lê Hữu Nghĩa | D23: =VLOOKUP(B23,'ĐỢT 2 (3881))'!$B$14:$C$3894,2,0) -> Lê Hữu Nghĩa | E23: 5421055359 | F23: 20/01/1995 | G23: Nam | H23: 017 | M23: 12 | N23: 01/01/2019-31/12/2019 | O23: Thôn Bàn Thạch , Xã Hòa Xuân Đông , Huyện Đông Hòa , Tỉnh Phú Yên | Q23: 221398947 | R23: 16002442,16CĐ-CĐ1 | S23: 54 | U23: 564 | W23: 22291
A24: 12 | B24: 7938153525 | C24: Nguyễn Hùng Lân | D24: =VLOOKUP(B24,'ĐỢT 2 (3881))'!$B$14:$C$3894,2,0) -> Nguyễn Hùng Lân | E24: 7938153525 | F24: 12/02/1998 | G24: Nam | H24: 033 | M24: 12 | N24: 01/01/2019-31/12/2019 | O24: 2562 Phạm Thế Hiển , Phường 07 , Quận 8 , Thành phố Hồ Chí Minh | Q24: 251115413 | R24: 16002502,16CĐ-CĐ1 | S24: 79 | U24: 776 | W24: 27433
A25: 13 | B25: 3321498463 | C25: Phạm Ngọc Hiệp | D25: =VLOOKUP(B25,'ĐỢT 2 (3881))'!$B$14:$C$3894,2,0) -> Phạm Ngọc Hiệp | E25: 3321498463 | F25: 18/12/1996 | G25: Nam | H25: 034 | M25: 12 | N25: 01/01/2019-31/12/2019 | O25: Chính Nghĩa , Xã Chính Nghĩa , Huyện Kim Động , Tỉnh Hưng Yên | Q25: 145761782 | R25: 16002534,16CĐ-CĐ1 | S25: 33 | U25: 331 | W25: 12304
A26: 14 | B26: 6624223479 | C26: Võ Hoàng Phát | D26: =VLOOKUP(B26,'ĐỢT 2 (3881))'!$B$14:$C$3894,2,0) -> Võ Hoàng Phát | E26: 6624223479 | F26: 21/02/1998 | G26: Nam | H26: 033 | M26: 12 | N26: 01/01/2019-31/12/2019 | O26: Khối 3 TT Eakar Nốp , Thị trấn Ea Kar , Huyện Ea Kar , Tỉnh Đắk Lắk | Q26: 241716665 | R26: 16003355,16CĐ-CĐ1 | S26: 66 | U26: 651 | W26: 24373
A27: 15 | B27: 8222683277 | C27: Nguyễn Hoàng Khải Hưng | D27: =VLOOKUP(B27,'ĐỢT 2 (3881))'!$B$14:$C$3894,2,0) -> Nguyễn Hoàng Khải Hưng | E27: 8222683277 | F27: 27/07/1998 | G27: Nam | H27: 054 | M27: 12 | N27: 01/01/2019-31/12/2019 | O27: 396 Tân An , Xã Tân Phong , Huyện Cai Lậy , Tỉnh Tiền Giang | Q27: 312370292 | R27: 16003476,16CĐ-CĐ1 | S27: 82 | U27: 820 | W27: 28510
A28: 16 | B28: 5820579468 | C28: Nguyễn Văn Xã | D28: =VLOOKUP(B28,'ĐỢT 2 (3881))'!$B$14:$C$3894,2,0) -> Nguyễn Văn Xã | E28: 5820579468 | F28: 06/04/1998 | G28: Nam | H28: 033 | M28: 12 | N28: 01/01/2019-31/12/2019 | O28: Lạc nghiệp 1 , Xã Cà Ná , Huyện Thuận Nam , Tỉnh Ninh Thuận | Q28: 264512913 | R28: 16003877,16CĐ-CĐ1 | S28: 58 | U28: 589 | W28: 22910
A29: 17 | B29: 5120847688 | C29: Võ Tấn Bằng | D29: =VLOOKUP(B29,'ĐỢT 2 (3881))'!$B$14:$C$3894,2,0) -> Võ Tấn Bằng | E29: 5120847688 | F29: 14/09/1998 | G29: Nam | H29: 033 | M29: 12 | N29: 01/01/2019-31/12/2019 | O29: Xã Hành Đức , Xã Hành Đức , Huyện Nghĩa Hành , Tỉnh Quảng Ngãi | Q29: 212799844 | R29: 16000727,16CĐ-CĐT1 | S29: 51 | U29: 532 | W29: 21379
... A34: 22 | B34: 7934899107 | C34: Phan Hoài Phương | D34: =VLOOKUP(B34,'ĐỢT 2 (3881))'!$B$14:$C$3894,2,0) -> Phan Hoài Phương | E34: 7934899107 | F34: 13/11/1998 | G34: Nam | H34: 033 | M34: 12 | N34: 01/01/2019-31/12/2019 | O34: 780/5A Ấp Phú Mỹ , Xã Phú Hòa Đông , Huyện Củ Chi , Thành phố Hồ Chí Minh | Q34: 025759046 | R34: 16002579,16CĐ-CĐT1 | S34: 79 | U34: 783 | W34: 27517
A35: 23 | B35: 5620940968 | C35: Đinh Huy Hoàng | D35: =VLOOKUP(B35,'ĐỢT 2 (3881))'!$B$14:$C$3894,2,0) -> Đinh Huy Hoàng | E35: 5620940968 | F35: 18/10/1998 | G35: Nam | H35: 033 | M35: 12 | N35: 01/01/2019-31/12/2019 | O35: Ninh Sim , Xã Ninh Sim , Thị xã Ninh Hòa , Tỉnh Khánh Hòa | R35: 16002583,16CĐ-CĐT1 | S35: 56 | U35: 572 | W35: 22552
A36: 24 | B36: 8022903862 | C36: Đỗ Ngọc Tùng | D36: =VLOOKUP(B36,'ĐỢT 2 (3881))'!$B$14:$C$3894,2,0) -> Đỗ Ngọc Tùng | E36: 8022903862 | F36: 09/02/1998 | G36: Nam | H36: 025 | M36: 12 | N36: 01/01/2019-31/12/2019 | O36: tổ 12, ấp Tây , Xã Đông Thạnh , Huyện Cần Giuộc , Tỉnh Long An | Q36: 301662577 | R36: 16003823,16CĐ-CĐT1 | S36: 80 | U36: 807 | W36: 28204
A37: 25 | B37: 7938153529 | C37: Tô Thành Luận | D37: =VLOOKUP(B37,'ĐỢT 2 (3881))'!$B$14:$C$3894,2,0) -> Tô Thành Luận | E37: 7938153529 | F37: 19/05/1998 | G37: Nam | H37: 483 | M37: 12 | N37: 01/01/2019-31/12/2019 | O37: B123/bis Nguyễn Văn Quá , Phường Đông Hưng Thuận , Quận 12 , Thành phố Hồ Chí Minh | Q37: 025736724 | R37: 16000869,16CĐ-CNC1 | S37: 79 | U37: 761 | W37: 26788
A38: 26 | B38: 7932472119 | C38: Diệp Chí Vĩ | D38: =VLOOKUP(B38,'ĐỢT 2 (3881))'!$B$14:$C$3894,2,0) -> Diệp Chí Vĩ | E38: 7932472119 | F38: 13/09/1996 | G38: Nam | H38: 033 | M38: 12 | N38: 01/01/2019-31/12/2019 | O38: 412/5 Nguyễn Chí Thanh , Phường 06 , Quận 10 , Thành phố Hồ Chí Minh | Q38: 025333072 | R38: 16000995,16CĐ-CNC1 | S38: 79 | U38: 771 | W38: 27202
A39: 27 | B39: 7938153528 | C39: Nguyễn Quý Thanh Hoài | D39: =VLOOKUP(B39,'ĐỢT 2 (3881))'!$B$14:$C$3894,2,0) -> Nguyễn Quý Thanh Hoài | E39: 7938153528 | F39: 17/01/1998 | G39: Nam | H39: 033 | M39: 12 | N39: 01/01/2019-31/12/2019 | O39: 58/2 Lương Thế Vinh , Phường Tân Thới Hòa , Quận Tân Phú , Thành phố Hồ Chí Minh | Q39: 025702735 | R39: 16001000,16CĐ-CNC1 | S39: 79 | U39: 767 | W39: 27040
A40: 28 | B40: 7020999892 | C40: Lương Tấn Lộc | D40: =VLOOKUP(B40,'ĐỢT 2 (3881))'!$B$14:$C$3894,2,0) -> Lương Tấn Lộc | E40: 7020999892 | F40: 17/02/1998 | G40: Nam | H40: 033 | M40: 12 | N40: 01/01/2019-31/12/2019 | O40: Ấp 7 , Xã Tiến Hưng , Thành Phố Đồng Xoài , Tỉnh Bình Phước | Q40: 285740256 | R40: 16001386,16CĐ-CNC1 | S40: 70 | U40: 689 | W40: 25213
A41: 29 | B41: 7931422040 | C41: Phạm Đan Hào | D41: =VLOOKUP(B41,'ĐỢT 2 (3881))'!$B$14:$C$3894,2,0) -> Phạm Đan Hào | E41: 7931422040 | F41: 21/04/1995 | G41: Nam | H41: 033 | M41: 12 | N41: 01/01/2019-31/12/2019 | O41: 159 Lê Thiệt , Phường Phú Thọ Hòa , Quận Tân Phú , Thành phố Hồ Chí Minh | Q41: 025649436 | R41: 16002144,16CĐ-CNC1 | S41: 79 | U41: 767 | W41: 27025
A42: 30 | B42: 7938079462 | C42: Nguyễn Quốc Bảo | D42: =VLOOKUP(B42,'ĐỢT 2 (3881))'!$B$14:$C$3894,2,0) -> Nguyễn Quốc Bảo | E42: 7938079462 | F42: 28/10/1996 | G42: Nam | H42: 033 | M42: 12 | N42: 01/01/2019-31/12/2019 | O42: Ấp 4 , Xã Tân Thạnh Đông , Huyện Củ Chi , Thành phố Hồ Chí Minh | Q42: 025407578 | R42: 16002509,16CĐ-CNC1 | S42: 79 | U42: 783 | W42: 27547
A43: 31 | B43: 8023476431 | C43: Dương Thanh Hậu | D43: =VLOOKUP(B43,'ĐỢT 2 (3881))'!$B$14:$C$3894,2,0) -> Dương Thanh Hậu | E43: 8023476431 | F43: 24/01/1998 | G43: Nam | H43: 033 | M43: 12 | N43: 01/01/2019-31/12/2019 | O43: 4/4/5 Châu Sở, KP4 , Thị trấn Bến Lức , Huyện Bến Lức , Tỉnh Long An | Q43: 301660102 | R43: 16002749,16CĐ-CNC1 | S43: 80 | U43: 803 | W43: 27991
A44: 32 | B44: 8022518519 | C44: Bùi Đức Tấn Phát | D44: =VLOOKUP(B44,'ĐỢT 2 (3881))'!$B$14:$C$3894,2,0) -> Bùi Đức Tấn Phát | E44: 8022518519 | F44: 23/09/1998 | G44: Nam | H44: 025 | M44: 12 | N44: 01/01/2019-31/12/2019 | O44: 150/4 Ấp An Hòa II , Xã Bình An , Huyện Thủ Thừa , Tỉnh Long An | Q44: 301632410 | R44: 16002778,16CĐ-CNC1 | S44: 80 | U44: 804 | W44: 28054
A45: 33 | B45: 2422056006 | C45: Nguyễn Tiến Anh | D45: =VLOOKUP(B45,'ĐỢT 2 (3881))'!$B$14:$C$3894,2,0) -> Nguyễn Tiến Anh | E45: 2422056006 | F45: 04/02/1998 | G45: Nam | H45: 033 | M45: 12 | N45: 01/01/2019-31/12/2019 | O45: Lục Nam , Thị trấn Lục Nam , Huyện Lục Nam , Tỉnh Bắc Giang | Q45: 122260786 | R45: 16002784,16CĐ-CNC1 | S45: 24 | U45: 218 | W45: 07447
A46: 34 | B46: 5221892022 | C46: Cao Hoài Tấn | D46: =VLOOKUP(B46,'ĐỢT 2 (3881))'!$B$14:$C$3894,2,0) -> Cao Hoài Tấn | E46: 5221892022 | F46: 04/10/1998 | G46: Nam | H46: 033 | M46: 12 | N46: 01/01/2019-31/12/2019 | O46: Thôn Kim Giao Bắc , Xã Hoài Hải , Huyện Hoài Nhơn , Tỉnh Bình Định | Q46: 215462355 | R46: 16002790,16CĐ-CNC1 | S46: 52 | U46: 543 | W46: 21676
A47: 35 | B47: 8022491223 | C47: Phạm Thanh Hải | D47: =VLOOKUP(B47,'ĐỢT 2 (3881))'!$B$14:$C$3894,2,0) -> Phạm Thanh Hải | E47: 8022491223 | F47: 30/10/1998 | G47: Nam | H47: 033 | M47: 12 | N47: 01/01/2019-31/12/2019 | O47: 1/12 Ấp 3 , Thị trấn Thủ Thừa , Huyện Thủ Thừa , Tỉnh Long An | Q47: 301632411 | R47: 16002856,16CĐ-CNC1 | S47: 80 | U47: 804 | W47: 28036
... A58: 46 | B58: 5820762938 | C58: Nguyễn Văn Phi | D58: =VLOOKUP(B58,'ĐỢT 2 (3881))'!$B$14:$C$3894,2,0) -> Nguyễn Văn Phi | E58: 5820762938 | F58: 10/10/1998 | G58: Nam | H58: 033 | M58: 12 | N58: 01/01/2019-31/12/2019 | O58: Lạc Sơn 3 , Xã Cà Ná , Huyện Thuận Nam , Tỉnh Ninh Thuận | Q58: 264512907 | R58: 16000844,16CĐ-CTM1 | S58: 58 | U58: 589 | W58: 22910
A59: 47 | B59: 7938153532 | C59: Phan Công Ty | D59: =VLOOKUP(B59,'ĐỢT 2 (3881))'!$B$14:$C$3894,2,0) -> Phan Công Ty | E59: 7938153532 | F59: 20/07/1998 | G59: Nam | H59: 033 | M59: 12 | N59: 01/01/2019-31/12/2019 | O59: ấp 6 , Xã Vĩnh Lộc A , Huyện Bình Chánh , Thành phố Hồ Chí Minh | R59: 16000854,16CĐ-CTM1 | S59: 79 | U59: 785 | W59: 27601
A60: 48 | B60: 6020002651 | C60: Nguyễn Hoàng Ngân Giang | D60: =VLOOKUP(B60,'ĐỢT 2 (3881))'!$B$14:$C$3894,2,0) -> Nguyễn Hoàng Ngân Giang | E60: 6020002651 | F60: 30/09/1998 | G60: Nam | H60: 033 | M60: 12 | N60: 01/01/2019-31/12/2019 | O60: KP4 , Phường Phú Thủy , Thành phố Phan Thiết , Tỉnh Bình Thuận | Q60: 261543602 | R60: 16000879,16CĐ-CTM1 | S60: 60 | U60: 593 | W60: 22924
A61: 49 | B61: 8023476433 | C61: Bùi Duy Khương | D61: =VLOOKUP(B61,'ĐỢT 2 (3881))'!$B$14:$C$3894,2,0) -> Bùi Duy Khương | E61: 8023476433 | F61: 10/07/1998 | G61: Nam | H61: 033 | M61: 12 | N61: 01/01/2019-31/12/2019 | O61: Tổ 8 , Xã Thủy Đông , Huyện Thạnh Hóa , Tỉnh Long An | Q61: 301643365 | R61: 16000914,16CĐ-CTM1 | S61: 80 | U61: 800 | W61: 27883
A62: 50 | B62: 7933403711 | C62: Nguyễn Huỳnh Sang | D62: =VLOOKUP(B62,'ĐỢT 2 (3881))'!$B$14:$C$3894,2,0) -> Nguyễn Huỳnh Sang | E62: 7933403711 | F62: 31/05/1998 | G62: Nam | H62: 033 | M62: 12 | N62: 01/01/2019-31/12/2019 | O62: 265/1A Phan Văn Khỏe , Phường 05 , Quận 6 , Thành phố Hồ Chí Minh | Q62: 025671454 | R62: 16000925,16CĐ-CTM1 | S62: 79 | U62: 775 | W62: 27361
A63: 51 | B63: 7931317747 | C63: Lê Trần Tuấn Anh | D63: =VLOOKUP(B63,'ĐỢT 2 (3881))'!$B$14:$C$3894,2,0) -> Lê Trần Tuấn Anh | E63: 7931317747 | F63: 23/09/1998 | G63: Nam | H63: 033 | M63: 12 | N63: 01/01/2019-31/12/2019 | O63: 958/51 Lạc Long Quân , Phường 08 , Quận Tân Bình , Thành phố Hồ Chí Minh | Q63: 025727369 | R63: 16000936,16CĐ-CTM1 | S63: 79 | U63: 766 | W63: 26998
A64: 52 | B64: 5220483296 | C64: Hồ Quang Trường | D64: =VLOOKUP(B64,'ĐỢT 2 (3881))'!$B$14:$C$3894,2,0) -> Hồ Quang Trường | E64: 5220483296 | F64: 02/06/1998 | G64: Nam | H64: 033 | M64: 12 | N64: 01/01/2019-31/12/2019 | O64: Đội 4 , Xã Ân Tường Đông , Huyện Hoài Ân , Tỉnh Bình Định | Q64: 215436001 | R64: 16000954,16CĐ-CTM1 | S64: 52 | U64: 544 | W64: 21724
A65: 53 | B65: 7930077825 | C65: Phạm Ngọc Duy | D65: =VLOOKUP(B65,'ĐỢT 2 (3881))'!$B$14:$C$3894,2,0) -> Phạm Ngọc Duy | E65: 7930077825 | F65: 22/12/1998 | G65: Nam | H65: 031 | M65: 12 | N65: 01/01/2019-31/12/2019 | O65: 27/70/45 Đường số 9 , Phường 16 , Quận Gò Vấp , Thành phố Hồ Chí Minh | Q65: 025679657 | R65: 16000960,16CĐ-CTM1 | S65: 79 | U65: 764 | W65: 26878
A66: 54 | B66: 8022201026 | C66: Nguyễn Hồng Sơn | D66: =VLOOKUP(B66,'ĐỢT 2 (3881))'!$B$14:$C$3894,2,0) -> Nguyễn Hồng Sơn | E66: 8022201026 | F66: 09/09/1998 | G66: Nam | H66: 033 | M66: 12 | N66: 01/01/2019-31/12/2019 | O66: 454 Hựu Thạnh , Xã Hựu Thạnh , Huyện Đức Hòa , Tỉnh Long An | Q66: 301673979 | R66: 16000970,16CĐ-CTM1 | S66: 80 | U66: 802 | W66: 27988
A67: 55 | B67: 7938153531 | C67: Đào Văn Minh | D67: =VLOOKUP(B67,'ĐỢT 2 (3881))'!$B$14:$C$3894,2,0) -> Đào Văn Minh | E67: 7938153531 | F67: 19/02/1997 | G67: Nam | H67: 055 | M67: 12 | N67: 01/01/2019-31/12/2019 | O67: B21/28 ấp 2B Vĩnh Lộc B , Xã Vĩnh Lộc A , Huyện Bình Chánh , Thành phố Hồ Chí Minh | Q67: 025647617 | R67: 16000979,16CĐ-CTM1 | S67: 79 | U67: 785 | W67: 27601
A68: 56 | B68: 7526641241 | C68: Phạm Trung Kiên | D68: =VLOOKUP(B68,'ĐỢT 2 (3881))'!$B$14:$C$3894,2,0) -> Phạm Trung Kiên | E68: 7526641241 | F68: 01/10/1998 | G68: Nam | H68: 025 | M68: 12 | N68: 01/01/2019-31/12/2019 | O68: Ấp Thạnh Thọ I , Xã Phú Lâm , Huyện Tân Phú , Tỉnh Đồng Nai | Q68: 272594352 | R68: 16001002,16CĐ-CTM1 | S68: 75 | U68: 734 | W68: 26155
A69: 57 | B69: 8022657381 | C69: Trần Khắc Bình | D69: =VLOOKUP(B69,'ĐỢT 2 (3881))'!$B$14:$C$3894,2,0) -> Trần Khắc Bình | E69: 8022657381 | F69: 10/01/1998 | G69: Nam | H69: 033 | M69: 12 | N69: 01/01/2019-31/12/2019 | O69: Ấp 3 Xã Phước Đông , Xã Phước Đông , Huyện Cần Đước , Tỉnh Long An | Q69: 301653774 | R69: 16002343,16CĐ-CTM1 | S69: 80 | U69: 806 | W69: 28150
A70: 58 | B70: 9423040772 | C70: Vũ Phúc Hậu | D70: =VLOOKUP(B70,'ĐỢT 2 (3881))'!$B$14:$C$3894,2,0) -> Vũ Phúc Hậu | E70: 9423040772 | F70: 21/03/1998 | G70: Nam | H70: 033 | M70: 12 | N70: 01/01/2019-31/12/2019 | O70: 203 ấp Mỹ Đức , Xã Thiện Mỹ , Huyện Châu Thành , Tỉnh Sóc Trăng | Q70: 366177313 | R70: 16002350,16CĐ-CTM1 | S70: 94 | U70: 942 | W70: 31585
A71: 59 | B71: 6624223480 | C71: Nguyễn Văn Tranh | D71: =VLOOKUP(B71,'ĐỢT 2 (3881))'!$B$14:$C$3894,2,0) -> Nguyễn Văn Tranh | E71: 6624223480 | F71: 03/02/1998 | G71: Nam | H71: 029 | M71: 12 | N71: 01/01/2019-31/12/2019 | O71: số nhà 23, thôn Tân Lợi , Xã Ea Uy , Huyện Krông Pắc , Tỉnh Đắk Lắk | Q71: 241735778 | R71: 16002378,16CĐ-CTM1 | S71: 66 | U71: 654 | W71: 24532
A72: 60 | B72: 7222204086 | C72: Trần Tấn Phát | D72: =VLOOKUP(B72,'ĐỢT 2 (3881))'!$B$14:$C$3894,2,0) -> Trần Tấn Phát | E72: 7222204086 | F72: 21/09/1998 | G72: Nam | H72: 033 | M72: 12 | N72: 01/01/2019-31/12/2019 | O72: Huyện Trảng Bàng , Xã Gia Bình , Huyện Trảng Bàng , Tỉnh Tây Ninh | R72: 16002387,16CĐ-CTM1 | S72: 72 | U72: 712 | W72: 25723
A73: 61 | B73: 7930373737 | C73: Nguyễn Lê Hoàng Nam | D73: =VLOOKUP(B73,'ĐỢT 2 (3881))'!$B$14:$C$3894,2,0) -> Nguyễn Lê Hoàng Nam | E73: 7930373737 | F73: 27/12/1998 | G73: Nam | H73: 035 | M73: 12 | N73: 01/01/2019-31/12/2019 | O73: 15/42/3 Nguyễn Du , Phường 07 , Quận Gò Vấp , Thành phố Hồ Chí Minh | Q73: 025716678 | R73: 16002394,16CĐ-CTM1 | S73: 79 | U73: 764 | W73: 26890
A74: 62 | B74: 8023476434 | C74: Nguyễn Chí Bình | D74: =VLOOKUP(B74,'ĐỢT 2 (3881))'!$B$14:$C$3894,2,0) -> Nguyễn Chí Bình | E74: 8023476434 | F74: 02/08/1996 | G74: Nam | H74: 033 | M74: 12 | N74: 01/01/2019-31/12/2019 | O74: Số 32, Ấp 4 , Xã Bình Hòa Đông , Huyện Mộc Hóa , Tỉnh Long An | Q74: 301551292 | R74: 16002430,16CĐ-CTM1 | S74: 80 | U74: 798 | W74: 27811
A75: 63 | B75: 6021552208 | C75: Thạch Lê Anh Tiến | D75: =VLOOKUP(B75,'ĐỢT 2 (3881))'!$B$14:$C$3894,2,0) -> Thạch Lê Anh Tiến | E75: 6021552208 | F75: 25/11/1998 | G75: Nam | H75: 033 | M75: 12 | N75: 01/01/2019-31/12/2019 | O75: Thôn 4 , Xã Đức Hạnh , Huyện Đức Linh , Tỉnh Bình Thuận | Q75: 261507081 | R75: 16002472,16CĐ-CTM1 | S75: 60 | U75: 600 | W75: 23212
A76: 64 | B76: 8723779163 | C76: Lê Chí Đặng | D76: =VLOOKUP(B76,'ĐỢT 2 (3881))'!$B$14:$C$3894,2,0) -> Lê Chí Đặng | E76: 8723779163 | F76: 14/06/1998 | G76: Nam | H76: 033 | M76: 12 | N76: 01/01/2019-31/12/2019 | O76: Số 488, Tổ 14 , Xã Long Khánh A , Huyện Hồng Ngự , Tỉnh Đồng Tháp | Q76: 341959866 | R76: 16002483,16CĐ-CTM1 | S76: 87 | U76: 870 | W76: 29980
A77: 65 | B77: 5120054806 | C77: Bùi Ngọc Vĩnh | D77: =VLOOKUP(B77,'ĐỢT 2 (3881))'!$B$14:$C$3894,2,0) -> Bùi Ngọc Vĩnh | E77: 5120054806 | F77: 19/06/1998 | G77: Nam | H77: 025 | M77: 12 | N77: 01/01/2019-31/12/2019 | O77: Đội 1 Thôn Phú Bình , Xã Tịnh Châu , Thành phố Quảng Ngãi , Tỉnh Quảng Ngãi | Q77: 212484013 | R77: 16002491,16CĐ-CTM1 | S77: 51 | U77: 522 | W77: 21208
A78: 66 | B78: 7938216126 | C78: Võ Đại Hoàng | D78: =VLOOKUP(B78,'ĐỢT 2 (3881))'!$B$14:$C$3894,2,0) -> Võ Đại Hoàng | E78: 7938216126 | F78: 21/04/1998 | G78: Nam | H78: 025 | M78: 12 | N78: 01/01/2019-31/12/2019 | O78: 442 Phạm Văn Chiêu , Phường 09 , Quận Gò Vấp , Thành phố Hồ Chí Minh | Q78: 025679417 | R78: 16002505,16CĐ-CTM1 | S78: 79 | U78: 764 | W78: 26897
A79: 67 | B79: 5120590375 | C79: Lâm Quang Vũ | D79: =VLOOKUP(B79,'ĐỢT 2 (3881))'!$B$14:$C$3894,2,0) -> Lâm Quang Vũ | E79: 5120590375 | F79: 03/04/1998 | G79: Nam | H79: 033 | M79: 12 | N79: 01/01/2019-31/12/2019 | O79: Xóm 3 thôn thu xà , Xã Nghĩa Hòa , Huyện Tư Nghĩa , Tỉnh Quảng Ngãi | Q79: 212430645 | R79: 16002515,16CĐ-CTM1 | S79: 51 | U79: 528 | W79: 21268
A80: 68 | B80: 9123815260 | C80: Nguyễn Văn Hận | D80: =VLOOKUP(B80,'ĐỢT 2 (3881))'!$B$14:$C$3894,2,0) -> Nguyễn Văn Hận | E80: 9123815260 | F80: 15/12/1997 | G80: Nam | H80: 033 | M80: 12 | N80: 01/01/2019-31/12/2019 | O80: Huyện Gò Quao , Xã Vĩnh Hòa Hưng Bắc , Huyện Gò Quao , Tỉnh Kiên Giang | R80: 16002529,16CĐ-CTM1 | S80: 91 | U80: 907 | W80: 30955
A81: 69 | B81: 9122704445 | C81: Hồ Tấn Tài | D81: =VLOOKUP(B81,'ĐỢT 2 (3881))'!$B$14:$C$3894,2,0) -> Hồ Tấn Tài | E81: 9122704445 | F81: 08/10/1998 | G81: Nam | H81: 033 | M81: 12 | N81: 01/01/2019-31/12/2019 | O81: ấp 4 , Xã Vĩnh Hòa Hưng Bắc , Huyện Gò Quao , Tỉnh Kiên Giang | R81: 16002530,16CĐ-CTM1 | S81: 91 | U81: 907 | W81: 30955
A82: 70 | B82: 7928488146 | C82: Trần Hữu Nhân | D82: =VLOOKUP(B82,'ĐỢT 2 (3881))'!$B$14:$C$3894,2,0) -> Trần Hữu Nhân | E82: 7928488146 | F82: 20/05/1998 | G82: Nam | H82: 029 | M82: 12 | N82: 01/01/2019-31/12/2019 | O82: 54/15A khu phố 4 , Phường Tân Chánh Hiệp , Quận 12 , Thành phố Hồ Chí Minh | Q82: 025689420 | R82: 16002562,16CĐ-CTM1 | S82: 79 | U82: 761 | W82: 26776
A83: 71 | B83: 7937444304 | C83: Lưu Sáng Thành | D83: =VLOOKUP(B83,'ĐỢT 2 (3881))'!$B$14:$C$3894,2,0) -> Lưu Sáng Thành | E83: 7937444304 | F83: 31/05/1998 | G83: Nam | H83: 028 | M83: 12 | N83: 01/01/2019-31/12/2019 | O83: 202 Bình Tiên , Phường 04 , Quận 6 , Thành phố Hồ Chí Minh | Q83: 025754756 | R83: 16002573,16CĐ-CTM1 | S83: 79 | U83: 775 | W83: 27373
A84: 72 | B84: 5221225421 | C84: Phạm Văn Ngọc | D84: =VLOOKUP(B84,'ĐỢT 2 (3881))'!$B$14:$C$3894,2,0) -> Phạm Văn Ngọc | E84: 5221225421 | F84: 24/06/1998 | G84: Nam | H84: 033 | M84: 12 | N84: 01/01/2019-31/12/2019 | O84: xóm Giữa, thôn Tráng Long , Xã Nhơn Lộc , Thị xã An Nhơn , Tỉnh Bình Định | Q84: 215426056 | R84: 16002578,16CĐ-CTM1 | S84: 52 | U84: 549 | W84: 21940
A85: 73 | B85: 7938216127 | C85: Lê Thành Đạt | D85: =VLOOKUP(B85,'ĐỢT 2 (3881))'!$B$14:$C$3894,2,0) -> Lê Thành Đạt | E85: 7938216127 | F85: 15/10/1997 | G85: Nam | H85: 033 | M85: 12 | N85: 01/01/2019-31/12/2019 | O85: 161/1/82 Nguyễn Duy , Phường 14 , Quận 8 , Thành phố Hồ Chí Minh | Q85: 025725438 | R85: 16002580,16CĐ-CTM1 | S85: 79 | U85: 776 | W85: 27421
A86: 74 | B86: 7933228730 | C86: Trần Quang Thịnh | D86: =VLOOKUP(B86,'ĐỢT 2 (3881))'!$B$14:$C$3894,2,0) -> Trần Quang Thịnh | E86: 7933228730 | F86: 15/12/1998 | G86: Nam | H86: 033 | M86: 12 | N86: 01/01/2019-31/12/2019 | O86: 897/68 trần hưng đạo , Phường 01 , Quận 5 , Thành phố Hồ Chí Minh | Q86: 025692608 | R86: 16002581,16CĐ-CTM1 | S86: 79 | U86: 774 | W86: 27325
A87: 75 | B87: 7938153535 | C87: Thái Thành Nhân | D87: =VLOOKUP(B87,'ĐỢT 2 (3881))'!$B$14:$C$3894,2,0) -> Thái Thành Nhân | E87: 7938153535 | F87: 06/10/1997 | G87: Nam | H87: 033 | M87: 12 | N87: 01/01/2019-31/12/2019 | O87: 127/5 N1, Âu Cơ , Phường 14 , Quận 11 , Thành phố Hồ Chí Minh | R87: 16002597,16CĐ-CTM1 | S87: 79 | U87: 772 | W87: 27214
A88: 76 | B88: 8925116416 | C88: Phan Văn Ngân Giang | D88: =VLOOKUP(B88,'ĐỢT 2 (3881))'!$B$14:$C$3894,2,0) -> Phan Văn Ngân Giang | E88: 8925116416 | F88: 28/03/1997 | G88: Nam | H88: 031 | M88: 12 | N88: 01/01/2019-31/12/2019 | O88: Ấp Long Phú 2 , Xã Long Điền B , Huyện Chợ Mới , Tỉnh An Giang | Q88: 352477912 | R88: 16003297,16CĐ-CTM1 | S88: 89 | U88: 893 | W88: 30646
A89: 77 | B89: 7930119252 | C89: Võ Gia Hưng | D89: =VLOOKUP(B89,'ĐỢT 2 (3881))'!$B$14:$C$3894,2,0) -> Võ Gia Hưng | E89: 7930119252 | F89: 11/07/1998 | G89: Nam | H89: 033 | M89: 12 | N89: 01/01/2019-31/12/2019 | O89: 796/2/15 Lê Đức Thọ , Phường 15 , Quận Gò Vấp , Thành phố Hồ Chí Minh | Q89: 025679749 | R89: 16003828,16CĐ-CTM1 | S89: 79 | U89: 764 | W89: 26869
A90: 78 | B90: 3421051771 | C90: Nguyễn Hữu Hoàng | D90: =VLOOKUP(B90,'ĐỢT 2 (3881))'!$B$14:$C$3894,2,0) -> Nguyễn Hữu Hoàng | E90: 3421051771 | F90: 29/03/1997 | G90: Nam | H90: 025 | M90: 12 | N90: 01/01/2019-31/12/2019 | O90: Thụy Thanh , Xã Thụy Thanh , Huyện Thái Thụy , Tỉnh Thái Bình | Q90: 152186203 | R90: 15002892,16CĐ-CTM2 | S90: 34 | U90: 341 | W90: 12898
A91: 79 | B91: 7722287893 | C91: Bùi Thanh Phúc | D91: =VLOOKUP(B91,'ĐỢT 2 (3881))'!$B$14:$C$3894,2,0) -> Bùi Thanh Phúc | E91: 7722287893 | F91: 23/05/1998 | G91: Nam | H91: 033 | M91: 12 | N91: 01/01/2019-31/12/2019 | O91: Tổ 8 - Thôn Tân Hạnh , Phường Phú Mỹ , Thị xã Phú Mỹ , Tỉnh Bà Rịa - Vũng Tàu | Q91: 273681750 | R91: 16002196,16CĐ-CTM2 | S91: 77 | U91: 754 | W91: 26704
A92: 80 | B92: 6020494933 | C92: Nguyễn Vương Vũ | D92: =VLOOKUP(B92,'ĐỢT 2 (3881))'!$B$14:$C$3894,2,0) -> Nguyễn Vương Vũ | E92: 6020494933 | F92: 25/02/1998 | G92: Nam | H92: 033 | M92: 12 | N92: 01/01/2019-31/12/2019 | O92: An trung , Xã Bình An , Huyện Bắc Bình , Tỉnh Bình Thuận | Q92: 261414373 | R92: 16002516,16CĐ-CTM2 | S92: 60 | U92: 596 | W92: 23014
A93: 81 | B93: 5620841170 | C93: Lê Ngọc Vinh | D93: =VLOOKUP(B93,'ĐỢT 2 (3881))'!$B$14:$C$3894,2,0) -> Lê Ngọc Vinh | E93: 5620841170 | F93: 06/11/1998 | G93: Nam | H93: 033 | M93: 12 | N93: 01/01/2019-31/12/2019 | O93: Thị xã Ninh Hoà , Xã Ninh Trung , Thị xã Ninh Hòa , Tỉnh Khánh Hòa | R93: 16002611,16CĐ-CTM2 | S93: 56 | U93: 572 | W93: 22549
A94: 82 | B94: 8223353000 | C94: Nguyễn Duy Tân | D94: =VLOOKUP(B94,'ĐỢT 2 (3881))'!$B$14:$C$3894,2,0) -> Nguyễn Duy Tân | E94: 8223353000 | F94: 09/10/1998 | G94: Nam | H94: 033 | M94: 12 | N94: 01/01/2019-31/12/2019 | O94: 108 Ấp Giá Trên , Xã Kiểng Phước , Huyện Gò Công Đông , Tỉnh Tiền Giang | Q94: 312363310 | R94: 16002612,16CĐ-CTM2 | S94: 82 | U94: 824 | W94: 28726
A95: 83 | B95: 7931797634 | C95: Lương Xuân Hải | D95: =VLOOKUP(B95,'ĐỢT 2 (3881))'!$B$14:$C$3894,2,0) -> Lương Xuân Hải | E95: 7931797634 | F95: 14/12/1997 | G95: Nam | H95: 033 | M95: 12 | N95: 01/01/2019-31/12/2019 | O95: 49/40/14 Trịnh Đình Trọng , Phường Phú Trung , Quận Tân Phú , Thành phố Hồ Chí Minh | Q95: 025764514 | R95: 16002623,16CĐ-CTM2 | S95: 79 | U95: 767 | W95: 27031
A96: 84 | B96: 7938153538 | C96: Ngô Anh Chiến | D96: =VLOOKUP(B96,'ĐỢT 2 (3881))'!$B$14:$C$3894,2,0) -> Ngô Anh Chiến | E96: 7938153538 | F96: 12/05/1997 | G96: Nam | H96: 029 | M96: 12 | N96: 01/01/2019-31/12/2019 | O96: 161, Tiểu đoàn Trinh sát 47 , Phường Trung Mỹ Tây , Quận 12 , Thành phố Hồ Chí Minh | Q96: 301604195 | R96: 16002679,16CĐ-CTM2 | S96: 79 | U96: 761 | W96: 26785
A97: 85 | B97: 6623108910 | C97: Ngô Thành Công | D97: =VLOOKUP(B97,'ĐỢT 2 (3881))'!$B$14:$C$3894,2,0) -> Ngô Thành Công | E97: 6623108910 | F97: 03/09/1998 | G97: Nam | H97: 033 | M97: 12 | N97: 01/01/2019-31/12/2019 | O97: Thôn 14 , Xã Ea Riêng , Huyện M'Đrắk , Tỉnh Đắk Lắk | Q97: 241699334 | R97: 16002683,16CĐ-CTM2 | S97: 66 | U97: 652 | W97: 24433
A98: 86 | B98: 5221892023 | C98: Phạm Quang Huy | D98: =VLOOKUP(B98,'ĐỢT 2 (3881))'!$B$14:$C$3894,2,0) -> #N/A | E98: 5221892023 | F98: 01/09/1998 | G98: Nam | H98: 033 | M98: 12 | N98: 01/01/2019-31/12/2019 | O98: Mỹ An , Xã Mỹ An , Huyện Phù Mỹ , Tỉnh Bình Định | Q98: 215427867 | R98: 16002713,16CĐ-CTM2 | S98: 52 | U98: 545 | W98: 21751
A99: 87 | B99: 8022270594 | C99: Nguyễn Lê Duy Minh | D99: =VLOOKUP(B99,'ĐỢT 2 (3881))'!$B$14:$C$3894,2,0) -> Nguyễn Lê Duy Minh | E99: 8022270594 | F99: 27/01/1998 | G99: Nam | H99: 033 | M99: 12 | N99: 01/01/2019-31/12/2019 | O99: Huyện Bến Lức , Xã Tân Bửu , Huyện Bến Lức , Tỉnh Long An | R99: 16002721,16CĐ-CTM2 | S99: 80 | U99: 803 | W99: 28009
A100: 88 | B100: 7938216132 | C100: Hoàng Đức Long | D100: =VLOOKUP(B100,'ĐỢT 2 (3881))'!$B$14:$C$3894,2,0) -> Hoàng Đức Long | E100: 7938216132 | F100: 10/12/1998 | G100: Nam | H100: 033 | M100: 12 | N100: 01/01/2019-31/12/2019 | O100: 212/61/4 Nguyễn Thiện Thuật , Phường 03 , Quận 3 , Thành phố Hồ Chí Minh | Q100: 079098000811 | R100: 16002725,16CĐ-CTM2 | S100: 79 | U100: 770 | W100: 27154
A101: 89 | B101: 8223941147 | C101: Nguyễn Thiện Quang | D101: =VLOOKUP(B101,'ĐỢT 2 (3881))'!$B$14:$C$3894,2,0) -> Nguyễn Thiện Quang | E101: 8223941147 | F101: 26/02/1998 | G101: Nam | H101: 033 | M101: 12 | N101: 01/01/2019-31/12/2019 | O101: Số 249 Tổ 7, Ấp An Hiệp , Xã Đông Hòa Hiệp , Huyện Cái Bè , Tỉnh Tiền Giang | Q101: 312453942 | R101: 16002738,16CĐ-CTM2 | S101: 82 | U101: 819 | W101: 28411
A102: 90 | B102: 7931312816 | C102: Nguyễn Xuân Trường | D102: =VLOOKUP(B102,'ĐỢT 2 (3881))'!$B$14:$C$3894,2,0) -> Nguyễn Xuân Trường | E102: 7931312816 | F102: 09/10/1998 | G102: Nam | H102: 033 | M102: 12 | N102: 01/01/2019-31/12/2019 | O102: Số 02, Đồng Khởi , Phường 04 , Quận Tân Bình , Thành phố Hồ Chí Minh | Q102: 025699239 | R102: 16002742,16CĐ-CTM2 | S102: 79 | U102: 766 | W102: 26968
A103: 91 | B103: 7931935159 | C103: Nguyễn Ngọc Sang | D103: =VLOOKUP(B103,'ĐỢT 2 (3881))'!$B$14:$C$3894,2,0) -> Nguyễn Ngọc Sang | E103: 7931935159 | F103: 22/10/1997 | G103: Nam | H103: 033 | M103: 12 | N103: 01/01/2019-31/12/2019 | O103: 87/37/1 Nguyễn Đình Chính , Phường 15 , Quận Phú Nhuận , Thành phố Hồ Chí Minh | Q103: 079097002271 | R103: 16002767,16CĐ-CTM2 | S103: 79 | U103: 768 | W103: 27067
A104: 92 | B104: 8925104504 | C104: Trương Bảo Nhớ | D104: =VLOOKUP(B104,'ĐỢT 2 (3881))'!$B$14:$C$3894,2,0) -> Trương Bảo Nhớ | E104: 8925104504 | F104: 26/09/1998 | G104: Nam | H104: 033 | M104: 12 | N104: 01/01/2019-31/12/2019 | O104: 160,tổ 2-ấp Long Hoà 2 , Xã Long Hòa , Huyện Phú Tân , Tỉnh An Giang | Q104: 352394446 | R104: 16002769,16CĐ-CTM2 | S104: 89 | U104: 888 | W104: 30415
A105: 93 | B105: 7938153537 | C105: Bùi Duy Thuận | D105: =VLOOKUP(B105,'ĐỢT 2 (3881))'!$B$14:$C$3894,2,0) -> Bùi Duy Thuận | E105: 7938153537 | F105: 07/01/1997 | G105: Nam | H105: 033 | M105: 12 | N105: 01/01/2019-31/12/2019 | O105: Đức Hiệp , Xã Nhuận Đức , Huyện Củ Chi , Thành phố Hồ Chí Minh | Q105: 025651175 | R105: 16002779,16CĐ-CTM2 | S105: 79 | U105: 783 | W105: 27511
A106: 94 | B106: 7022213565 | C106: Phạm Viết Thành Đạt | D106: =VLOOKUP(B106,'ĐỢT 2 (3881))'!$B$14:$C$3894,2,0) -> Phạm Viết Thành Đạt | E106: 7022213565 | F106: 13/12/1998 | G106: Nam | H106: 033 | M106: 12 | N106: 01/01/2019-31/12/2019 | O106: ấp 8 , Xã Lộc Điền , Huyện Lộc Ninh , Tỉnh Bình Phước | R106: 16002810,16CĐ-CTM2 | S106: 70 | U106: 692 | W106: 25300
A107: 95 | B107: 6622857600 | C107: Trần Văn Hưng | D107: =VLOOKUP(B107,'ĐỢT 2 (3881))'!$B$14:$C$3894,2,0) -> Trần Văn Hưng | E107: 6622857600 | F107: 10/04/1998 | G107: Nam | H107: 025 | M107: 12 | N107: 01/01/2019-31/12/2019 | O107: Lộc Tiến , Xã Phú Lộc , Huyện Krông Năng , Tỉnh Đắk Lắk | Q107: 241708230 | R107: 16002826,16CĐ-CTM2 | S107: 66 | U107: 650 | W107: 24355
A108: 96 | B108: 5221103533 | C108: Huỳnh Văn Tín | D108: =VLOOKUP(B108,'ĐỢT 2 (3881))'!$B$14:$C$3894,2,0) -> Huỳnh Văn Tín | E108: 5221103533 | F108: 24/07/1998 | G108: Nam | H108: 033 | M108: 12 | N108: 01/01/2019-31/12/2019 | O108: Tam Hòa , Xã Nhơn Phong , Thị xã An Nhơn , Tỉnh Bình Định | Q108: 215454831 | R108: 16002827,16CĐ-CTM2 | S108: 52 | U108: 549 | W108: 21925
A109: 97 | B109: 8223243164 | C109: Huỳnh Hoàng Nguyên | D109: =VLOOKUP(B109,'ĐỢT 2 (3881))'!$B$14:$C$3894,2,0) -> Huỳnh Hoàng Nguyên | E109: 8223243164 | F109: 23/07/1998 | G109: Nam | H109: 017 | M109: 12 | N109: 01/01/2019-31/12/2019 | O109: Thành Công , Xã Thành Công , Huyện Gò Công Tây , Tỉnh Tiền Giang | Q109: 312359677 | R109: 16002860,16CĐ-CTM2 | S109: 82 | U109: 823 | W109: 28663
A110: 98 | B110: 8422412468 | C110: Lê Thanh Hoàng | D110: =VLOOKUP(B110,'ĐỢT 2 (3881))'!$B$14:$C$3894,2,0) -> Lê Thanh Hoàng | E110: 8422412468 | F110: 01/01/1998 | G110: Nam | H110: 033 | M110: 12 | N110: 01/01/2019-31/12/2019 | O110: 529,ấp Giữa , Xã Kim Hòa , Huyện Cầu Ngang , Tỉnh Trà Vinh | Q110: 334940084 | R110: 16002911,16CĐ-CTM2 | S110: 84 | U110: 848 | W110: 29434
A111: 99 | B111: 7931575100 | C111: Trương Thành Đạt | D111: =VLOOKUP(B111,'ĐỢT 2 (3881))'!$B$14:$C$3894,2,0) -> Trương Thành Đạt | E111: 7931575100 | F111: 17/03/1998 | G111: Nam | H111: 055 | M111: 12 | N111: 01/01/2019-31/12/2019 | O111: 337/18 Thạch Lam , Phường Phú Thạnh , Quận Tân Phú , Thành phố Hồ Chí Minh | Q111: 025702907 | R111: 16002945,16CĐ-CTM2 | S111: 79 | U111: 767 | W111: 27028
A112: 100 | B112: 7022210134 | C112: Trần Ngọc Hiền | D112: =VLOOKUP(B112,'ĐỢT 2 (3881))'!$B$14:$C$3894,2,0) -> Trần Ngọc Hiền | E112: 7022210134 | F112: 07/09/1996 | G112: Nam | H112: 055 | M112: 12 | N112: 01/01/2019-31/12/2019 | O112: Long Bình , Xã Long Bình , Huyện Phú Riềng , Tỉnh Bình Phước | Q112: 285558485 | R112: 16002973,16CĐ-CTM2 | S112: 70 | U112: 698 | W112: 25240
A113: 101 | B113: 5220273215 | C113: Võ Chí Bảo | D113: =VLOOKUP(B113,'ĐỢT 2 (3881))'!$B$14:$C$3894,2,0) -> Võ Chí Bảo | E113: 5220273215 | F113: 24/02/1998 | G113: Nam | H113: 033 | M113: 12 | N113: 01/01/2019-31/12/2019 | O113: Xã Hoài Thương , Xã Hoài Hương , Huyện Hoài Nhơn , Tỉnh Bình Định | Q113: 215464534 | R113: 16002987,16CĐ-CTM2 | S113: 52 | U113: 543 | W113: 21670
A114: 102 | B114: 7930826126 | C114: Phạm Gia Lâm | D114: =VLOOKUP(B114,'ĐỢT 2 (3881))'!$B$14:$C$3894,2,0) -> Phạm Gia Lâm | E114: 7930826126 | F114: 12/02/1998 | G114: Nam | H114: 031 | M114: 12 | N114: 01/01/2019-31/12/2019 | O114: 245/33F, Nơ Trang Long , Phường 11 , Quận Bình Thạnh , Thành phố Hồ Chí Minh | Q114: 025906918 | R114: 16003032,16CĐ-CTM2 | S114: 79 | U114: 765 | W114: 26908
A115: 103 | B115: 7938079467 | C115: Lê Văn Thành Đạt | D115: =VLOOKUP(B115,'ĐỢT 2 (3881))'!$B$14:$C$3894,2,0) -> Lê Văn Thành Đạt | E115: 7938079467 | F115: 17/12/1998 | G115: Nam | H115: 033 | M115: 12 | N115: 01/01/2019-31/12/2019 | O115: 96/2 Võ Thành Trang , Phường 11 , Quận Tân Bình , Thành phố Hồ Chí Minh | Q115: 025749031 | R115: 16003096,16CĐ-CTM2 | S115: 79 | U115: 766 | W115: 26983
A116: 104 | B116: 8022499645 | C116: Cao Ngọc Chí | D116: =VLOOKUP(B116,'ĐỢT 2 (3881))'!$B$14:$C$3894,2,0) -> Cao Ngọc Chí | E116: 8022499645 | F116: 17/11/1997 | G116: Nam | H116: 033 | M116: 12 | N116: 01/01/2019-31/12/2019 | O116: Ấp 3, Long Thuận , Xã Long Thuận , Huyện Thủ Thừa , Tỉnh Long An | Q116: 301631841 | R116: 16003104,16CĐ-CTM2 | S116: 80 | U116: 804 | W116: 28045
A117: 105 | B117: 6624223481 | C117: Trần Văn Hoàng | D117: =VLOOKUP(B117,'ĐỢT 2 (3881))'!$B$14:$C$3894,2,0) -> Trần Văn Hoàng | E117: 6624223481 | F117: 24/06/1998 | G117: Nam | H117: 033 | M117: 12 | N117: 01/01/2019-31/12/2019 | O117: Thôn 10 , Xã Ea Riêng , Huyện M'Đrắk , Tỉnh Đắk Lắk | Q117: 241698727 | R117: 16003229,16CĐ-CTM2 | S117: 66 | U117: 652 | W117: 24433
...

Sheet ĐỢT 2 (3881))
A1: Tên đơn vị: TRƯỜNG CAO ĐẲNG LÝ TỰ TRỌNG THÀNH PHỐ HỒ CHÍ MINH
A2: Mã đơn vị: BD0240
A3: Địa chỉ: 390 Hoàng Văn Thụ,Phường 4,Quận Tân Bình, Thành Phố Hồ Chí Minh
A4: DANH SÁCH NGƯỜI CHỈ THAM GIA BẢO HIỂM Y TẾ
A5: Số: 22 tháng 10 năm 2018
C8: Đối tượng tham gia | I8: Lương cơ sở: ……………… đồng
A11: STT | B11: Mã số BHXH | C11: Họ và tên(GỬI NGỌC TUYẾT 20/12/2018) | F11: Mã số BHXH | G11: Ngày tháng năm sinh | H11: Giới tính | I11: Nơi đăng ký KCB ban đầu | J11: Biên lai, ngày tham gia | L11: Tiền lương, trợ cấp hoặc số tiền đóng | M11: Tỷ lệ NS hỗ trợ (%) | N11: Thời hạn sử dụng thẻ | P11: Ghi chú
J12: Số | K12: Ngày | N12: Số tháng | O12: Từ ngày | P12: ĐỊA CHỈ ĐÃ TÌM | Q12: Số CMND | R12: mã PB | T12: mã huyện KS | V12: mã xã KS
A13: A | B13: 1 | C13: B | F13: 1 | G13: 2 | H13: 3 | I13: 4 | J13: 5 | K13: 6 | M13: 8 | N13: 9 | O13: 10
A14: 1 | B14: 5121599909 | C14: Trần Mai Anh Khoa | D14: =VLOOKUP(B14,'LYTUTRONG KHOA 2018(3881)'!$C$13:$D$3892,2,0) -> Trần Mai Anh Khoa | E14: SV4795121599909 | F14: 5121599909 | G14: 22/08/1998 | H14: Nam | I14: 033 | P14: Đội 10 Thôn Phú Châu , Xã Hành Đức , Huyện Nghĩa Hành , Tỉnh Quảng Ngãi | Q14: 212460278 | R14: 16001948;16CĐ-CĐ1 | S14: 51 | T14: 532 | V14: 21379
A15: 2 | B15: 7526634650 | C15: Nguyễn Hoàng Phúc | D15: =VLOOKUP(B15,'LYTUTRONG KHOA 2018(3881)'!$C$13:$D$3892,2,0) -> Nguyễn Hoàng Phúc | E15: SV4797526634650 | F15: 7526634650 | G15: 08/08/1998 | H15: Nam | I15: 033 | P15: Tâm Bình , Xã Bình Minh , Huyện Trảng Bom , Tỉnh Đồng Nai | Q15: 272636857 | R15: 16002329;16CĐ-CĐ1 | S15: 75 | T15: 737 | V15: 26278
A16: 3 | B16: 7934884731 | C16: Cao Minh Trí | D16: =VLOOKUP(B16,'LYTUTRONG KHOA 2018(3881)'!$C$13:$D$3892,2,0) -> Cao Minh Trí | E16: SV4797934884731 | F16: 7934884731 | G16: 30/07/1998 | H16: Nam | I16: 040 | P16: 656 Quốc lộ 22 Ấp Phước Hưng , Xã Phước Thạnh , Huyện Củ Chi , Thành phố Hồ Chí Minh | Q16: 025802773 | R16: 16002358;16CĐ-CĐ1 | S16: 79 | T16: 783 | V16: 27526
A17: 4 | B17: 7935545512 | C17: Lê Trọng Nhân | D17: =VLOOKUP(B17,'LYTUTRONG KHOA 2018(3881)'!$C$13:$D$3892,2,0) -> Lê Trọng Nhân | E17: SV4797935545512 | F17: 7935545512 | G17: 06/01/1998 | H17: Nam | I17: 033 | P17: 56/3 Ấp Tiền Lân 1 , Xã Bà Điểm , Huyện Hóc Môn , Thành phố Hồ Chí Minh | Q17: 025766955 | R17: 16002376;16CĐ-CĐ1 | S17: 79 | T17: 784 | V17: 27592
A18: 5 | B18: 5220050901 | C18: Trương Văn Hoàng | D18: =VLOOKUP(B18,'LYTUTRONG KHOA 2018(3881)'!$C$13:$D$3892,2,0) -> Trương Văn Hoàng | E18: SV4795220050901 | F18: 5220050901 | G18: 08/07/1998 | H18: Nam | I18: 031 | P18: 66 Lý Thái Tổ , Phường Nguyễn Văn Cừ , Thành phố Quy Nhơn , Tỉnh Bình Định | Q18: 215447475 | R18: 16002422;16CĐ-CĐ1 | S18: 52 | T18: 540 | V18: 21592
A19: 6 | B19: 5421055359 | C19: Lê Hữu Nghĩa | D19: =VLOOKUP(B19,'LYTUTRONG KHOA 2018(3881)'!$C$13:$D$3892,2,0) -> Lê Hữu Nghĩa | E19: SV4795421055359 | F19: 5421055359 | G19: 20/01/1995 | H19: Nam | I19: 017 | P19: Thôn Bàn Thạch , Xã Hòa Xuân Đông , Huyện Đông Hòa , Tỉnh Phú Yên | Q19: 221398947 | R19: 16002442;16CĐ-CĐ1 | S19: 54 | T19: 564 | V19: 22291
A20: 7 | B20: 7938153525 | C20: Nguyễn Hùng Lân | D20: =VLOOKUP(B20,'LYTUTRONG KHOA 2018(3881)'!$C$13:$D$3892,2,0) -> Nguyễn Hùng Lân | E20: SV4797938153525 | F20: 7938153525 | G20: 12/02/1998 | H20: Nam | I20: 033 | P20: 2562 Phạm Thế Hiển , Phường 07 , Quận 8 , Thành phố Hồ Chí Minh | Q20: 251115413 | R20: 16002502;16CĐ-CĐ1 | S20: 79 | T20: 776 | V20: 27433
A21: 8 | B21: 3321498463 | C21: Phạm Ngọc Hiệp | D21: =VLOOKUP(B21,'LYTUTRONG KHOA 2018(3881)'!$C$13:$D$3892,2,0) -> Phạm Ngọc Hiệp | E21: SV4793321498463 | F21: 3321498463 | G21: 18/12/1996 | H21: Nam | I21: 034 | P21: Chính Nghĩa , Xã Chính Nghĩa , Huyện Kim Động , Tỉnh Hưng Yên | Q21: 145761782 | R21: 16002534;16CĐ-CĐ1 | S21: 33 | T21: 331 | V21: 12304
A22: 9 | B22: 6624223479 | C22: Võ Hoàng Phát | D22: =VLOOKUP(B22,'LYTUTRONG KHOA 2018(3881)'!$C$13:$D$3892,2,0) -> Võ Hoàng Phát | E22: SV4796624223479 | F22: 6624223479 | G22: 21/02/1998 | H22: Nam | I22: 033 | P22: Khối 3 TT Eakar Nốp , Thị trấn Ea Kar , Huyện Ea Kar , Tỉnh Đắk Lắk | Q22: 241716665 | R22: 16003355;16CĐ-CĐ1 | S22: 66 | T22: 651 | V22: 24373
A23: 10 | B23: 8222683277 | C23: Nguyễn Hoàng Khải Hưng | D23: =VLOOKUP(B23,'LYTUTRONG KHOA 2018(3881)'!$C$13:$D$3892,2,0) -> Nguyễn Hoàng Khải Hưng | E23: SV4798222683277 | F23: 8222683277 | G23: 27/07/1998 | H23: Nam | I23: 054 | P23: 396 Tân An , Xã Tân Phong , Huyện Cai Lậy , Tỉnh Tiền Giang | Q23: 312370292 | R23: 16003476;16CĐ-CĐ1 | S23: 82 | T23: 820 | V23: 28510
A24: 11 | B24: 5820579468 | C24: Nguyễn Văn Xã | D24: =VLOOKUP(B24,'LYTUTRONG KHOA 2018(3881)'!$C$13:$D$3892,2,0) -> Nguyễn Văn Xã | E24: SV4795820579468 | F24: 5820579468 | G24: 06/04/1998 | H24: Nam | I24: 033 | P24: Lạc nghiệp 1 , Xã Cà Ná , Huyện Thuận Nam , Tỉnh Ninh Thuận | Q24: 264512913 | R24: 16003877;16CĐ-CĐ1 | S24: 58 | T24: 589 | V24: 22910
A25: 12 | B25: 5120847688 | C25: Võ Tấn Bằng | D25: =VLOOKUP(B25,'LYTUTRONG KHOA 2018(3881)'!$C$13:$D$3892,2,0) -> Võ Tấn Bằng | E25: SV4795120847688 | F25: 5120847688 | G25: 14/09/1998 | H25: Nam | I25: 033 | P25: Xã Hành Đức , Xã Hành Đức , Huyện Nghĩa Hành , Tỉnh Quảng Ngãi | Q25: 212799844 | R25: 16000727;16CĐ-CĐT1 | S25: 51 | T25: 532 | V25: 21379
... A30: 17 | B30: 7934899107 | C30: Phan Hoài Phương | D30: =VLOOKUP(B30,'LYTUTRONG KHOA 2018(3881)'!$C$13:$D$3892,2,0) -> Phan Hoài Phương | E30: SV4797934899107 | F30: 7934899107 | G30: 13/11/1998 | H30: Nam | I30: 033 | P30: 780/5A Ấp Phú Mỹ , Xã Phú Hòa Đông , Huyện Củ Chi , Thành phố Hồ Chí Minh | Q30: 025759046 | R30: 16002579;16CĐ-CĐT1 | S30: 79 | T30: 783 | V30: 27517
A31: 18 | B31: 5620940968 | C31: Đinh Huy Hoàng | D31: =VLOOKUP(B31,'LYTUTRONG KHOA 2018(3881)'!$C$13:$D$3892,2,0) -> Đinh Huy Hoàng | E31: SV4795620940968 | F31: 5620940968 | G31: 18/10/1998 | H31: Nam | I31: 033 | P31: Ninh Sim , Xã Ninh Sim , Thị xã Ninh Hòa , Tỉnh Khánh Hòa | R31: 16002583;16CĐ-CĐT1 | S31: 56 | T31: 572 | V31: 22552
A32: 19 | B32: 8022903862 | C32: Đỗ Ngọc Tùng | D32: =VLOOKUP(B32,'LYTUTRONG KHOA 2018(3881)'!$C$13:$D$3892,2,0) -> Đỗ Ngọc Tùng | E32: SV4798022903862 | F32: 8022903862 | G32: 09/02/1998 | H32: Nam | I32: 025 | P32: tổ 12 ấp Tây , Xã Đông Thạnh , Huyện Cần Giuộc , Tỉnh Long An | Q32: 301662577 | R32: 16003823;16CĐ-CĐT1 | S32: 80 | T32: 807 | V32: 28204
A33: 20 | B33: 7938153529 | C33: Tô Thành Luận | D33: =VLOOKUP(B33,'LYTUTRONG KHOA 2018(3881)'!$C$13:$D$3892,2,0) -> Tô Thành Luận | E33: SV4797938153529 | F33: 7938153529 | G33: 19/05/1998 | H33: Nam | I33: 483 | P33: B123/bis Nguyễn Văn Quá , Phường Đông Hưng Thuận , Quận 12 , Thành phố Hồ Chí Minh | Q33: 025736724 | R33: 16000869;16CĐ-CNC1 | S33: 79 | T33: 761 | V33: 26788
A34: 21 | B34: 7932472119 | C34: Diệp Chí Vĩ | D34: =VLOOKUP(B34,'LYTUTRONG KHOA 2018(3881)'!$C$13:$D$3892,2,0) -> Diệp Chí Vĩ | E34: SV4797932472119 | F34: 7932472119 | G34: 13/09/1996 | H34: Nam | I34: 033 | P34: 412/5 Nguyễn Chí Thanh , Phường 06 , Quận 10 , Thành phố Hồ Chí Minh | Q34: 025333072 | R34: 16000995;16CĐ-CNC1 | S34: 79 | T34: 771 | V34: 27202
A35: 22 | B35: 7938153528 | C35: Nguyễn Quý Thanh Hoài | D35: =VLOOKUP(B35,'LYTUTRONG KHOA 2018(3881)'!$C$13:$D$3892,2,0) -> Nguyễn Quý Thanh Hoài | E35: SV4797938153528 | F35: 7938153528 | G35: 17/01/1998 | H35: Nam | I35: 033 | P35: 58/2 Lương Thế Vinh , Phường Tân Thới Hòa , Quận Tân Phú , Thành phố Hồ Chí Minh | Q35: 025702735 | R35: 16001000;16CĐ-CNC1 | S35: 79 | T35: 767 | V35: 27040
A36: 23 | B36: 7020999892 | C36: Lương Tấn Lộc | D36: =VLOOKUP(B36,'LYTUTRONG KHOA 2018(3881)'!$C$13:$D$3892,2,0) -> Lương Tấn Lộc | E36: SV4797020999892 | F36: 7020999892 | G36: 17/02/1998 | H36: Nam | I36: 033 | P36: Ấp 7 , Xã Tiến Hưng , Thành Phố Đồng Xoài , Tỉnh Bình Phước | Q36: 285740256 | R36: 16001386;16CĐ-CNC1 | S36: 70 | T36: 689 | V36: 25213
A37: 24 | B37: 7931422040 | C37: Phạm Đan Hào | D37: =VLOOKUP(B37,'LYTUTRONG KHOA 2018(3881)'!$C$13:$D$3892,2,0) -> Phạm Đan Hào | E37: SV4797931422040 | F37: 7931422040 | G37: 21/04/1995 | H37: Nam | I37: 033 | P37: 159 Lê Thiệt , Phường Phú Thọ Hòa , Quận Tân Phú , Thành phố Hồ Chí Minh | Q37: 025649436 | R37: 16002144;16CĐ-CNC1 | S37: 79 | T37: 767 | V37: 27025
A38: 25 | B38: 7938079462 | C38: Nguyễn Quốc Bảo | D38: =VLOOKUP(B38,'LYTUTRONG KHOA 2018(3881)'!$C$13:$D$3892,2,0) -> Nguyễn Quốc Bảo | E38: SV4797938079462 | F38: 7938079462 | G38: 28/10/1996 | H38: Nam | I38: 033 | P38: Ấp 4 , Xã Tân Thạnh Đông , Huyện Củ Chi , Thành phố Hồ Chí Minh | Q38: 025407578 | R38: 16002509;16CĐ-CNC1 | S38: 79 | T38: 783 | V38: 27547
A39: 26 | B39: 8023476431 | C39: Dương Thanh Hậu | D39: =VLOOKUP(B39,'LYTUTRONG KHOA 2018(3881)'!$C$13:$D$3892,2,0) -> Dương Thanh Hậu | E39: SV4798023476431 | F39: 8023476431 | G39: 24/01/1998 | H39: Nam | I39: 033 | P39: 4/4/5 Châu Sở, KP4 , Thị trấn Bến Lức , Huyện Bến Lức , Tỉnh Long An | Q39: 301660102 | R39: 16002749;16CĐ-CNC1 | S39: 80 | T39: 803 | V39: 27991
A40: 27 | B40: 8022518519 | C40: Bùi Đức Tấn Phát | D40: =VLOOKUP(B40,'LYTUTRONG KHOA 2018(3881)'!$C$13:$D$3892,2,0) -> Bùi Đức Tấn Phát | E40: SV4798022518519 | F40: 8022518519 | G40: 23/09/1998 | H40: Nam | I40: 025 | P40: 150/4 Ấp An Hòa II , Xã Bình An , Huyện Thủ Thừa , Tỉnh Long An | Q40: 301632410 | R40: 16002778;16CĐ-CNC1 | S40: 80 | T40: 804 | V40: 28054
A41: 28 | B41: 2422056006 | C41: Nguyễn Tiến Anh | D41: =VLOOKUP(B41,'LYTUTRONG KHOA 2018(3881)'!$C$13:$D$3892,2,0) -> Nguyễn Tiến Anh | E41: SV4792422056006 | F41: 2422056006 | G41: 04/02/1998 | H41: Nam | I41: 033 | P41: Lục Nam , Thị trấn Lục Nam , Huyện Lục Nam , Tỉnh Bắc Giang | Q41: 122260786 | R41: 16002784;16CĐ-CNC1 | S41: 24 | T41: 218 | V41: 07447
A42: 29 | B42: 5221892022 | C42: Cao Hoài Tấn | D42: =VLOOKUP(B42,'LYTUTRONG KHOA 2018(3881)'!$C$13:$D$3892,2,0) -> Cao Hoài Tấn | E42: SV4795221892022 | F42: 5221892022 | G42: 04/10/1998 | H42: Nam | I42: 033 | P42: Thôn Kim Giao Bắc , Xã Hoài Hải , Huyện Hoài Nhơn , Tỉnh Bình Định | Q42: 215462355 | R42: 16002790;16CĐ-CNC1 | S42: 52 | T42: 543 | V42: 21676
A43: 30 | B43: 8022491223 | C43: Phạm Thanh Hải | D43: =VLOOKUP(B43,'LYTUTRONG KHOA 2018(3881)'!$C$13:$D$3892,2,0) -> Phạm Thanh Hải | E43: SV4798022491223 | F43: 8022491223 | G43: 30/10/1998 | H43: Nam | I43: 033 | P43: 1/12 Ấp 3 , Thị trấn Thủ Thừa , Huyện Thủ Thừa , Tỉnh Long An | Q43: 301632411 | R43: 16002856;16CĐ-CNC1 | S43: 80 | T43: 804 | V43: 28036
... A54: 41 | B54: 5820762938 | C54: Nguyễn Văn Phi | D54: =VLOOKUP(B54,'LYTUTRONG KHOA 2018(3881)'!$C$13:$D$3892,2,0) -> Nguyễn Văn Phi | E54: SV4795820762938 | F54: 5820762938 | G54: 10/10/1998 | H54: Nam | I54: 033 | P54: Lạc Sơn 3 , Xã Cà Ná , Huyện Thuận Nam , Tỉnh Ninh Thuận | Q54: 264512907 | R54: 16000844;16CĐ-CTM1 | S54: 58 | T54: 589 | V54: 22910
A55: 42 | B55: 7938153532 | C55: Phan Công Ty | D55: =VLOOKUP(B55,'LYTUTRONG KHOA 2018(3881)'!$C$13:$D$3892,2,0) -> Phan Công Ty | E55: SV4797938153532 | F55: 7938153532 | G55: 20/07/1998 | H55: Nam | I55: 033 | P55: ấp 6 , Xã Vĩnh Lộc A , Huyện Bình Chánh , Thành phố Hồ Chí Minh | R55: 16000854;16CĐ-CTM1 | S55: 79 | T55: 785 | V55: 27601
A56: 43 | B56: 6020002651 | C56: Nguyễn Hoàng Ngân Giang | D56: =VLOOKUP(B56,'LYTUTRONG KHOA 2018(3881)'!$C$13:$D$3892,2,0) -> Nguyễn Hoàng Ngân Giang | E56: SV4796020002651 | F56: 6020002651 | G56: 30/09/1998 | H56: Nam | I56: 033 | P56: KP4 , Phường Phú Thủy , Thành phố Phan Thiết , Tỉnh Bình Thuận | Q56: 261543602 | R56: 16000879;16CĐ-CTM1 | S56: 60 | T56: 593 | V56: 22924
A57: 44 | B57: 8023476433 | C57: Bùi Duy Khương | D57: =VLOOKUP(B57,'LYTUTRONG KHOA 2018(3881)'!$C$13:$D$3892,2,0) -> Bùi Duy Khương | E57: SV4798023476433 | F57: 8023476433 | G57: 10/07/1998 | H57: Nam | I57: 033 | P57: Tổ 8 , Xã Thủy Đông , Huyện Thạnh Hóa , Tỉnh Long An | Q57: 301643365 | R57: 16000914;16CĐ-CTM1 | S57: 80 | T57: 800 | V57: 27883
A58: 45 | B58: 7933403711 | C58: Nguyễn Huỳnh Sang | D58: =VLOOKUP(B58,'LYTUTRONG KHOA 2018(3881)'!$C$13:$D$3892,2,0) -> Nguyễn Huỳnh Sang | E58: SV4797933403711 | F58: 7933403711 | G58: 31/05/1998 | H58: Nam | I58: 033 | P58: 265/1A Phan Văn Khỏe , Phường 05 , Quận 6 , Thành phố Hồ Chí Minh | Q58: 025671454 | R58: 16000925;16CĐ-CTM1 | S58: 79 | T58: 775 | V58: 27361
A59: 46 | B59: 7931317747 | C59: Lê Trần Tuấn Anh | D59: =VLOOKUP(B59,'LYTUTRONG KHOA 2018(3881)'!$C$13:$D$3892,2,0) -> Lê Trần Tuấn Anh | E59: SV4797931317747 | F59: 7931317747 | G59: 23/09/1998 | H59: Nam | I59: 033 | P59: 958/51 Lạc Long Quân , Phường 08 , Quận Tân Bình , Thành phố Hồ Chí Minh | Q59: 025727369 | R59: 16000936;16CĐ-CTM1 | S59: 79 | T59: 766 | V59: 26998
A60: 47 | B60: 5220483296 | C60: Hồ Quang Trường | D60: =VLOOKUP(B60,'LYTUTRONG KHOA 2018(3881)'!$C$13:$D$3892,2,0) -> Hồ Quang Trường | E60: SV4795220483296 | F60: 5220483296 | G60: 02/06/1998 | H60: Nam | I60: 033 | P60: Đội 4 , Xã Ân Tường Đông , Huyện Hoài Ân , Tỉnh Bình Định | Q60: 215436001 | R60: 16000954;16CĐ-CTM1 | S60: 52 | T60: 544 | V60: 21724
A61: 48 | B61: 7930077825 | C61: Phạm Ngọc Duy | D61: =VLOOKUP(B61,'LYTUTRONG KHOA 2018(3881)'!$C$13:$D$3892,2,0) -> Phạm Ngọc Duy | E61: SV4797930077825 | F61: 7930077825 | G61: 22/12/1998 | H61: Nam | I61: 031 | P61: 27/70/45 Đường số 9 , Phường 16 , Quận Gò Vấp , Thành phố Hồ Chí Minh | Q61: 025679657 | R61: 16000960;16CĐ-CTM1 | S61: 79 | T61: 764 | V61: 26878
A62: 49 | B62: 8022201026 | C62: Nguyễn Hồng Sơn | D62: =VLOOKUP(B62,'LYTUTRONG KHOA 2018(3881)'!$C$13:$D$3892,2,0) -> Nguyễn Hồng Sơn | E62: SV4798022201026 | F62: 8022201026 | G62: 09/09/1998 | H62: Nam | I62: 033 | P62: 454 Hựu Thạnh , Xã Hựu Thạnh , Huyện Đức Hòa , Tỉnh Long An | Q62: 301673979 | R62: 16000970;16CĐ-CTM1 | S62: 80 | T62: 802 | V62: 27988
A63: 50 | B63: 7938153531 | C63: Đào Văn Minh | D63: =VLOOKUP(B63,'LYTUTRONG KHOA 2018(3881)'!$C$13:$D$3892,2,0) -> Đào Văn Minh | E63: SV4797938153531 | F63: 7938153531 | G63: 19/02/1997 | H63: Nam | I63: 055 | P63: B21/28 ấp 2B Vĩnh Lộc B , Xã Vĩnh Lộc A , Huyện Bình Chánh , Thành phố Hồ Chí Minh | Q63: 025647617 | R63: 16000979;16CĐ-CTM1 | S63: 79 | T63: 785 | V63: 27601
A64: 51 | B64: 7526641241 | C64: Phạm Trung Kiên | D64: =VLOOKUP(B64,'LYTUTRONG KHOA 2018(3881)'!$C$13:$D$3892,2,0) -> Phạm Trung Kiên | E64: SV4797526641241 | F64: 7526641241 | G64: 01/10/1998 | H64: Nam | I64: 025 | P64: Ấp Thạnh Thọ I , Xã Phú Lâm , Huyện Tân Phú , Tỉnh Đồng Nai | Q64: 272594352 | R64: 16001002;16CĐ-CTM1 | S64: 75 | T64: 734 | V64: 26155
A65: 52 | B65: 8022657381 | C65: Trần Khắc Bình | D65: =VLOOKUP(B65,'LYTUTRONG KHOA 2018(3881)'!$C$13:$D$3892,2,0) -> Trần Khắc Bình | E65: SV4798022657381 | F65: 8022657381 | G65: 10/01/1998 | H65: Nam | I65: 033 | P65: Ấp 3 Xã Phước Đông , Xã Phước Đông , Huyện Cần Đước , Tỉnh Long An | Q65: 301653774 | R65: 16002343;16CĐ-CTM1 | S65: 80 | T65: 806 | V65: 28150
A66: 53 | B66: 9423040772 | C66: Vũ Phúc Hậu | D66: =VLOOKUP(B66,'LYTUTRONG KHOA 2018(3881)'!$C$13:$D$3892,2,0) -> Vũ Phúc Hậu | E66: SV4799423040772 | F66: 9423040772 | G66: 21/03/1998 | H66: Nam | I66: 033 | P66: 203 ấp Mỹ Đức , Xã Thiện Mỹ , Huyện Châu Thành , Tỉnh Sóc Trăng | Q66: 366177313 | R66: 16002350;16CĐ-CTM1 | S66: 94 | T66: 942 | V66: 31585
A67: 54 | B67: 6624223480 | C67: Nguyễn Văn Tranh | D67: =VLOOKUP(B67,'LYTUTRONG KHOA 2018(3881)'!$C$13:$D$3892,2,0) -> Nguyễn Văn Tranh | E67: SV4796624223480 | F67: 6624223480 | G67: 03/02/1998 | H67: Nam | I67: 029 | P67: số nhà 23, thôn Tân Lợi , Xã Ea Uy , Huyện Krông Pắc , Tỉnh Đắk Lắk | Q67: 241735778 | R67: 16002378;16CĐ-CTM1 | S67: 66 | T67: 654 | V67: 24532
A68: 55 | B68: 7222204086 | C68: Trần Tấn Phát | D68: =VLOOKUP(B68,'LYTUTRONG KHOA 2018(3881)'!$C$13:$D$3892,2,0) -> Trần Tấn Phát | E68: SV4797222204086 | F68: 7222204086 | G68: 21/09/1998 | H68: Nam | I68: 033 | P68: Huyện Trảng Bàng , Xã Gia Bình , Huyện Trảng Bàng , Tỉnh Tây Ninh | R68: 16002387;16CĐ-CTM1 | S68: 72 | T68: 712 | V68: 25723
A69: 56 | B69: 7930373737 | C69: Nguyễn Lê Hoàng Nam | D69: =VLOOKUP(B69,'LYTUTRONG KHOA 2018(3881)'!$C$13:$D$3892,2,0) -> Nguyễn Lê Hoàng Nam | E69: SV4797930373737 | F69: 7930373737 | G69: 27/12/1998 | H69: Nam | I69: 035 | P69: 15/42/3 Nguyễn Du , Phường 07 , Quận Gò Vấp , Thành phố Hồ Chí Minh | Q69: 025716678 | R69: 16002394;16CĐ-CTM1 | S69: 79 | T69: 764 | V69: 26890
A70: 57 | B70: 8023476434 | C70: Nguyễn Chí Bình | D70: =VLOOKUP(B70,'LYTUTRONG KHOA 2018(3881)'!$C$13:$D$3892,2,0) -> Nguyễn Chí Bình | E70: SV4798023476434 | F70: 8023476434 | G70: 02/08/1996 | H70: Nam | I70: 033 | P70: Số 32, Ấp 4 , Xã Bình Hòa Đông , Huyện Mộc Hóa , Tỉnh Long An | Q70: 301551292 | R70: 16002430;16CĐ-CTM1 | S70: 80 | T70: 798 | V70: 27811
A71: 58 | B71: 6021552208 | C71: Thạch Lê Anh Tiến | D71: =VLOOKUP(B71,'LYTUTRONG KHOA 2018(3881)'!$C$13:$D$3892,2,0) -> Thạch Lê Anh Tiến | E71: SV4796021552208 | F71: 6021552208 | G71: 25/11/1998 | H71: Nam | I71: 033 | P71: Thôn 4 , Xã Đức Hạnh , Huyện Đức Linh , Tỉnh Bình Thuận | Q71: 261507081 | R71: 16002472;16CĐ-CTM1 | S71: 60 | T71: 600 | V71: 23212
A72: 59 | B72: 8723779163 | C72: Lê Chí Đặng | D72: =VLOOKUP(B72,'LYTUTRONG KHOA 2018(3881)'!$C$13:$D$3892,2,0) -> Lê Chí Đặng | E72: SV4798723779163 | F72: 8723779163 | G72: 14/06/1998 | H72: Nam | I72: 033 | P72: Số 488, Tổ 14 , Xã Long Khánh A , Huyện Hồng Ngự , Tỉnh Đồng Tháp | Q72: 341959866 | R72: 16002483;16CĐ-CTM1 | S72: 87 | T72: 870 | V72: 29980
A73: 60 | B73: 5120054806 | C73: Bùi Ngọc Vĩnh | D73: =VLOOKUP(B73,'LYTUTRONG KHOA 2018(3881)'!$C$13:$D$3892,2,0) -> Bùi Ngọc Vĩnh | E73: SV4795120054806 | F73: 5120054806 | G73: 19/06/1998 | H73: Nam | I73: 025 | P73: Đội 1 Thôn Phú Bình , Xã Tịnh Châu , Thành phố Quảng Ngãi , Tỉnh Quảng Ngãi | Q73: 212484013 | R73: 16002491;16CĐ-CTM1 | S73: 51 | T73: 522 | V73: 21208
A74: 61 | B74: 7938216126 | C74: Võ Đại Hoàng | D74: =VLOOKUP(B74,'LYTUTRONG KHOA 2018(3881)'!$C$13:$D$3892,2,0) -> Võ Đại Hoàng | E74: SV4797938216126 | F74: 7938216126 | G74: 21/04/1998 | H74: Nam | I74: 025 | P74: 442 Phạm Văn Chiêu , Phường 09 , Quận Gò Vấp , Thành phố Hồ Chí Minh | Q74: 025679417 | R74: 16002505;16CĐ-CTM1 | S74: 79 | T74: 764 | V74: 26897
A75: 62 | B75: 5120590375 | C75: Lâm Quang Vũ | D75: =VLOOKUP(B75,'LYTUTRONG KHOA 2018(3881)'!$C$13:$D$3892,2,0) -> Lâm Quang Vũ | E75: SV4795120590375 | F75: 5120590375 | G75: 03/04/1998 | H75: Nam | I75: 033 | P75: Xóm 3 thôn thu xà , Xã Nghĩa Hòa , Huyện Tư Nghĩa , Tỉnh Quảng Ngãi | Q75: 212430645 | R75: 16002515;16CĐ-CTM1 | S75: 51 | T75: 528 | V75: 21268
A76: 63 | B76: 9123815260 | C76: Nguyễn Văn Hận | D76: =VLOOKUP(B76,'LYTUTRONG KHOA 2018(3881)'!$C$13:$D$3892,2,0) -> Nguyễn Văn Hận | E76: SV4799123815260 | F76: 9123815260 | G76: 15/12/1997 | H76: Nam | I76: 033 | P76: Huyện Gò Quao , Xã Vĩnh Hòa Hưng Bắc , Huyện Gò Quao , Tỉnh Kiên Giang | R76: 16002529;16CĐ-CTM1 | S76: 91 | T76: 907 | V76: 30955
A77: 64 | B77: 9122704445 | C77: Hồ Tấn Tài | D77: =VLOOKUP(B77,'LYTUTRONG KHOA 2018(3881)'!$C$13:$D$3892,2,0) -> Hồ Tấn Tài | E77: SV4799122704445 | F77: 9122704445 | G77: 08/10/1998 | H77: Nam | I77: 033 | P77: ấp 4 , Xã Vĩnh Hòa Hưng Bắc , Huyện Gò Quao , Tỉnh Kiên Giang | R77: 16002530;16CĐ-CTM1 | S77: 91 | T77: 907 | V77: 30955
A78: 65 | B78: 7928488146 | C78: Trần Hữu Nhân | D78: =VLOOKUP(B78,'LYTUTRONG KHOA 2018(3881)'!$C$13:$D$3892,2,0) -> Trần Hữu Nhân | E78: SV4797928488146 | F78: 7928488146 | G78: 20/05/1998 | H78: Nam | I78: 029 | P78: 54/15A khu phố 4 , Phường Tân Chánh Hiệp , Quận 12 , Thành phố Hồ Chí Minh | Q78: 025689420 | R78: 16002562;16CĐ-CTM1 | S78: 79 | T78: 761 | V78: 26776
A79: 66 | B79: 7937444304 | C79: Lưu Sáng Thành | D79: =VLOOKUP(B79,'LYTUTRONG KHOA 2018(3881)'!$C$13:$D$3892,2,0) -> Lưu Sáng Thành | E79: SV4797937444304 | F79: 7937444304 | G79: 31/05/1998 | H79: Nam | I79: 028 | P79: 202 Bình Tiên , Phường 04 , Quận 6 , Thành phố Hồ Chí Minh | Q79: 025754756 | R79: 16002573;16CĐ-CTM1 | S79: 79 | T79: 775 | V79: 27373
A80: 67 | B80: 5221225421 | C80: Phạm Văn Ngọc | D80: =VLOOKUP(B80,'LYTUTRONG KHOA 2018(3881)'!$C$13:$D$3892,2,0) -> Phạm Văn Ngọc | E80: SV4795221225421 | F80: 5221225421 | G80: 24/06/1998 | H80: Nam | I80: 033 | P80: xóm Giữa, thôn Tráng Long , Xã Nhơn Lộc , Thị xã An Nhơn , Tỉnh Bình Định | Q80: 215426056 | R80: 16002578;16CĐ-CTM1 | S80: 52 | T80: 549 | V80: 21940
A81: 68 | B81: 7938216127 | C81: Lê Thành Đạt | D81: =VLOOKUP(B81,'LYTUTRONG KHOA 2018(3881)'!$C$13:$D$3892,2,0) -> Lê Thành Đạt | E81: SV4797938216127 | F81: 7938216127 | G81: 15/10/1997 | H81: Nam | I81: 033 | P81: 161/1/82 Nguyễn Duy , Phường 14 , Quận 8 , Thành phố Hồ Chí Minh | Q81: 025725438 | R81: 16002580;16CĐ-CTM1 | S81: 79 | T81: 776 | V81: 27421
A82: 69 | B82: 7933228730 | C82: Trần Quang Thịnh | D82: =VLOOKUP(B82,'LYTUTRONG KHOA 2018(3881)'!$C$13:$D$3892,2,0) -> Trần Quang Thịnh | E82: SV4797933228730 | F82: 7933228730 | G82: 15/12/1998 | H82: Nam | I82: 033 | P82: 897/68 trần hưng đạo , Phường 01 , Quận 5 , Thành phố Hồ Chí Minh | Q82: 025692608 | R82: 16002581;16CĐ-CTM1 | S82: 79 | T82: 774 | V82: 27325
A83: 70 | B83: 7938153535 | C83: Thái Thành Nhân | D83: =VLOOKUP(B83,'LYTUTRONG KHOA 2018(3881)'!$C$13:$D$3892,2,0) -> Thái Thành Nhân | E83: SV4797938153535 | F83: 7938153535 | G83: 06/10/1997 | H83: Nam | I83: 033 | P83: 127/5 N1, Âu Cơ , Phường 14 , Quận 11 , Thành phố Hồ Chí Minh | R83: 16002597;16CĐ-CTM1 | S83: 79 | T83: 772 | V83: 27214
A84: 71 | B84: 8925116416 | C84: Phan Văn Ngân Giang | D84: =VLOOKUP(B84,'LYTUTRONG KHOA 2018(3881)'!$C$13:$D$3892,2,0) -> Phan Văn Ngân Giang | E84: SV4798925116416 | F84: 8925116416 | G84: 28/03/1997 | H84: Nam | I84: 031 | P84: Ấp Long Phú 2 , Xã Long Điền B , Huyện Chợ Mới , Tỉnh An Giang | Q84: 352477912 | R84: 16003297;16CĐ-CTM1 | S84: 89 | T84: 893 | V84: 30646
A85: 72 | B85: 7930119252 | C85: Võ Gia Hưng | D85: =VLOOKUP(B85,'LYTUTRONG KHOA 2018(3881)'!$C$13:$D$3892,2,0) -> Võ Gia Hưng | E85: SV4797930119252 | F85: 7930119252 | G85: 11/07/1998 | H85: Nam | I85: 033 | P85: 796/2/15 Lê Đức Thọ , Phường 15 , Quận Gò Vấp , Thành phố Hồ Chí Minh | Q85: 025679749 | R85: 16003828;16CĐ-CTM1 | S85: 79 | T85: 764 | V85: 26869
A86: 73 | B86: 3421051771 | C86: Nguyễn Hữu Hoàng | D86: =VLOOKUP(B86,'LYTUTRONG KHOA 2018(3881)'!$C$13:$D$3892,2,0) -> Nguyễn Hữu Hoàng | E86: SV4793421051771 | F86: 3421051771 | G86: 29/03/1997 | H86: Nam | I86: 025 | P86: Thụy Thanh , Xã Thụy Thanh , Huyện Thái Thụy , Tỉnh Thái Bình | Q86: 152186203 | R86: 15002892;16CĐ-CTM2 | S86: 34 | T86: 341 | V86: 12898
A87: 74 | B87: 7722287893 | C87: Bùi Thanh Phúc | D87: =VLOOKUP(B87,'LYTUTRONG KHOA 2018(3881)'!$C$13:$D$3892,2,0) -> Bùi Thanh Phúc | E87: SV4797722287893 | F87: 7722287893 | G87: 23/05/1998 | H87: Nam | I87: 033 | P87: Tổ 8 - Thôn Tân Hạnh , Phường Phú Mỹ , Thị xã Phú Mỹ , Tỉnh Bà Rịa - Vũng Tàu | Q87: 273681750 | R87: 16002196;16CĐ-CTM2 | S87: 77 | T87: 754 | V87: 26704
A88: 75 | B88: 6020494933 | C88: Nguyễn Vương Vũ | D88: =VLOOKUP(B88,'LYTUTRONG KHOA 2018(3881)'!$C$13:$D$3892,2,0) -> Nguyễn Vương Vũ | E88: SV4796020494933 | F88: 6020494933 | G88: 25/02/1998 | H88: Nam | I88: 033 | P88: An trung , Xã Bình An , Huyện Bắc Bình , Tỉnh Bình Thuận | Q88: 261414373 | R88: 16002516;16CĐ-CTM2 | S88: 60 | T88: 596 | V88: 23014
A89: 76 | B89: 5620841170 | C89: Lê Ngọc Vinh | D89: =VLOOKUP(B89,'LYTUTRONG KHOA 2018(3881)'!$C$13:$D$3892,2,0) -> Lê Ngọc Vinh | E89: SV4795620841170 | F89: 5620841170 | G89: 06/11/1998 | H89: Nam | I89: 033 | P89: Thị xã Ninh Hoà , Xã Ninh Trung , Thị xã Ninh Hòa , Tỉnh Khánh Hòa | R89: 16002611;16CĐ-CTM2 | S89: 56 | T89: 572 | V89: 22549
A90: 77 | B90: 8223353000 | C90: Nguyễn Duy Tân | D90: =VLOOKUP(B90,'LYTUTRONG KHOA 2018(3881)'!$C$13:$D$3892,2,0) -> Nguyễn Duy Tân | E90: SV4798223353000 | F90: 8223353000 | G90: 09/10/1998 | H90: Nam | I90: 033 | P90: 108 Ấp Giá Trên , Xã Kiểng Phước , Huyện Gò Công Đông , Tỉnh Tiền Giang | Q90: 312363310 | R90: 16002612;16CĐ-CTM2 | S90: 82 | T90: 824 | V90: 28726
A91: 78 | B91: 7931797634 | C91: Lương Xuân Hải | D91: =VLOOKUP(B91,'LYTUTRONG KHOA 2018(3881)'!$C$13:$D$3892,2,0) -> Lương Xuân Hải | E91: SV4797931797634 | F91: 7931797634 | G91: 14/12/1997 | H91: Nam | I91: 033 | P91: 49/40/14 Trịnh Đình Trọng , Phường Phú Trung , Quận Tân Phú , Thành phố Hồ Chí Minh | Q91: 025764514 | R91: 16002623;16CĐ-CTM2 | S91: 79 | T91: 767 | V91: 27031
A92: 79 | B92: 7938153538 | C92: Ngô Anh Chiến | D92: =VLOOKUP(B92,'LYTUTRONG KHOA 2018(3881)'!$C$13:$D$3892,2,0) -> Ngô Anh Chiến | E92: SV4797938153538 | F92: 7938153538 | G92: 12/05/1997 | H92: Nam | I92: 029 | P92: 161, Tiểu đoàn Trinh sát 47 , Phường Trung Mỹ Tây , Quận 12 , Thành phố Hồ Chí Minh | Q92: 301604195 | R92: 16002679;16CĐ-CTM2 | S92: 79 | T92: 761 | V92: 26785
A93: 80 | B93: 6623108910 | C93: Ngô Thành Công | D93: =VLOOKUP(B93,'LYTUTRONG KHOA 2018(3881)'!$C$13:$D$3892,2,0) -> Ngô Thành Công | E93: SV4796623108910 | F93: 6623108910 | G93: 03/09/1998 | H93: Nam | I93: 033 | P93: Thôn 14 , Xã Ea Riêng , Huyện M'Đrắk , Tỉnh Đắk Lắk | Q93: 241699334 | R93: 16002683;16CĐ-CTM2 | S93: 66 | T93: 652 | V93: 24433
A94: 81 | B94: 4921675244 | C94: Hồ Văn Quang | D94: =VLOOKUP(B94,'LYTUTRONG KHOA 2018(3881)'!$C$13:$D$3892,2,0) -> #N/A | E94: SV44921675244 | F94: 4921675244 | G94: 19/05/1980 | H94: Nam | I94: 034 | P94: Thôn 1,Xã Hương An,Huyện Quế Sơn,Tỉnh Quảng Nam | R94: 160000U,16CĐ-HVQ | S94: 49 | T94: 509 | V94: 20651
A95: 82 | B95: 8022270594 | C95: Nguyễn Lê Duy Minh | D95: =VLOOKUP(B95,'LYTUTRONG KHOA 2018(3881)'!$C$13:$D$3892,2,0) -> Nguyễn Lê Duy Minh | E95: SV4798022270594 | F95: 8022270594 | G95: 27/01/1998 | H95: Nam | I95: 033 | P95: Huyện Bến Lức , Xã Tân Bửu , Huyện Bến Lức , Tỉnh Long An | R95: 16002721;16CĐ-CTM2 | S95: 80 | T95: 803 | V95: 28009
A96: 83 | B96: 7938216132 | C96: Hoàng Đức Long | D96: =VLOOKUP(B96,'LYTUTRONG KHOA 2018(3881)'!$C$13:$D$3892,2,0) -> Hoàng Đức Long | E96: SV4797938216132 | F96: 7938216132 | G96: 10/12/1998 | H96: Nam | I96: 033 | P96: 212/61/4 Nguyễn Thiện Thuật , Phường 03 , Quận 3 , Thành phố Hồ Chí Minh | Q96: 079098000811 | R96: 16002725;16CĐ-CTM2 | S96: 79 | T96: 770 | V96: 27154
A97: 84 | B97: 8223941147 | C97: Nguyễn Thiện Quang | D97: =VLOOKUP(B97,'LYTUTRONG KHOA 2018(3881)'!$C$13:$D$3892,2,0) -> Nguyễn Thiện Quang | E97: SV4798223941147 | F97: 8223941147 | G97: 26/02/1998 | H97: Nam | I97: 033 | P97: Số 249 Tổ 7, Ấp An Hiệp , Xã Đông Hòa Hiệp , Huyện Cái Bè , Tỉnh Tiền Giang | Q97: 312453942 | R97: 16002738;16CĐ-CTM2 | S97: 82 | T97: 819 | V97: 28411
A98: 85 | B98: 7931312816 | C98: Nguyễn Xuân Trường | D98: =VLOOKUP(B98,'LYTUTRONG KHOA 2018(3881)'!$C$13:$D$3892,2,0) -> Nguyễn Xuân Trường | E98: SV4797931312816 | F98: 7931312816 | G98: 09/10/1998 | H98: Nam | I98: 033 | P98: Số 02, Đồng Khởi , Phường 04 , Quận Tân Bình , Thành phố Hồ Chí Minh | Q98: 025699239 | R98: 16002742;16CĐ-CTM2 | S98: 79 | T98: 766 | V98: 26968
A99: 86 | B99: 7931935159 | C99: Nguyễn Ngọc Sang | D99: =VLOOKUP(B99,'LYTUTRONG KHOA 2018(3881)'!$C$13:$D$3892,2,0) -> Nguyễn Ngọc Sang | E99: SV4797931935159 | F99: 7931935159 | G99: 22/10/1997 | H99: Nam | I99: 033 | P99: 87/37/1 Nguyễn Đình Chính , Phường 15 , Quận Phú Nhuận , Thành phố Hồ Chí Minh | Q99: 079097002271 | R99: 16002767;16CĐ-CTM2 | S99: 79 | T99: 768 | V99: 27067
A100: 87 | B100: 8925104504 | C100: Trương Bảo Nhớ | D100: =VLOOKUP(B100,'LYTUTRONG KHOA 2018(3881)'!$C$13:$D$3892,2,0) -> Trương Bảo Nhớ | E100: SV4798925104504 | F100: 8925104504 | G100: 26/09/1998 | H100: Nam | I100: 033 | P100: 160,tổ 2-ấp Long Hoà 2 , Xã Long Hòa , Huyện Phú Tân , Tỉnh An Giang | Q100: 352394446 | R100: 16002769;16CĐ-CTM2 | S100: 89 | T100: 888 | V100: 30415
A101: 88 | B101: 7938153537 | C101: Bùi Duy Thuận | D101: =VLOOKUP(B101,'LYTUTRONG KHOA 2018(3881)'!$C$13:$D$3892,2,0) -> Bùi Duy Thuận | E101: SV4797938153537 | F101: 7938153537 | G101: 07/01/1997 | H101: Nam | I101: 033 | P101: Đức Hiệp , Xã Nhuận Đức , Huyện Củ Chi , Thành phố Hồ Chí Minh | Q101: 025651175 | R101: 16002779;16CĐ-CTM2 | S101: 79 | T101: 783 | V101: 27511
A102: 89 | B102: 7022213565 | C102: Phạm Viết Thành Đạt | D102: =VLOOKUP(B102,'LYTUTRONG KHOA 2018(3881)'!$C$13:$D$3892,2,0) -> Phạm Viết Thành Đạt | E102: SV4797022213565 | F102: 7022213565 | G102: 13/12/1998 | H102: Nam | I102: 033 | P102: ấp 8 , Xã Lộc Điền , Huyện Lộc Ninh , Tỉnh Bình Phước | R102: 16002810;16CĐ-CTM2 | S102: 70 | T102: 692 | V102: 25300
A103: 90 | B103: 6622857600 | C103: Trần Văn Hưng | D103: =VLOOKUP(B103,'LYTUTRONG KHOA 2018(3881)'!$C$13:$D$3892,2,0) -> Trần Văn Hưng | E103: SV4796622857600 | F103: 6622857600 | G103: 10/04/1998 | H103: Nam | I103: 025 | P103: Lộc Tiến , Xã Phú Lộc , Huyện Krông Năng , Tỉnh Đắk Lắk | Q103: 241708230 | R103: 16002826;16CĐ-CTM2 | S103: 66 | T103: 650 | V103: 24355
A104: 91 | B104: 5221103533 | C104: Huỳnh Văn Tín | D104: =VLOOKUP(B104,'LYTUTRONG KHOA 2018(3881)'!$C$13:$D$3892,2,0) -> Huỳnh Văn Tín | E104: SV4795221103533 | F104: 5221103533 | G104: 24/07/1998 | H104: Nam | I104: 033 | P104: Tam Hòa , Xã Nhơn Phong , Thị xã An Nhơn , Tỉnh Bình Định | Q104: 215454831 | R104: 16002827;16CĐ-CTM2 | S104: 52 | T104: 549 | V104: 21925
A105: 92 | B105: 8223243164 | C105: Huỳnh Hoàng Nguyên | D105: =VLOOKUP(B105,'LYTUTRONG KHOA 2018(3881)'!$C$13:$D$3892,2,0) -> Huỳnh Hoàng Nguyên | E105: SV4798223243164 | F105: 8223243164 | G105: 23/07/1998 | H105: Nam | I105: 017 | P105: Thành Công , Xã Thành Công , Huyện Gò Công Tây , Tỉnh Tiền Giang | Q105: 312359677 | R105: 16002860;16CĐ-CTM2 | S105: 82 | T105: 823 | V105: 28663
A106: 93 | B106: 8422412468 | C106: Lê Thanh Hoàng | D106: =VLOOKUP(B106,'LYTUTRONG KHOA 2018(3881)'!$C$13:$D$3892,2,0) -> Lê Thanh Hoàng | E106: SV4798422412468 | F106: 8422412468 | G106: 01/01/1998 | H106: Nam | I106: 033 | P106: 529,ấp Giữa , Xã Kim Hòa , Huyện Cầu Ngang , Tỉnh Trà Vinh | Q106: 334940084 | R106: 16002911;16CĐ-CTM2 | S106: 84 | T106: 848 | V106: 29434
A107: 94 | B107: 7931575100 | C107: Trương Thành Đạt | D107: =VLOOKUP(B107,'LYTUTRONG KHOA 2018(3881)'!$C$13:$D$3892,2,0) -> Trương Thành Đạt | E107: SV4797931575100 | F107: 7931575100 | G107: 17/03/1998 | H107: Nam | I107: 055 | P107: 337/18 Thạch Lam , Phường Phú Thạnh , Quận Tân Phú , Thành phố Hồ Chí Minh | Q107: 025702907 | R107: 16002945;16CĐ-CTM2 | S107: 79 | T107: 767 | V107: 27028
A108: 95 | B108: 7022210134 | C108: Trần Ngọc Hiền | D108: =VLOOKUP(B108,'LYTUTRONG KHOA 2018(3881)'!$C$13:$D$3892,2,0) -> Trần Ngọc Hiền | E108: SV4797022210134 | F108: 7022210134 | G108: 07/09/1996 | H108: Nam | I108: 055 | P108: Long Bình , Xã Long Bình , Huyện Phú Riềng , Tỉnh Bình Phước | Q108: 285558485 | R108: 16002973;16CĐ-CTM2 | S108: 70 | T108: 698 | V108: 25240
A109: 96 | B109: 5220273215 | C109: Võ Chí Bảo | D109: =VLOOKUP(B109,'LYTUTRONG KHOA 2018(3881)'!$C$13:$D$3892,2,0) -> Võ Chí Bảo | E109: SV4795220273215 | F109: 5220273215 | G109: 24/02/1998 | H109: Nam | I109: 033 | P109: Xã Hoài Thương , Xã Hoài Hương , Huyện Hoài Nhơn , Tỉnh Bình Định | Q109: 215464534 | R109: 16002987;16CĐ-CTM2 | S109: 52 | T109: 543 | V109: 21670
A110: 97 | B110: 7930826126 | C110: Phạm Gia Lâm | D110: =VLOOKUP(B110,'LYTUTRONG KHOA 2018(3881)'!$C$13:$D$3892,2,0) -> Phạm Gia Lâm | E110: SV4797930826126 | F110: 7930826126 | G110: 12/02/1998 | H110: Nam | I110: 031 | P110: 245/33F, Nơ Trang Long , Phường 11 , Quận Bình Thạnh , Thành phố Hồ Chí Minh | Q110: 025906918 | R110: 16003032;16CĐ-CTM2 | S110: 79 | T110: 765 | V110: 26908
A111: 98 | B111: 7938079467 | C111: Lê Văn Thành Đạt | D111: =VLOOKUP(B111,'LYTUTRONG KHOA 2018(3881)'!$C$13:$D$3892,2,0) -> Lê Văn Thành Đạt | E111: SV4797938079467 | F111: 7938079467 | G111: 17/12/1998 | H111: Nam | I111: 033 | P111: 96/2 Võ Thành Trang , Phường 11 , Quận Tân Bình , Thành phố Hồ Chí Minh | Q111: 025749031 | R111: 16003096;16CĐ-CTM2 | S111: 79 | T111: 766 | V111: 26983
A112: 99 | B112: 8022499645 | C112: Cao Ngọc Chí | D112: =VLOOKUP(B112,'LYTUTRONG KHOA 2018(3881)'!$C$13:$D$3892,2,0) -> Cao Ngọc Chí | E112: SV4798022499645 | F112: 8022499645 | G112: 17/11/1997 | H112: Nam | I112: 033 | P112: Ấp 3, Long Thuận , Xã Long Thuận , Huyện Thủ Thừa , Tỉnh Long An | Q112: 301631841 | R112: 16003104;16CĐ-CTM2 | S112: 80 | T112: 804 | V112: 28045
A113: 100 | B113: 6624223481 | C113: Trần Văn Hoàng | D113: =VLOOKUP(B113,'LYTUTRONG KHOA 2018(3881)'!$C$13:$D$3892,2,0) -> Trần Văn Hoàng | E113: SV4796624223481 | F113: 6624223481 | G113: 24/06/1998 | H113: Nam | I113: 033 | P113: Thôn 10 , Xã Ea Riêng , Huyện M'Đrắk , Tỉnh Đắk Lắk | Q113: 241698727 | R113: 16003229;16CĐ-CTM2 | S113: 66 | T113: 652 | V113: 24433
A114: 101 | B114: 8022859439 | C114: Lê Thanh Bình | D114: =VLOOKUP(B114,'LYTUTRONG KHOA 2018(3881)'!$C$13:$D$3892,2,0) -> Lê Thanh Bình | E114: SV4798022859439 | F114: 8022859439 | G114: 28/02/1997 | H114: Nam | I114: 033 | P114: 937A ấp 3 , Xã Phước Vĩnh Tây , Huyện Cần Giuộc , Tỉnh Long An | Q114: 301661268 | R114: 16000459;16CĐ-CTM3 | S114: 80 | T114: 807 | V114: 28192
... A120: 107 | B120: 6020951568 | C120: Lê Anh Khôi | D120: =VLOOKUP(B120,'LYTUTRONG KHOA 2018(3881)'!$C$13:$D$3892,2,0) -> Lê Anh Khôi | E120: SV4796020951568 | F120: 6020951568 | G120: 03/08/1998 | H120: Nam | I120: 033 | P120: xã Gia An , Xã Gia An , Huyện Tánh Linh , Tỉnh Bình Thuận | Q120: 261466524 | R120: 16003079;16CĐ-CTM3 | S120: 60 | T120: 599 | V120: 23176
A121: 108 | B121: 5220827792 | C121: Ngô Quang Trường | D121: =VLOOKUP(B121,'LYTUTRONG KHOA 2018(3881)'!$C$13:$D$3892,2,0) -> Ngô Quang Trường | E121: SV4795220827792 | F121: 5220827792 | G121: 28/12/1998 | H121: Nam | I121: 027 | P121: Huyện Tây Sơn, Bình Định. , Xã Bình Hòa , Huyện Tây Sơn , Tỉnh Bình Định | R121: 16003110;16CĐ-CTM3 | S121: 52 | T121: 547 | V121: 21829
A122: 109 | B122: 5121603230 | C122: Nguyễn Văn Kiên | D122: =VLOOKUP(B122,'LYTUTRONG KHOA 2018(3881)'!$C$13:$D$3892,2,0) -> Nguyễn Văn Kiên | E122: SV4795121603230 | F122: 5121603230 | G122: 18/09/1998 | H122: Nam | I122: 033 | P122: Thôn Kim Thành Thương , Thị trấn Chợ Chùa , Huyện Nghĩa Hành , Tỉnh Quảng Ngãi | Q122: 212798588 | R122: 16003115;16CĐ-CTM3 | S122: 51 | T122: 532 | V122: 21364
A123: 110 | B123: 7938216130 | C123: Trần Thanh Tùng | D123: =VLOOKUP(B123,'LYTUTRONG KHOA 2018(3881)'!$C$13:$D$3892,2,0) -> Trần Thanh Tùng | E123: SV4797938216130 | F123: 7938216130 | G123: 18/09/1998 | H123: Nam | I123: 033 | P123: 13/2 ấp 1 , Xã Xuân Thới Thượng , Huyện Hóc Môn , Thành phố Hồ Chí Minh | Q123: 026035578 | R123: 16003143;16CĐ-CTM3 | S123: 79 | T123: 784 | V123: 27589
...
