Workbook

Sheet LYTUTRONG KHOA 2018(3881)
A1: Tên đơn vị: TRƯỜNG CAO ĐẲNG LÝ TỰ TRỌNG THÀNH PHỐ HỒ CHÍ MINH
A2: Mã đơn vị: BD0240Z
A3: Địa chỉ: 390 Hoàng Văn Thụ,Phường 4,Quận Tân Bình, Thành Phố Hồ Chí Minh
A4: DANH SÁCH NGƯỜI CHỈ THAM GIA BẢO HIỂM Y TẾ
A5: Số : 3 tháng 12 năm 2018
D7: Đối tượng tham gia | I7: Lương cơ sở: ……………… đồng
A10: STT | C10: Mã số BHXH | D10: Họ và tên(FILE GỬI NGỌC TUYẾT) | F10: Mã số BHXH | G10: Ngày tháng năm sinh | H10: Giới tính | I10: Nơi đăng ký KCB ban đầu | J10: Biên lai, ngày tham gia | L10: Tiền lương, trợ cấp hoặc số tiền đóng | M10: Tỷ lệ NS hỗ trợ (%) | N10: Thời hạn sử dụng thẻ | P10: Ghi chú
J11: Số | K11: Ngày | N11: Số tháng | O11: Từ ngày | P11: Địa chỉ | R11: Số CMND | S11: Mã PB | T11: mã tỉnh KS | V11: mã huyện KS | X11: mã xã KS
A12: A | C12: 1 | D12: B | F12: 1 | G12: 2 | H12: 3 | I12: 4 | J12: 5 | K12: 6 | L12: 7 | M12: 8 | N12: 9 | O12: 10 | P12: 11 | R12: 12 | S12: 13 | T12: 14 | V12: 15 | X12: 16
A13: 1 | B13: 1 | C13: 3422094591 | D13: Nguyễn Văn Hóa | E13: =VLOOKUP(C13,'ĐỢT 2 (3881))'!$B$14:$C$3894,2,0) -> Nguyễn Văn Hóa | F13: 3422094591 | G13: 05/09/1999 | H13: Nam | I13: 029 | N13: 12 | O13: 01/01/2019-31/12/2019 | P13: Thôn An Phú , Xã Quỳnh Hải , Huyện Quỳnh Phụ , Tỉnh Thái Bình | R13: 152249065 | S13: 18005772,15TC-Đ | T13: 34 | V13: 338 | X13: 12520
A14: 2 | B14: 2 | C14: 7934015748 | D14: Tăng Thành Đạt | E14: =VLOOKUP(C14,'ĐỢT 2 (3881))'!$B$14:$C$3894,2,0) -> Tăng Thành Đạt | F14: 7934015748 | G14: 25/01/2000 | H14: Nam | I14: 033 | N14: 12 | O14: 01/01/2019-31/12/2019 | P14: 457/8 KP2, Đường Bình Thành , Phường Bình Hưng Hòa B , Quận Bình Tân , Thành phố Hồ Chí Minh | R14: 026066261 | S14: 18005748,15TCN-Đ | T14: 79 | V14: 777 | X14: 27442
A15: 3 | B15: 3 | C15: 7422932339 | D15: Nguyễn Thị Tuyết Nhi | E15: =VLOOKUP(C15,'ĐỢT 2 (3881))'!$B$14:$C$3894,2,0) -> Nguyễn Thị Tuyết Nhi | F15: 7422932339 | G15: 07/11/2000 | H15: Nữ | I15: 025 | N15: 12 | O15: 01/01/2019-31/12/2019 | P15: Ấp 2A Phước Hòa , Xã Phước Hòa , Huyện Phú Giáo , Tỉnh Bình Dương | S15: 18005753,15TCN-MTT | T15: 74 | V15: 722 | X15: 25885
A16: 4 | B16: 4 | C16: 7722610544 | D16: Nguyễn Minh Thái | E16: =VLOOKUP(C16,'ĐỢT 2 (3881))'!$B$14:$C$3894,2,0) -> Nguyễn Minh Thái | F16: 7722610544 | G16: 18/01/1996 | H16: Nam | I16: 031 | N16: 12 | O16: 01/01/2019-31/12/2019 | P16: 324/216 Bình Giã , Phường 8 , Thành phố Vũng Tàu , Tỉnh Bà Rịa - Vũng Tàu | R16: 273554552 | S16: 18005762,15TCN-Ô1 | T16: 77 | V16: 747 | X16: 26527
A17: 6 | B17: 5 | C17: 5121599909 | D17: Trần Mai Anh Khoa | E17: =VLOOKUP(C17,'ĐỢT 2 (3881))'!$B$14:$C$3894,2,0) -> Trần Mai Anh Khoa | F17: 5121599909 | G17: 22/08/1998 | H17: Nam | I17: 033 | N17: 12 | O17: 01/01/2019-31/12/2019 | P17: Đội 10-Thôn Phú Châu , Xã Hành Đức , Huyện Nghĩa Hành , Tỉnh Quảng Ngãi | R17: 212460278 | S17: 16001948,16CĐ-CĐ1 | T17: 51 | V17: 532 | X17: 21379
A18: 7 | B18: 6 | C18: 7526634650 | D18: Nguyễn Hoàng Phúc | E18: =VLOOKUP(C18,'ĐỢT 2 (3881))'!$B$14:$C$3894,2,0) -> Nguyễn Hoàng Phúc | F18: 7526634650 | G18: 08/08/1998 | H18: Nam | I18: 033 | N18: 12 | O18: 01/01/2019-31/12/2019 | P18: Tâm Bình , Xã Bình Minh , Huyện Trảng Bom , Tỉnh Đồng Nai | R18: 272636857 | S18: 16002329,16CĐ-CĐ1 | T18: 75 | V18: 737 | X18: 26278
A19: 8 | B19: 7 | C19: 7934884731 | D19: Cao Minh Trí | E19: =VLOOKUP(C19,'ĐỢT 2 (3881))'!$B$14:$C$3894,2,0) -> Cao Minh Trí | F19: 7934884731 | G19: 30/07/1998 | H19: Nam | I19: 040 | N19: 12 | O19: 01/01/2019-31/12/2019 | P19: 656 Quốc lộ 22 Ấp Phước Hưng , Xã Phước Thạnh , Huyện Củ Chi , Thành phố Hồ Chí Minh | R19: 025802773 | S19: 16002358,16CĐ-CĐ1 | T19: 79 | V19: 783 | X19: 27526
A20: 9 | B20: 8 | C20: 7935545512 | D20: Lê Trọng Nhân | E20: =VLOOKUP(C20,'ĐỢT 2 (3881))'!$B$14:$C$3894,2,0) -> Lê Trọng Nhân | F20: 7935545512 | G20: 06/01/1998 | H20: Nam | I20: 033 | N20: 12 | O20: 01/01/2019-31/12/2019 | P20: 56/3 Ấp Tiền Lân 1 , Xã Bà Điểm , Huyện Hóc Môn , Thành phố Hồ Chí Minh | R20: 025766955 | S20: 16002376,16CĐ-CĐ1 | T20: 79 | V20: 784 | X20: 27592
A21: 10 | B21: 9 | C21: 5220050901 | D21: Trương Văn Hoàng | E21: =VLOOKUP(C21,'ĐỢT 2 (3881))'!$B$14:$C$3894,2,0) -> Trương Văn Hoàng | F21: 5220050901 | G21: 08/07/1998 | H21: Nam | I21: 031 | N21: 12 | O21: 01/01/2019-31/12/2019 | P21: Thành phố Qui Nhơn , Phường Nguyễn Văn Cừ , Thành phố Quy Nhơn , Tỉnh Bình Định | R21: 215447475 | S21: 16002422,16CĐ-CĐ1 | T21: 52 | V21: 540 | X21: 21592
A22: 11 | B22: 10 | C22: 5421055359 | D22: Lê Hữu Nghĩa | E22: =VLOOKUP(C22,'ĐỢT 2 (3881))'!$B$14:$C$3894,2,0) -> Lê Hữu Nghĩa | F22: 5421055359 | G22: 20/01/1995 | H22: Nam | I22: 017 | N22: 12 | O22: 01/01/2019-31/12/2019 | P22: Thôn Bàn Thạch , Xã Hòa Xuân Đông , Huyện Đông Hòa , Tỉnh Phú Yên | R22: 221398947 | S22: 16002442,16CĐ-CĐ1 | T22: 54 | V22: 564 | X22: 22291
A23: 12 | B23: 11 | C23: 7938153525 | D23: Nguyễn Hùng Lân | E23: =VLOOKUP(C23,'ĐỢT 2 (3881))'!$B$14:$C$3894,2,0) -> Nguyễn Hùng Lân | F23: 7938153525 | G23: 12/02/1998 | H23: Nam | I23: 033 | N23: 12 | O23: 01/01/2019-31/12/2019 | P23: 2562 Phạm Thế Hiển , Phường 07 , Quận 8 , Thành phố Hồ Chí Minh | R23: 251115413 | S23: 16002502,16CĐ-CĐ1 | T23: 79 | V23: 776 | X23: 27433
A24: 13 | B24: 12 | C24: 3321498463 | D24: Phạm Ngọc Hiệp | E24: =VLOOKUP(C24,'ĐỢT 2 (3881))'!$B$14:$C$3894,2,0) -> Phạm Ngọc Hiệp | F24: 3321498463 | G24: 18/12/1996 | H24: Nam | I24: 034 | N24: 12 | O24: 01/01/2019-31/12/2019 | P24: Chính Nghĩa , Xã Chính Nghĩa , Huyện Kim Động , Tỉnh Hưng Yên | R24: 145761782 | S24: 16002534,16CĐ-CĐ1 | T24: 33 | V24: 331 | X24: 12304
A25: 14 | B25: 13 | C25: 6624223479 | D25: Võ Hoàng Phát | E25: =VLOOKUP(C25,'ĐỢT 2 (3881))'!$B$14:$C$3894,2,0) -> Võ Hoàng Phát | F25: 6624223479 | G25: 21/02/1998 | H25: Nam | I25: 033 | N25: 12 | O25: 01/01/2019-31/12/2019 | P25: Khối 3 TT Eakar Nốp , Thị trấn Ea Kar , Huyện Ea Kar , Tỉnh Đắk Lắk | R25: 241716665 | S25: 16003355,16CĐ-CĐ1 | T25: 66 | V25: 651 | X25: 24373
A26: 15 | B26: 14 | C26: 8222683277 | D26: Nguyễn Hoàng Khải Hưng | E26: =VLOOKUP(C26,'ĐỢT 2 (3881))'!$B$14:$C$3894,2,0) -> Nguyễn Hoàng Khải Hưng | F26: 8222683277 | G26: 27/07/1998 | H26: Nam | I26: 054 | N26: 12 | O26: 01/01/2019-31/12/2019 | P26: 396 Tân An , Xã Tân Phong , Huyện Cai Lậy , Tỉnh Tiền Giang | R26: 312370292 | S26: 16003476,16CĐ-CĐ1 | T26: 82 | V26: 820 | X26: 28510
A27: 16 | B27: 15 | C27: 5820579468 | D27: Nguyễn Văn Xã | E27: =VLOOKUP(C27,'ĐỢT 2 (3881))'!$B$14:$C$3894,2,0) -> Nguyễn Văn Xã | F27: 5820579468 | G27: 06/04/1998 | H27: Nam | I27: 033 | N27: 12 | O27: 01/01/2019-31/12/2019 | P27: Lạc nghiệp 1 , Xã Cà Ná , Huyện Thuận Nam , Tỉnh Ninh Thuận | R27: 264512913 | S27: 16003877,16CĐ-CĐ1 | T27: 58 | V27: 589 | X27: 22910
... A33: 22 | B33: 21 | C33: 7934899107 | D33: Phan Hoài Phương | E33: =VLOOKUP(C33,'ĐỢT 2 (3881))'!$B$14:$C$3894,2,0) -> Phan Hoài Phương | F33: 7934899107 | G33: 13/11/1998 | H33: Nam | I33: 033 | N33: 12 | O33: 01/01/2019-31/12/2019 | P33: 780/5A Ấp Phú Mỹ , Xã Phú Hòa Đông , Huyện Củ Chi , Thành phố Hồ Chí Minh | R33: 025759046 | S33: 16002579,16CĐ-CĐT1 | T33: 79 | V33: 783 | X33: 27517
A34: 23 | B34: 22 | C34: 5620940968 | D34: Đinh Huy Hoàng | E34: =VLOOKUP(C34,'ĐỢT 2 (3881))'!$B$14:$C$3894,2,0) -> Đinh Huy Hoàng | F34: 5620940968 | G34: 18/10/1998 | H34: Nam | I34: 033 | N34: 12 | O34: 01/01/2019-31/12/2019 | P34: Ninh Sim , Xã Ninh Sim , Thị xã Ninh Hòa , Tỉnh Khánh Hòa | S34: 16002583,16CĐ-CĐT1 | T34: 56 | V34: 572 | X34: 22552
A35: 24 | B35: 23 | C35: 8022903862 | D35: Đỗ Ngọc Tùng | E35: =VLOOKUP(C35,'ĐỢT 2 (3881))'!$B$14:$C$3894,2,0) -> Đỗ Ngọc Tùng | F35: 8022903862 | G35: 09/02/1998 | H35: Nam | I35: 025 | N35: 12 | O35: 01/01/2019-31/12/2019 | P35: tổ 12, ấp Tây , Xã Đông Thạnh , Huyện Cần Giuộc , Tỉnh Long An | R35: 301662577 | S35: 16003823,16CĐ-CĐT1 | T35: 80 | V35: 807 | X35: 28204
A36: 25 | B36: 24 | C36: 7938153529 | D36: Tô Thành Luận | E36: =VLOOKUP(C36,'ĐỢT 2 (3881))'!$B$14:$C$3894,2,0) -> Tô Thành Luận | F36: 7938153529 | G36: 19/05/1998 | H36: Nam | I36: 483 | N36: 12 | O36: 01/01/2019-31/12/2019 | P36: B123/bis Nguyễn Văn Quá , Phường Đông Hưng Thuận , Quận 12 , Thành phố Hồ Chí Minh | R36: 025736724 | S36: 16000869,16CĐ-CNC1 | T36: 79 | V36: 761 | X36: 26788
A37: 26 | B37: 25 | C37: 7932472119 | D37: Diệp Chí Vĩ | E37: =VLOOKUP(C37,'ĐỢT 2 (3881))'!$B$14:$C$3894,2,0) -> Diệp Chí Vĩ | F37: 7932472119 | G37: 13/09/1996 | H37: Nam | I37: 033 | N37: 12 | O37: 01/01/2019-31/12/2019 | P37: 412/5 Nguyễn Chí Thanh , Phường 06 , Quận 10 , Thành phố Hồ Chí Minh | R37: 025333072 | S37: 16000995,16CĐ-CNC1 | T37: 79 | V37: 771 | X37: 27202
A38: 27 | B38: 26 | C38: 7938153528 | D38: Nguyễn Quý Thanh Hoài | E38: =VLOOKUP(C38,'ĐỢT 2 (3881))'!$B$14:$C$3894,2,0) -> Nguyễn Quý Thanh Hoài | F38: 7938153528 | G38: 17/01/1998 | H38: Nam | I38: 033 | N38: 12 | O38: 01/01/2019-31/12/2019 | P38: 58/2 Lương Thế Vinh , Phường Tân Thới Hòa , Quận Tân Phú , Thành phố Hồ Chí Minh | R38: 025702735 | S38: 16001000,16CĐ-CNC1 | T38: 79 | V38: 767 | X38: 27040
A39: 28 | B39: 27 | C39: 7020999892 | D39: Lương Tấn Lộc | E39: =VLOOKUP(C39,'ĐỢT 2 (3881))'!$B$14:$C$3894,2,0) -> Lương Tấn Lộc | F39: 7020999892 | G39: 17/02/1998 | H39: Nam | I39: 033 | N39: 12 | O39: 01/01/2019-31/12/2019 | P39: Ấp 7 , Xã Tiến Hưng , Thành Phố Đồng Xoài , Tỉnh Bình Phước | R39: 285740256 | S39: 16001386,16CĐ-CNC1 | T39: 70 | V39: 689 | X39: 25213
A40: 29 | B40: 28 | C40: 7931422040 | D40: Phạm Đan Hào | E40: =VLOOKUP(C40,'ĐỢT 2 (3881))'!$B$14:$C$3894,2,0) -> Phạm Đan Hào | F40: 7931422040 | G40: 21/04/1995 | H40: Nam | I40: 033 | N40: 12 | O40: 01/01/2019-31/12/2019 | P40: 159 Lê Thiệt , Phường Phú Thọ Hòa , Quận Tân Phú , Thành phố Hồ Chí Minh | R40: 025649436 | S40: 16002144,16CĐ-CNC1 | T40: 79 | V40: 767 | X40: 27025
A41: 30 | B41: 29 | C41: 7938079462 | D41: Nguyễn Quốc Bảo | E41: =VLOOKUP(C41,'ĐỢT 2 (3881))'!$B$14:$C$3894,2,0) -> Nguyễn Quốc Bảo | F41: 7938079462 | G41: 28/10/1996 | H41: Nam | I41: 033 | N41: 12 | O41: 01/01/2019-31/12/2019 | P41: Ấp 4 , Xã Tân Thạnh Đông , Huyện Củ Chi , Thành phố Hồ Chí Minh | R41: 025407578 | S41: 16002509,16CĐ-CNC1 | T41: 79 | V41: 783 | X41: 27547
A42: 31 | B42: 30 | C42: 8023476431 | D42: Dương Thanh Hậu | E42: =VLOOKUP(C42,'ĐỢT 2 (3881))'!$B$14:$C$3894,2,0) -> Dương Thanh Hậu | F42: 8023476431 | G42: 24/01/1998 | H42: Nam | I42: 033 | N42: 12 | O42: 01/01/2019-31/12/2019 | P42: 4/4/5 Châu Sở, KP4 , Thị trấn Bến Lức , Huyện Bến Lức , Tỉnh Long An | R42: 301660102 | S42: 16002749,16CĐ-CNC1 | T42: 80 | V42: 803 | X42: 27991
A43: 32 | B43: 31 | C43: 8022518519 | D43: Bùi Đức Tấn Phát | E43: =VLOOKUP(C43,'ĐỢT 2 (3881))'!$B$14:$C$3894,2,0) -> Bùi Đức Tấn Phát | F43: 8022518519 | G43: 23/09/1998 | H43: Nam | I43: 025 | N43: 12 | O43: 01/01/2019-31/12/2019 | P43: 150/4 Ấp An Hòa II , Xã Bình An , Huyện Thủ Thừa , Tỉnh Long An | R43: 301632410 | S43: 16002778,16CĐ-CNC1 | T43: 80 | V43: 804 | X43: 28054
A44: 33 | B44: 32 | C44: 2422056006 | D44: Nguyễn Tiến Anh | E44: =VLOOKUP(C44,'ĐỢT 2 (3881))'!$B$14:$C$3894,2,0) -> Nguyễn Tiến Anh | F44: 2422056006 | G44: 04/02/1998 | H44: Nam | I44: 033 | N44: 12 | O44: 01/01/2019-31/12/2019 | P44: Lục Nam , Thị trấn Lục Nam , Huyện Lục Nam , Tỉnh Bắc Giang | R44: 122260786 | S44: 16002784,16CĐ-CNC1 | T44: 24 | V44: 218 | X44: 07447
A45: 34 | B45: 33 | C45: 5221892022 | D45: Cao Hoài Tấn | E45: =VLOOKUP(C45,'ĐỢT 2 (3881))'!$B$14:$C$3894,2,0) -> Cao Hoài Tấn | F45: 5221892022 | G45: 04/10/1998 | H45: Nam | I45: 033 | N45: 12 | O45: 01/01/2019-31/12/2019 | P45: Thôn Kim Giao Bắc , Xã Hoài Hải , Huyện Hoài Nhơn , Tỉnh Bình Định | R45: 215462355 | S45: 16002790,16CĐ-CNC1 | T45: 52 | V45: 543 | X45: 21676
A46: 35 | B46: 34 | C46: 8022491223 | D46: Phạm Thanh Hải | E46: =VLOOKUP(C46,'ĐỢT 2 (3881))'!$B$14:$C$3894,2,0) -> Phạm Thanh Hải | F46: 8022491223 | G46: 30/10/1998 | H46: Nam | I46: 033 | N46: 12 | O46: 01/01/2019-31/12/2019 | P46: 1/12 Ấp 3 , Thị trấn Thủ Thừa , Huyện Thủ Thừa , Tỉnh Long An | R46: 301632411 | S46: 16002856,16CĐ-CNC1 | T46: 80 | V46: 804 | X46: 28036
... A57: 46 | B57: 45 | C57: 5820762938 | D57: Nguyễn Văn Phi | E57: =VLOOKUP(C57,'ĐỢT 2 (3881))'!$B$14:$C$3894,2,0) -> Nguyễn Văn Phi | F57: 5820762938 | G57: 10/10/1998 | H57: Nam | I57: 033 | N57: 12 | O57: 01/01/2019-31/12/2019 | P57: Lạc Sơn 3 , Xã Cà Ná , Huyện Thuận Nam , Tỉnh Ninh Thuận | R57: 264512907 | S57: 16000844,16CĐ-CTM1 | T57: 58 | V57: 589 | X57: 22910
A58: 47 | B58: 46 | C58: 7938153532 | D58: Phan Công Ty | E58: =VLOOKUP(C58,'ĐỢT 2 (3881))'!$B$14:$C$3894,2,0) -> Phan Công Ty | F58: 7938153532 | G58: 20/07/1998 | H58: Nam | I58: 033 | N58: 12 | O58: 01/01/2019-31/12/2019 | P58: ấp 6 , Xã Vĩnh Lộc A , Huyện Bình Chánh , Thành phố Hồ Chí Minh | S58: 16000854,16CĐ-CTM1 | T58: 79 | V58: 785 | X58: 27601
...

Sheet LYTUTRONG KHOA 2018(3886)
A1: Tên đơn vị: TRƯỜNG CAO ĐẲNG LÝ TỰ TRỌNG THÀNH PHỐ HỒ CHÍ MINH
A2: Mã đơn vị: BD0240Z
A3: Địa chỉ: 390 Hoàng Văn Thụ,Phường 4,Quận Tân Bình, Thành Phố Hồ Chí Minh
A4: DANH SÁCH NGƯỜI CHỈ THAM GIA BẢO HIỂM Y TẾ
A5: Số : 3 tháng 12 năm 2018
C7: Đối tượng tham gia | H7: Lương cơ sở: ……………… đồng
A10: STT | B10: Mã số BHXH | C10: Họ và tên(FILE GỬI NGỌC TUYẾT) | E10: Mã số BHXH | F10: Ngày tháng năm sinh | G10: Giới tính | H10: Nơi đăng ký KCB ban đầu | I10: Biên lai, ngày tham gia | K10: Tiền lương, trợ cấp hoặc số tiền đóng | L10: Tỷ lệ NS hỗ trợ (%) | M10: Thời hạn sử dụng thẻ | O10: Ghi chú
I11: Số | J11: Ngày | M11: Số tháng | N11: Từ ngày | O11: Địa chỉ | Q11: Số CMND | R11: Mã PB | S11: mã tỉnh KS | U11: mã huyện KS | W11: mã xã KS
A12: A | B12: 1 | C12: B | E12: 1 | F12: 2 | G12: 3 | H12: 4 | I12: 5 | J12: 6 | K12: 7 | L12: 8 | M12: 9 | N12: 10 | O12: 11 | Q12: 12 | R12: 13 | S12: 14 | U12: 15 | W12: 16
A13: 1 | B13: 3422094591 | C13: Nguyễn Văn Hóa | D13: =VLOOKUP(B13,'ĐỢT 2 (3881))'!$B$14:$C$3894,2,0) -> Nguyễn Văn Hóa | E13: 3422094591 | F13: 05/09/1999 | G13: Nam | H13: 029 | M13: 12 | N13: 01/01/2019-31/12/2019 | O13: Thôn An Phú , Xã Quỳnh Hải , Huyện Quỳnh Phụ , Tỉnh Thái Bình | Q13: 152249065 | R13: 18005772,15TC-Đ | S13: 34 | U13: 338 | W13: 12520
A14: 2 | B14: 7934015748 | C14: Tăng Thành Đạt | D14: =VLOOKUP(B14,'ĐỢT 2 (3881))'!$B$14:$C$3894,2,0) -> Tăng Thành Đạt | E14: 7934015748 | F14: 25/01/2000 | G14: Nam | H14: 033 | M14: 12 | N14: 01/01/2019-31/12/2019 | O14: 457/8 KP2, Đường Bình Thành , Phường Bình Hưng Hòa B , Quận Bình Tân , Thành phố Hồ Chí Minh | Q14: 026066261 | R14: 18005748,15TCN-Đ | S14: 79 | U14: 777 | W14: 27442
A15: 3 | B15: 7422932339 | C15: Nguyễn Thị Tuyết Nhi | D15: =VLOOKUP(B15,'ĐỢT 2 (3881))'!$B$14:$C$3894,2,0) -> Nguyễn Thị Tuyết Nhi | E15: 7422932339 | F15: 07/11/2000 | G15: Nữ | H15: 025 | M15: 12 | N15: 01/01/2019-31/12/2019 | O15: Ấp 2A Phước Hòa , Xã Phước Hòa , Huyện Phú Giáo , Tỉnh Bình Dương | R15: 18005753,15TCN-MTT | S15: 74 | U15: 722 | W15: 25885
A16: 4 | B16: 7722610544 | C16: Nguyễn Minh Thái | D16: =VLOOKUP(B16,'ĐỢT 2 (3881))'!$B$14:$C$3894,2,0) -> Nguyễn Minh Thái | E16: 7722610544 | F16: 18/01/1996 | G16: Nam | H16: 031 | M16: 12 | N16: 01/01/2019-31/12/2019 | O16: 324/216 Bình Giã , Phường 8 , Thành phố Vũng Tàu , Tỉnh Bà Rịa - Vũng Tàu | Q16: 273554552 | R16: 18005762,15TCN-Ô1 | S16: 77 | U16: 747 | W16: 26527
A17: 5 | B17: 7938155999 | C17: Đặng Nguyễn Minh Thái | D17: =VLOOKUP(B17,'ĐỢT 2 (3881))'!$B$14:$C$3894,2,0) -> #N/A | E17: 7938155999 | F17: 29/12/2000 | G17: Nam | H17: 058 | M17: 12 | N17: 01/01/2019-31/12/2019 | O17: 68/22 Đường Tên Lửa , Phường An Lạc , Quận Bình Tân , Thành phố Hồ Chí Minh | R17: 17002409,15TCN-QTM1 | S17: 79 | U17: 777 | W17: 27460
A18: 6 | B18: 5121599909 | C18: Trần Mai Anh Khoa | D18: =VLOOKUP(B18,'ĐỢT 2 (3881))'!$B$14:$C$3894,2,0) -> Trần Mai Anh Khoa | E18: 5121599909 | F18: 22/08/1998 | G18: Nam | H18: 033 | M18: 12 | N18: 01/01/2019-31/12/2019 | O18: Đội 10-Thôn Phú Châu , Xã Hành Đức , Huyện Nghĩa Hành , Tỉnh Quảng Ngãi | Q18: 212460278 | R18: 16001948,16CĐ-CĐ1 | S18: 51 | U18: 532 | W18: 21379
A19: 7 | B19: 7526634650 | C19: Nguyễn Hoàng Phúc | D19: =VLOOKUP(B19,'ĐỢT 2 (3881))'!$B$14:$C$3894,2,0) -> Nguyễn Hoàng Phúc | E19: 7526634650 | F19: 08/08/1998 | G19: Nam | H19: 033 | M19: 12 | N19: 01/01/2019-31/12/2019 | O19: Tâm Bình , Xã Bình Minh , Huyện Trảng Bom , Tỉnh Đồng Nai | Q19: 272636857 | R19: 16002329,16CĐ-CĐ1 | S19: 75 | U19: 737 | W19: 26278
A20: 8 | B20: 7934884731 | C20: Cao Minh Trí | D20: =VLOOKUP(B20,'ĐỢT 2 (3881))'!$B$14:$C$3894,2,0) -> Cao Minh Trí | E20: 7934884731 | F20: 30/07/1998 | G20: Nam | H20: 040 | M20: 12 | N20: 01/01/2019-31/12/2019 | O20: 656 Quốc lộ 22 Ấp Phước Hưng , Xã Phước Thạnh , Huyện Củ Chi , Thành phố Hồ Chí Minh | Q20: 025802773 | R20: 16002358,16CĐ-CĐ1 | S20: 79 | U20: 783 | W20: 27526
A21: 9 | B21: 7935545512 | C21: Lê Trọng Nhân | D21: =VLOOKUP(B21,'ĐỢT 2 (3881))'!$B$14:$C$3894,2,0) -> Lê Trọng Nhân | E21: 7935545512 | F21: 06/01/1998 | G21: Nam | H21: 033 | M21: 12 | N21: 01/01/2019-31/12/2019 | O21: 56/3 Ấp Tiền Lân 1 , Xã Bà Điểm , Huyện Hóc Môn , Thành phố Hồ Chí Minh | Q21: 025766955 | R21: 16002376,16CĐ-CĐ1 | S21: 79 | U21: 784 | W21: 27592
A22: 10 | B22: 5220050901 | C22: Trương Văn Hoàng | D22: =VLOOKUP(B22,'ĐỢT 2 (3881))'!$B$14:$C$3894,2,0) -> Trương Văn Hoàng | E22: 5220050901 | F22: 08/07/1998 | G22: Nam | H22: 031 | M22: 12 | N22: 01/01/2019-31/12/2019 | O22: Thành phố Qui Nhơn , Phường Nguyễn Văn Cừ , Thành phố Quy Nhơn , Tỉnh Bình Định | Q22: 215447475 | R22: 16002422,16CĐ-CĐ1 | S22: 52 | U22: 540 | W22: 21592
A23: 11 | B23: 5421055359 | C23: Lê Hữu Nghĩa | D23: =VLOOKUP(B23,'ĐỢT 2 (3881))'!$B$14:$C$3894,2,0) -> Lê Hữu Nghĩa | E23: 5421055359 | F23: 20/01/1995 | G23: Nam | H23: 017 | M23: 12 | N23: 01/01/2019-31/12/2019 | O23: Thôn Bàn Thạch , Xã Hòa Xuân Đông , Huyện Đông Hòa , Tỉnh Phú Yên | Q23: 221398947 | R23: 16002442,16CĐ-CĐ1 | S23: 54 | U23: 564 | W23: 22291
A24: 12 | B24: 7938153525 | C24: Nguyễn Hùng Lân | D24: =VLOOKUP(B24,'ĐỢT 2 (3881))'!$B$14:$C$3894,2,0) -> Nguyễn Hùng Lân | E24: 7938153525 | F24: 12/02/1998 | G24: Nam | H24: 033 | M24: 12 | N24: 01/01/2019-31/12/2019 | O24: 2562 Phạm Thế Hiển , Phường 07 , Quận 8 , Thành phố Hồ Chí Minh | Q24: 251115413 | R24: 16002502,16CĐ-CĐ1 | S24: 79 | U24: 776 | W24: 27433
A25: 13 | B25: 3321498463 | C25: Phạm Ngọc Hiệp | D25: =VLOOKUP(B25,'ĐỢT 2 (3881))'!$B$14:$C$3894,2,0) -> Phạm Ngọc Hiệp | E25: 3321498463 | F25: 18/12/1996 | G25: Nam | H25: 034 | M25: 12 | N25: 01/01/2019-31/12/2019 | O25: Chính Nghĩa , Xã Chính Nghĩa , Huyện Kim Động , Tỉnh Hưng Yên | Q25: 145761782 | R25: 16002534,16CĐ-CĐ1 | S25: 33 | U25: 331 | W25: 12304
A26: 14 | B26: 6624223479 | C26: Võ Hoàng Phát | D26: =VLOOKUP(B26,'ĐỢT 2 (3881))'!$B$14:$C$3894,2,0) -> Võ Hoàng Phát | E26: 6624223479 | F26: 21/02/1998 | G26: Nam | H26: 033 | M26: 12 | N26: 01/01/2019-31/12/2019 | O26: Khối 3 TT Eakar Nốp , Thị trấn Ea Kar , Huyện Ea Kar , Tỉnh Đắk Lắk | Q26: 241716665 | R26: 16003355,16CĐ-CĐ1 | S26: 66 | U26: 651 | W26: 24373
A27: 15 | B27: 8222683277 | C27: Nguyễn Hoàng Khải Hưng | D27: =VLOOKUP(B27,'ĐỢT 2 (3881))'!$B$14:$C$3894,2,0) -> Nguyễn Hoàng Khải Hưng | E27: 8222683277 | F27: 27/07/1998 | G27: Nam | H27: 054 | M27: 12 | N27: 01/01/2019-31/12/2019 | O27: 396 Tân An , Xã Tân Phong , Huyện Cai Lậy , Tỉnh Tiền Giang | Q27: 312370292 | R27: 16003476,16CĐ-CĐ1 | S27: 82 | U27: 820 | W27: 28510
A28: 16 | B28: 5820579468 | C28: Nguyễn Văn Xã | D28: =VLOOKUP(B28,'ĐỢT 2 (3881))'!$B$14:$C$3894,2,0) -> Nguyễn Văn Xã | E28: 5820579468 | F28: 06/04/1998 | G28: Nam | H28: 033 | M28: 12 | N28: 01/01/2019-31/12/2019 | O28: Lạc nghiệp 1 , Xã Cà Ná , Huyện Thuận Nam , Tỉnh Ninh Thuận | Q28: 264512913 | R28: 16003877,16CĐ-CĐ1 | S28: 58 | U28: 589 | W28: 22910
A29: 17 | B29: 5120847688 | C29: Võ Tấn Bằng | D29: =VLOOKUP(B29,'ĐỢT 2 (3881))'!$B$14:$C$3894,2,0) -> Võ Tấn Bằng | E29: 5120847688 | F29: 14/09/1998 | G29: Nam | H29: 033 | M29: 12 | N29: 01/01/2019-31/12/2019 | O29: Xã Hành Đức , Xã Hành Đức , Huyện Nghĩa Hành , Tỉnh Quảng Ngãi | Q29: 212799844 | R29: 16000727,16CĐ-CĐT1 | S29: 51 | U29: 532 | W29: 21379
... A34: 22 | B34: 7934899107 | C34: Phan Hoài Phương | D34: =VLOOKUP(B34,'ĐỢT 2 (3881))'!$B$14:$C$3894,2,0) -> Phan Hoài Phương | E34: 7934899107 | F34: 13/11/1998 | G34: Nam | H34: 033 | M34: 12 | N34: 01/01/2019-31/12/2019 | O34: 780/5A Ấp Phú Mỹ , Xã Phú Hòa Đông , Huyện Củ Chi , Thành phố Hồ Chí Minh | Q34: 025759046 | R34: 16002579,16CĐ-CĐT1 | S34: 79 | U34: 783 | W34: 27517
A35: 23 | B35: 5620940968 | C35: Đinh Huy Hoàng | D35: =VLOOKUP(B35,'ĐỢT 2 (3881))'!$B$14:$C$3894,2,0) -> Đinh Huy Hoàng | E35: 5620940968 | F35: 18/10/1998 | G35: Nam | H35: 033 | M35: 12 | N35: 01/01/2019-31/12/2019 | O35: Ninh Sim , Xã Ninh Sim , Thị xã Ninh Hòa , Tỉnh Khánh Hòa | R35: 16002583,16CĐ-CĐT1 | S35: 56 | U35: 572 | W35: 22552
A36: 24 | B36: 8022903862 | C36: Đỗ Ngọc Tùng | D36: =VLOOKUP(B36,'ĐỢT 2 (3881))'!$B$14:$C$3894,2,0) -> Đỗ Ngọc Tùng | E36: 8022903862 | F36: 09/02/1998 | G36: Nam | H36: 025 | M36: 12 | N36: 01/01/2019-31/12/2019 | O36: tổ 12, ấp Tây , Xã Đông Thạnh , Huyện Cần Giuộc , Tỉnh Long An | Q36: 301662577 | R36: 16003823,16CĐ-CĐT1 | S36: 80 | U36: 807 | W36: 28204
A37: 25 | B37: 7938153529 | C37: Tô Thành Luận | D37: =VLOOKUP(B37,'ĐỢT 2 (3881))'!$B$14:$C$3894,2,0) -> Tô Thành Luận | E37: 7938153529 | F37: 19/05/1998 | G37: Nam | H37: 483 | M37: 12 | N37: 01/01/2019-31/12/2019 | O37: B123/bis Nguyễn Văn Quá , Phường Đông Hưng Thuận , Quận 12 , Thành phố Hồ Chí Minh | Q37: 025736724 | R37: 16000869,16CĐ-CNC1 | S37: 79 | U37: 761 | W37: 26788
A38: 26 | B38: 7932472119 | C38: Diệp Chí Vĩ | D38: =VLOOKUP(B38,'ĐỢT 2 (3881))'!$B$14:$C$3894,2,0) -> Diệp Chí Vĩ | E38: 7932472119 | F38: 13/09/1996 | G38: Nam | H38: 033 | M38: 12 | N38: 01/01/2019-31/12/2019 | O38: 412/5 Nguyễn Chí Thanh , Phường 06 , Quận 10 , Thành phố Hồ Chí Minh | Q38: 025333072 | R38: 16000995,16CĐ-CNC1 | S38: 79 | U38: 771 | W38: 27202
A39: 27 | B39: 7938153528 | C39: Nguyễn Quý Thanh Hoài | D39: =VLOOKUP(B39,'ĐỢT 2 (3881))'!$B$14:$C$3894,2,0) -> Nguyễn Quý Thanh Hoài | E39: 7938153528 | F39: 17/01/1998 | G39: Nam | H39: 033 | M39: 12 | N39: 01/01/2019-31/12/2019 | O39: 58/2 Lương Thế Vinh , Phường Tân Thới Hòa , Quận Tân Phú , Thành phố Hồ Chí Minh | Q39: 025702735 | R39: 16001000,16CĐ-CNC1 | S39: 79 | U39: 767 | W39: 27040
A40: 28 | B40: 7020999892 | C40: Lương Tấn Lộc | D40: =VLOOKUP(B40,'ĐỢT 2 (3881))'!$B$14:$C$3894,2,0) -> Lương Tấn Lộc | E40: 7020999892 | F40: 17/02/1998 | G40: Nam | H40: 033 | M40: 12 | N40: 01/01/2019-31/12/2019 | O40: Ấp 7 , Xã Tiến Hưng , Thành Phố Đồng Xoài , Tỉnh Bình Phước | Q40: 285740256 | R40: 16001386,16CĐ-CNC1 | S40: 70 | U40: 689 | W40: 25213
A41: 29 | B41: 7931422040 | C41: Phạm Đan Hào | D41: =VLOOKUP(B41,'ĐỢT 2 (3881))'!$B$14:$C$3894,2,0) -> Phạm Đan Hào | E41: 7931422040 | F41: 21/04/1995 | G41: Nam | H41: 033 | M41: 12 | N41: 01/01/2019-31/12/2019 | O41: 159 Lê Thiệt , Phường Phú Thọ Hòa , Quận Tân Phú , Thành phố Hồ Chí Minh | Q41: 025649436 | R41: 16002144,16CĐ-CNC1 | S41: 79 | U41: 767 | W41: 27025
A42: 30 | B42: 7938079462 | C42: Nguyễn Quốc Bảo | D42: =VLOOKUP(B42,'ĐỢT 2 (3881))'!$B$14:$C$3894,2,0) -> Nguyễn Quốc Bảo | E42: 7938079462 | F42: 28/10/1996 | G42: Nam | H42: 033 | M42: 12 | N42: 01/01/2019-31/12/2019 | O42: Ấp 4 , Xã Tân Thạnh Đông , Huyện Củ Chi , Thành phố Hồ Chí Minh | Q42: 025407578 | R42: 16002509,16CĐ-CNC1 | S42: 79 | U42: 783 | W42: 27547
A43: 31 | B43: 8023476431 | C43: Dương Thanh Hậu | D43: =VLOOKUP(B43,'ĐỢT 2 (3881))'!$B$14:$C$3894,2,0) -> Dương Thanh Hậu | E43: 8023476431 | F43: 24/01/1998 | G43: Nam | H43: 033 | M43: 12 | N43: 01/01/2019-31/12/2019 | O43: 4/4/5 Châu Sở, KP4 , Thị trấn Bến Lức , Huyện Bến Lức , Tỉnh Long An | Q43: 301660102 | R43: 16002749,16CĐ-CNC1 | S43: 80 | U43: 803 | W43: 27991
A44: 32 | B44: 8022518519 | C44: Bùi Đức Tấn Phát | D44: =VLOOKUP(B44,'ĐỢT 2 (3881))'!$B$14:$C$3894,2,0) -> Bùi Đức Tấn Phát | E44: 8022518519 | F44: 23/09/1998 | G44: Nam | H44: 025 | M44: 12 | N44: 01/01/2019-31/12/2019 | O44: 150/4 Ấp An Hòa II , Xã Bình An , Huyện Thủ Thừa , Tỉnh Long An | Q44: 301632410 | R44: 16002778,16CĐ-CNC1 | S44: 80 | U44: 804 | W44: 28054
A45: 33 | B45: 2422056006 | C45: Nguyễn Tiến Anh | D45: =VLOOKUP(B45,'ĐỢT 2 (3881))'!$B$14:$C$3894,2,0) -> Nguyễn Tiến Anh | E45: 2422056006 | F45: 04/02/1998 | G45: Nam | H45: 033 | M45: 12 | N45: 01/01/2019-31/12/2019 | O45: Lục Nam , Thị trấn Lục Nam , Huyện Lục Nam , Tỉnh Bắc Giang | Q45: 122260786 | R45: 16002784,16CĐ-CNC1 | S45: 24 | U45: 218 | W45: 07447
A46: 34 | B46: 5221892022 | C46: Cao Hoài Tấn | D46: =VLOOKUP(B46,'ĐỢT 2 (3881))'!$B$14:$C$3894,2,0) -> Cao Hoài Tấn | E46: 5221892022 | F46: 04/10/1998 | G46: Nam | H46: 033 | M46: 12 | N46: 01/01/2019-31/12/2019 | O46: Thôn Kim Giao Bắc , Xã Hoài Hải , Huyện Hoài Nhơn , Tỉnh Bình Định | Q46: 215462355 | R46: 16002790,16CĐ-CNC1 | S46: 52 | U46: 543 | W46: 21676
A47: 35 | B47: 8022491223 | C47: Phạm Thanh Hải | D47: =VLOOKUP(B47,'ĐỢT 2 (3881))'!$B$14:$C$3894,2,0) -> Phạm Thanh Hải | E47: 8022491223 | F47: 30/10/1998 | G47: Nam | H47: 033 | M47: 12 | N47: 01/01/2019-31/12/2019 | O47: 1/12 Ấp 3 , Thị trấn Thủ Thừa , Huyện Thủ Thừa , Tỉnh Long An | Q47: 301632411 | R47: 16002856,16CĐ-CNC1 | S47: 80 | U47: 804 | W47: 28036
...

Sheet ĐỢT 2 (3881))
A1: Tên đơn vị: TRƯỜNG CAO ĐẲNG LÝ TỰ TRỌNG THÀNH PHỐ HỒ CHÍ MINH
A2: Mã đơn vị: BD0240
A3: Địa chỉ: 390 Hoàng Văn Thụ,Phường 4,Quận Tân Bình, Thành Phố Hồ Chí Minh
A4: DANH SÁCH NGƯỜI CHỈ THAM GIA BẢO HIỂM Y TẾ
A5: Số: 22 tháng 10 năm 2018
C8: Đối tượng tham gia | I8: Lương cơ sở: ……………… đồng
A11: STT | B11: Mã số BHXH | C11: Họ và tên(GỬI NGỌC TUYẾT 20/12/2018) | F11: Mã số BHXH | G11: Ngày tháng năm sinh | H11: Giới tính | I11: Nơi đăng ký KCB ban đầu | J11: Biên lai, ngày tham gia | L11: Tiền lương, trợ cấp hoặc số tiền đóng | M11: Tỷ lệ NS hỗ trợ (%) | N11: Thời hạn sử dụng thẻ | P11: Ghi chú
J12: Số | K12: Ngày | N12: Số tháng | O12: Từ ngày | P12: ĐỊA CHỈ ĐÃ TÌM | Q12: Số CMND | R12: mã PB | T12: mã huyện KS | V12: mã xã KS
A13: A | B13: 1 | C13: B | F13: 1 | G13: 2 | H13: 3 | I13: 4 | J13: 5 | K13: 6 | M13: 8 | N13: 9 | O13: 10
A14: 1 | B14: 5121599909 | C14: Trần Mai Anh Khoa | D14: =VLOOKUP(B14,'LYTUTRONG KHOA 2018(3881)'!$C$13:$D$3892,2,0) -> Trần Mai Anh Khoa | E14: SV4795121599909 | F14: 5121599909 | G14: 22/08/1998 | H14: Nam | I14: 033 | P14: Đội 10 Thôn Phú Châu , Xã Hành Đức , Huyện Nghĩa Hành , Tỉnh Quảng Ngãi | Q14: 212460278 | R14: 16001948;16CĐ-CĐ1 | S14: 51 | T14: 532 | V14: 21379
A15: 2 | B15: 7526634650 | C15: Nguyễn Hoàng Phúc | D15: =VLOOKUP(B15,'LYTUTRONG KHOA 2018(3881)'!$C$13:$D$3892,2,0) -> Nguyễn Hoàng Phúc | E15: SV4797526634650 | F15: 7526634650 | G15: 08/08/1998 | H15: Nam | I15: 033 | P15: Tâm Bình , Xã Bình Minh , Huyện Trảng Bom , Tỉnh Đồng Nai | Q15: 272636857 | R15: 16002329;16CĐ-CĐ1 | S15: 75 | T15: 737 | V15: 26278
A16: 3 | B16: 7934884731 | C16: Cao Minh Trí | D16: =VLOOKUP(B16,'LYTUTRONG KHOA 2018(3881)'!$C$13:$D$3892,2,0) -> Cao Minh Trí | E16: SV4797934884731 | F16: 7934884731 | G16: 30/07/1998 | H16: Nam | I16: 040 | P16: 656 Quốc lộ 22 Ấp Phước Hưng , Xã Phước Thạnh , Huyện Củ Chi , Thành phố Hồ Chí Minh | Q16: 025802773 | R16: 16002358;16CĐ-CĐ1 | S16: 79 | T16: 783 | V16: 27526
A17: 4 | B17: 7935545512 | C17: Lê Trọng Nhân | D17: =VLOOKUP(B17,'LYTUTRONG KHOA 2018(3881)'!$C$13:$D$3892,2,0) -> Lê Trọng Nhân | E17: SV4797935545512 | F17: 7935545512 | G17: 06/01/1998 | H17: Nam | I17: 033 | P17: 56/3 Ấp Tiền Lân 1 , Xã Bà Điểm , Huyện Hóc Môn , Thành phố Hồ Chí Minh | Q17: 025766955 | R17: 16002376;16CĐ-CĐ1 | S17: 79 | T17: 784 | V17: 27592
A18: 5 | B18: 5220050901 | C18: Trương Văn Hoàng | D18: =VLOOKUP(B18,'LYTUTRONG KHOA 2018(3881)'!$C$13:$D$3892,2,0) -> Trương Văn Hoàng | E18: SV4795220050901 | F18: 5220050901 | G18: 08/07/1998 | H18: Nam | I18: 031 | P18: 66 Lý Thái Tổ , Phường Nguyễn Văn Cừ , Thành phố Quy Nhơn , Tỉnh Bình Định | Q18: 215447475 | R18: 16002422;16CĐ-CĐ1 | S18: 52 | T18: 540 | V18: 21592
A19: 6 | B19: 5421055359 | C19: Lê Hữu Nghĩa | D19: =VLOOKUP(B19,'LYTUTRONG KHOA 2018(3881)'!$C$13:$D$3892,2,0) -> Lê Hữu Nghĩa | E19: SV4795421055359 | F19: 5421055359 | G19: 20/01/1995 | H19: Nam | I19: 017 | P19: Thôn Bàn Thạch , Xã Hòa Xuân Đông , Huyện Đông Hòa , Tỉnh Phú Yên | Q19: 221398947 | R19: 16002442;16CĐ-CĐ1 | S19: 54 | T19: 564 | V19: 22291
A20: 7 | B20: 7938153525 | C20: Nguyễn Hùng Lân | D20: =VLOOKUP(B20,'LYTUTRONG KHOA 2018(3881)'!$C$13:$D$3892,2,0) -> Nguyễn Hùng Lân | E20: SV4797938153525 | F20: 7938153525 | G20: 12/02/1998 | H20: Nam | I20: 033 | P20: 2562 Phạm Thế Hiển , Phường 07 , Quận 8 , Thành phố Hồ Chí Minh | Q20: 251115413 | R20: 16002502;16CĐ-CĐ1 | S20: 79 | T20: 776 | V20: 27433
A21: 8 | B21: 3321498463 | C21: Phạm Ngọc Hiệp | D21: =VLOOKUP(B21,'LYTUTRONG KHOA 2018(3881)'!$C$13:$D$3892,2,0) -> Phạm Ngọc Hiệp | E21: SV4793321498463 | F21: 3321498463 | G21: 18/12/1996 | H21: Nam | I21: 034 | P21: Chính Nghĩa , Xã Chính Nghĩa , Huyện Kim Động , Tỉnh Hưng Yên | Q21: 145761782 | R21: 16002534;16CĐ-CĐ1 | S21: 33 | T21: 331 | V21: 12304
A22: 9 | B22: 6624223479 | C22: Võ Hoàng Phát | D22: =VLOOKUP(B22,'LYTUTRONG KHOA 2018(3881)'!$C$13:$D$3892,2,0) -> Võ Hoàng Phát | E22: SV4796624223479 | F22: 6624223479 | G22: 21/02/1998 | H22: Nam | I22: 033 | P22: Khối 3 TT Eakar Nốp , Thị trấn Ea Kar , Huyện Ea Kar , Tỉnh Đắk Lắk | Q22: 241716665 | R22: 16003355;16CĐ-CĐ1 | S22: 66 | T22: 651 | V22: 24373
A23: 10 | B23: 8222683277 | C23: Nguyễn Hoàng Khải Hưng | D23: =VLOOKUP(B23,'LYTUTRONG KHOA 2018(3881)'!$C$13:$D$3892,2,0) -> Nguyễn Hoàng Khải Hưng | E23: SV4798222683277 | F23: 8222683277 | G23: 27/07/1998 | H23: Nam | I23: 054 | P23: 396 Tân An , Xã Tân Phong , Huyện Cai Lậy , Tỉnh Tiền Giang | Q23: 312370292 | R23: 16003476;16CĐ-CĐ1 | S23: 82 | T23: 820 | V23: 28510
A24: 11 | B24: 5820579468 | C24: Nguyễn Văn Xã | D24: =VLOOKUP(B24,'LYTUTRONG KHOA 2018(3881)'!$C$13:$D$3892,2,0) -> Nguyễn Văn Xã | E24: SV4795820579468 | F24: 5820579468 | G24: 06/04/1998 | H24: Nam | I24: 033 | P24: Lạc nghiệp 1 , Xã Cà Ná , Huyện Thuận Nam , Tỉnh Ninh Thuận | Q24: 264512913 | R24: 16003877;16CĐ-CĐ1 | S24: 58 | T24: 589 | V24: 22910
A25: 12 | B25: 5120847688 | C25: Võ Tấn Bằng | D25: =VLOOKUP(B25,'LYTUTRONG KHOA 2018(3881)'!$C$13:$D$3892,2,0) -> Võ Tấn Bằng | E25: SV4795120847688 | F25: 5120847688 | G25: 14/09/1998 | H25: Nam | I25: 033 | P25: Xã Hành Đức , Xã Hành Đức , Huyện Nghĩa Hành , Tỉnh Quảng Ngãi | Q25: 212799844 | R25: 16000727;16CĐ-CĐT1 | S25: 51 | T25: 532 | V25: 21379
... A30: 17 | B30: 7934899107 | C30: Phan Hoài Phương | D30: =VLOOKUP(B30,'LYTUTRONG KHOA 2018(3881)'!$C$13:$D$3892,2,0) -> Phan Hoài Phương | E30: SV4797934899107 | F30: 7934899107 | G30: 13/11/1998 | H30: Nam | I30: 033 | P30: 780/5A Ấp Phú Mỹ , Xã Phú Hòa Đông , Huyện Củ Chi , Thành phố Hồ Chí Minh | Q30: 025759046 | R30: 16002579;16CĐ-CĐT1 | S30: 79 | T30: 783 | V30: 27517
A31: 18 | B31: 5620940968 | C31: Đinh Huy Hoàng | D31: =VLOOKUP(B31,'LYTUTRONG KHOA 2018(3881)'!$C$13:$D$3892,2,0) -> Đinh Huy Hoàng | E31: SV4795620940968 | F31: 5620940968 | G31: 18/10/1998 | H31: Nam | I31: 033 | P31: Ninh Sim , Xã Ninh Sim , Thị xã Ninh Hòa , Tỉnh Khánh Hòa | R31: 16002583;16CĐ-CĐT1 | S31: 56 | T31: 572 | V31: 22552
A32: 19 | B32: 8022903862 | C32: Đỗ Ngọc Tùng | D32: =VLOOKUP(B32,'LYTUTRONG KHOA 2018(3881)'!$C$13:$D$3892,2,0) -> Đỗ Ngọc Tùng | E32: SV4798022903862 | F32: 8022903862 | G32: 09/02/1998 | H32: Nam | I32: 025 | P32: tổ 12 ấp Tây , Xã Đông Thạnh , Huyện Cần Giuộc , Tỉnh Long An | Q32: 301662577 | R32: 16003823;16CĐ-CĐT1 | S32: 80 | T32: 807 | V32: 28204
A33: 20 | B33: 7938153529 | C33: Tô Thành Luận | D33: =VLOOKUP(B33,'LYTUTRONG KHOA 2018(3881)'!$C$13:$D$3892,2,0) -> Tô Thành Luận | E33: SV4797938153529 | F33: 7938153529 | G33: 19/05/1998 | H33: Nam | I33: 483 | P33: B123/bis Nguyễn Văn Quá , Phường Đông Hưng Thuận , Quận 12 , Thành phố Hồ Chí Minh | Q33: 025736724 | R33: 16000869;16CĐ-CNC1 | S33: 79 | T33: 761 | V33: 26788
A34: 21 | B34: 7932472119 | C34: Diệp Chí Vĩ | D34: =VLOOKUP(B34,'LYTUTRONG KHOA 2018(3881)'!$C$13:$D$3892,2,0) -> Diệp Chí Vĩ | E34: SV4797932472119 | F34: 7932472119 | G34: 13/09/1996 | H34: Nam | I34: 033 | P34: 412/5 Nguyễn Chí Thanh , Phường 06 , Quận 10 , Thành phố Hồ Chí Minh | Q34: 025333072 | R34: 16000995;16CĐ-CNC1 | S34: 79 | T34: 771 | V34: 27202
A35: 22 | B35: 7938153528 | C35: Nguyễn Quý Thanh Hoài | D35: =VLOOKUP(B35,'LYTUTRONG KHOA 2018(3881)'!$C$13:$D$3892,2,0) -> Nguyễn Quý Thanh Hoài | E35: SV4797938153528 | F35: 7938153528 | G35: 17/01/1998 | H35: Nam | I35: 033 | P35: 58/2 Lương Thế Vinh , Phường Tân Thới Hòa , Quận Tân Phú , Thành phố Hồ Chí Minh | Q35: 025702735 | R35: 16001000;16CĐ-CNC1 | S35: 79 | T35: 767 | V35: 27040
A36: 23 | B36: 7020999892 | C36: Lương Tấn Lộc | D36: =VLOOKUP(B36,'LYTUTRONG KHOA 2018(3881)'!$C$13:$D$3892,2,0) -> Lương Tấn Lộc | E36: SV4797020999892 | F36: 7020999892 | G36: 17/02/1998 | H36: Nam | I36: 033 | P36: Ấp 7 , Xã Tiến Hưng , Thành Phố Đồng Xoài , Tỉnh Bình Phước | Q36: 285740256 | R36: 16001386;16CĐ-CNC1 | S36: 70 | T36: 689 | V36: 25213
A37: 24 | B37: 7931422040 | C37: Phạm Đan Hào | D37: =VLOOKUP(B37,'LYTUTRONG KHOA 2018(3881)'!$C$13:$D$3892,2,0) -> Phạm Đan Hào | E37: SV4797931422040 | F37: 7931422040 | G37: 21/04/1995 | H37: Nam | I37: 033 | P37: 159 Lê Thiệt , Phường Phú Thọ Hòa , Quận Tân Phú , Thành phố Hồ Chí Minh | Q37: 025649436 | R37: 16002144;16CĐ-CNC1 | S37: 79 | T37: 767 | V37: 27025
A38: 25 | B38: 7938079462 | C38: Nguyễn Quốc Bảo | D38: =VLOOKUP(B38,'LYTUTRONG KHOA 2018(3881)'!$C$13:$D$3892,2,0) -> Nguyễn Quốc Bảo | E38: SV4797938079462 | F38: 7938079462 | G38: 28/10/1996 | H38: Nam | I38: 033 | P38: Ấp 4 , Xã Tân Thạnh Đông , Huyện Củ Chi , Thành phố Hồ Chí Minh | Q38: 025407578 | R38: 16002509;16CĐ-CNC1 | S38: 79 | T38: 783 | V38: 27547
A39: 26 | B39: 8023476431 | C39: Dương Thanh Hậu | D39: =VLOOKUP(B39,'LYTUTRONG KHOA 2018(3881)'!$C$13:$D$3892,2,0) -> Dương Thanh Hậu | E39: SV4798023476431 | F39: 8023476431 | G39: 24/01/1998 | H39: Nam | I39: 033 | P39: 4/4/5 Châu Sở, KP4 , Thị trấn Bến Lức , Huyện Bến Lức , Tỉnh Long An | Q39: 301660102 | R39: 16002749;16CĐ-CNC1 | S39: 80 | T39: 803 | V39: 27991
A40: 27 | B40: 8022518519 | C40: Bùi Đức Tấn Phát | D40: =VLOOKUP(B40,'LYTUTRONG KHOA 2018(3881)'!$C$13:$D$3892,2,0) -> Bùi Đức Tấn Phát | E40: SV4798022518519 | F40: 8022518519 | G40: 23/09/1998 | H40: Nam | I40: 025 | P40: 150/4 Ấp An Hòa II , Xã Bình An , Huyện Thủ Thừa , Tỉnh Long An | Q40: 301632410 | R40: 16002778;16CĐ-CNC1 | S40: 80 | T40: 804 | V40: 28054
A41: 28 | B41: 2422056006 | C41: Nguyễn Tiến Anh | D41: =VLOOKUP(B41,'LYTUTRONG KHOA 2018(3881)'!$C$13:$D$3892,2,0) -> Nguyễn Tiến Anh | E41: SV4792422056006 | F41: 2422056006 | G41: 04/02/1998 | H41: Nam | I41: 033 | P41: Lục Nam , Thị trấn Lục Nam , Huyện Lục Nam , Tỉnh Bắc Giang | Q41: 122260786 | R41: 16002784;16CĐ-CNC1 | S41: 24 | T41: 218 | V41: 07447
A42: 29 | B42: 5221892022 | C42: Cao Hoài Tấn | D42: =VLOOKUP(B42,'LYTUTRONG KHOA 2018(3881)'!$C$13:$D$3892,2,0) -> Cao Hoài Tấn | E42: SV4795221892022 | F42: 5221892022 | G42: 04/10/1998 | H42: Nam | I42: 033 | P42: Thôn Kim Giao Bắc , Xã Hoài Hải , Huyện Hoài Nhơn , Tỉnh Bình Định | Q42: 215462355 | R42: 16002790;16CĐ-CNC1 | S42: 52 | T42: 543 | V42: 21676
A43: 30 | B43: 8022491223 | C43: Phạm Thanh Hải | D43: =VLOOKUP(B43,'LYTUTRONG KHOA 2018(3881)'!$C$13:$D$3892,2,0) -> Phạm Thanh Hải | E43: SV4798022491223 | F43: 8022491223 | G43: 30/10/1998 | H43: Nam | I43: 033 | P43: 1/12 Ấp 3 , Thị trấn Thủ Thừa , Huyện Thủ Thừa , Tỉnh Long An | Q43: 301632411 | R43: 16002856;16CĐ-CNC1 | S43: 80 | T43: 804 | V43: 28036
... A54: 41 | B54: 5820762938 | C54: Nguyễn Văn Phi | D54: =VLOOKUP(B54,'LYTUTRONG KHOA 2018(3881)'!$C$13:$D$3892,2,0) -> Nguyễn Văn Phi | E54: SV4795820762938 | F54: 5820762938 | G54: 10/10/1998 | H54: Nam | I54: 033 | P54: Lạc Sơn 3 , Xã Cà Ná , Huyện Thuận Nam , Tỉnh Ninh Thuận | Q54: 264512907 | R54: 16000844;16CĐ-CTM1 | S54: 58 | T54: 589 | V54: 22910
A55: 42 | B55: 7938153532 | C55: Phan Công Ty | D55: =VLOOKUP(B55,'LYTUTRONG KHOA 2018(3881)'!$C$13:$D$3892,2,0) -> Phan Công Ty | E55: SV4797938153532 | F55: 7938153532 | G55: 20/07/1998 | H55: Nam | I55: 033 | P55: ấp 6 , Xã Vĩnh Lộc A , Huyện Bình Chánh , Thành phố Hồ Chí Minh | R55: 16000854;16CĐ-CTM1 | S55: 79 | T55: 785 | V55: 27601
A56: 43 | B56: 6020002651 | C56: Nguyễn Hoàng Ngân Giang | D56: =VLOOKUP(B56,'LYTUTRONG KHOA 2018(3881)'!$C$13:$D$3892,2,0) -> Nguyễn Hoàng Ngân Giang | E56: SV4796020002651 | F56: 6020002651 | G56: 30/09/1998 | H56: Nam | I56: 033 | P56: KP4 , Phường Phú Thủy , Thành phố Phan Thiết , Tỉnh Bình Thuận | Q56: 261543602 | R56: 16000879;16CĐ-CTM1 | S56: 60 | T56: 593 | V56: 22924
A57: 44 | B57: 8023476433 | C57: Bùi Duy Khương | D57: =VLOOKUP(B57,'LYTUTRONG KHOA 2018(3881)'!$C$13:$D$3892,2,0) -> Bùi Duy Khương | E57: SV4798023476433 | F57: 8023476433 | G57: 10/07/1998 | H57: Nam | I57: 033 | P57: Tổ 8 , Xã Thủy Đông , Huyện Thạnh Hóa , Tỉnh Long An | Q57: 301643365 | R57: 16000914;16CĐ-CTM1 | S57: 80 | T57: 800 | V57: 27883
A58: 45 | B58: 7933403711 | C58: Nguyễn Huỳnh Sang | D58: =VLOOKUP(B58,'LYTUTRONG KHOA 2018(3881)'!$C$13:$D$3892,2,0) -> Nguyễn Huỳnh Sang | E58: SV4797933403711 | F58: 7933403711 | G58: 31/05/1998 | H58: Nam | I58: 033 | P58: 265/1A Phan Văn Khỏe , Phường 05 , Quận 6 , Thành phố Hồ Chí Minh | Q58: 025671454 | R58: 16000925;16CĐ-CTM1 | S58: 79 | T58: 775 | V58: 27361
...
